BEGIN:VCALENDAR
VERSION:2.0
PRODID:-//Barossa North Parish SA - ECPv6.15.12.2//NONSGML v1.0//EN
CALSCALE:GREGORIAN
METHOD:PUBLISH
X-WR-CALNAME:Barossa North Parish SA
X-ORIGINAL-URL:https://barossanorth-parish.lutheran.org.au
X-WR-CALDESC:Events for Barossa North Parish SA
REFRESH-INTERVAL;VALUE=DURATION:PT1H
X-Robots-Tag:noindex
X-PUBLISHED-TTL:PT1H
BEGIN:VTIMEZONE
TZID:Australia/Adelaide
BEGIN:STANDARD
TZOFFSETFROM:+1030
TZOFFSETTO:+0930
TZNAME:ACST
DTSTART:20250405T163000
END:STANDARD
BEGIN:DAYLIGHT
TZOFFSETFROM:+0930
TZOFFSETTO:+1030
TZNAME:ACDT
DTSTART:20251004T163000
END:DAYLIGHT
BEGIN:STANDARD
TZOFFSETFROM:+1030
TZOFFSETTO:+0930
TZNAME:ACST
DTSTART:20260404T163000
END:STANDARD
BEGIN:DAYLIGHT
TZOFFSETFROM:+0930
TZOFFSETTO:+1030
TZNAME:ACDT
DTSTART:20261003T163000
END:DAYLIGHT
BEGIN:STANDARD
TZOFFSETFROM:+1030
TZOFFSETTO:+0930
TZNAME:ACST
DTSTART:20270403T163000
END:STANDARD
BEGIN:DAYLIGHT
TZOFFSETFROM:+0930
TZOFFSETTO:+1030
TZNAME:ACDT
DTSTART:20271002T163000
END:DAYLIGHT
END:VTIMEZONE
BEGIN:VEVENT
DTSTART;TZID=Australia/Adelaide:20260503T090000
DTEND;TZID=Australia/Adelaide:20260503T160000
DTSTAMP:20260425T032002
CREATED:20260416T042147Z
LAST-MODIFIED:20260416T042147Z
UID:18146-1777798800-1777824000@barossanorth-parish.lutheran.org.au
SUMMARY:Conservation of Rechner's Cottage Celebrations
DESCRIPTION:At Strait Gate
URL:https://barossanorth-parish.lutheran.org.au/event/conservation-of-rechners-cottage-celebrations/
LOCATION:Strait Gate Lutheran Church\, Light Pass\, 412 Light Pass Road\, Light Pass\, SA\, 5355\, Australia
CATEGORIES:Community,Family,Fellowship
GEO:-34.4673621;139.0250785
X-APPLE-STRUCTURED-LOCATION;VALUE=URI;X-ADDRESS=Strait Gate Lutheran Church Light Pass 412 Light Pass Road Light Pass SA 5355 Australia;X-APPLE-RADIUS=500;X-TITLE=412 Light Pass Road:geo:139.0250785,-34.4673621
END:VEVENT
BEGIN:VEVENT
DTSTART;TZID=Australia/Adelaide:20260506T100000
DTEND;TZID=Australia/Adelaide:20260506T130000
DTSTAMP:20260425T032002
CREATED:20260416T042442Z
LAST-MODIFIED:20260416T042442Z
UID:18150-1778061600-1778072400@barossanorth-parish.lutheran.org.au
SUMMARY:Strait Gate Women's Fellowship
DESCRIPTION:Biggest Morning Tea in the Strait Gate Church Hall – please wear something pink (optional) – please bring your own tea sup/saucer/plate – cost is $10
URL:https://barossanorth-parish.lutheran.org.au/event/strait-gate-womens-fellowship-48/
LOCATION:Strait Gate Lutheran Church\, Light Pass\, 412 Light Pass Road\, Light Pass\, SA\, 5355\, Australia
CATEGORIES:Fellowship,Ladies
GEO:-34.4673621;139.0250785
X-APPLE-STRUCTURED-LOCATION;VALUE=URI;X-ADDRESS=Strait Gate Lutheran Church Light Pass 412 Light Pass Road Light Pass SA 5355 Australia;X-APPLE-RADIUS=500;X-TITLE=412 Light Pass Road:geo:139.0250785,-34.4673621
END:VEVENT
BEGIN:VEVENT
DTSTART;TZID=Australia/Adelaide:20260517T103000
DTEND;TZID=Australia/Adelaide:20260517T120000
DTSTAMP:20260425T032002
CREATED:20260226T043039Z
LAST-MODIFIED:20260226T043039Z
UID:17921-1779013800-1779019200@barossanorth-parish.lutheran.org.au
SUMMARY:Worship Service - Pastor Damien
DESCRIPTION:At Strait Gate with HC with Stockwell visiting
URL:https://barossanorth-parish.lutheran.org.au/event/worship-service-pastor-damien-409/
LOCATION:Strait Gate Lutheran Church\, Light Pass\, 412 Light Pass Road\, Light Pass\, SA\, 5355\, Australia
CATEGORIES:Worship
GEO:-34.4673621;139.0250785
X-APPLE-STRUCTURED-LOCATION;VALUE=URI;X-ADDRESS=Strait Gate Lutheran Church Light Pass 412 Light Pass Road Light Pass SA 5355 Australia;X-APPLE-RADIUS=500;X-TITLE=412 Light Pass Road:geo:139.0250785,-34.4673621
END:VEVENT
BEGIN:VEVENT
DTSTART;TZID=Australia/Adelaide:20260621T090000
DTEND;TZID=Australia/Adelaide:20260621T103000
DTSTAMP:20260425T032002
CREATED:20260306T072702Z
LAST-MODIFIED:20260306T072702Z
UID:17977-1782032400-1782037800@barossanorth-parish.lutheran.org.au
SUMMARY:Blessing of the Vines Service - Pastor Damien
DESCRIPTION:At Strait Gate with HC with Truro and Stockwell visiting
URL:https://barossanorth-parish.lutheran.org.au/event/blessing-of-the-vines-service-pastor-damien/
LOCATION:Strait Gate Lutheran Church\, Light Pass\, 412 Light Pass Road\, Light Pass\, SA\, 5355\, Australia
CATEGORIES:Worship
GEO:-34.4673621;139.0250785
X-APPLE-STRUCTURED-LOCATION;VALUE=URI;X-ADDRESS=Strait Gate Lutheran Church Light Pass 412 Light Pass Road Light Pass SA 5355 Australia;X-APPLE-RADIUS=500;X-TITLE=412 Light Pass Road:geo:139.0250785,-34.4673621
END:VEVENT
BEGIN:VEVENT
DTSTART;TZID=Australia/Adelaide:20260719T103000
DTEND;TZID=Australia/Adelaide:20260719T120000
DTSTAMP:20260425T032002
CREATED:20260312T043728Z
LAST-MODIFIED:20260312T043728Z
UID:18022-1784457000-1784462400@barossanorth-parish.lutheran.org.au
SUMMARY:Worship Service - Pastor Damien
DESCRIPTION:At Strait Gate with HC with Stockwell visiting
URL:https://barossanorth-parish.lutheran.org.au/event/worship-service-pastor-damien-426/
LOCATION:Strait Gate Lutheran Church\, Light Pass\, 412 Light Pass Road\, Light Pass\, SA\, 5355\, Australia
CATEGORIES:Worship
GEO:-34.4673621;139.0250785
X-APPLE-STRUCTURED-LOCATION;VALUE=URI;X-ADDRESS=Strait Gate Lutheran Church Light Pass 412 Light Pass Road Light Pass SA 5355 Australia;X-APPLE-RADIUS=500;X-TITLE=412 Light Pass Road:geo:139.0250785,-34.4673621
END:VEVENT
END:VCALENDAR