BEGIN:VCALENDAR
VERSION:2.0
PRODID:-//Barossa North Parish SA - ECPv6.15.12.2//NONSGML v1.0//EN
CALSCALE:GREGORIAN
METHOD:PUBLISH
X-WR-CALNAME:Barossa North Parish SA
X-ORIGINAL-URL:https://barossanorth-parish.lutheran.org.au
X-WR-CALDESC:Events for Barossa North Parish SA
REFRESH-INTERVAL;VALUE=DURATION:PT1H
X-Robots-Tag:noindex
X-PUBLISHED-TTL:PT1H
BEGIN:VTIMEZONE
TZID:Australia/Adelaide
BEGIN:STANDARD
TZOFFSETFROM:+1030
TZOFFSETTO:+0930
TZNAME:ACST
DTSTART:20240406T163000
END:STANDARD
BEGIN:DAYLIGHT
TZOFFSETFROM:+0930
TZOFFSETTO:+1030
TZNAME:ACDT
DTSTART:20241005T163000
END:DAYLIGHT
BEGIN:STANDARD
TZOFFSETFROM:+1030
TZOFFSETTO:+0930
TZNAME:ACST
DTSTART:20250405T163000
END:STANDARD
BEGIN:DAYLIGHT
TZOFFSETFROM:+0930
TZOFFSETTO:+1030
TZNAME:ACDT
DTSTART:20251004T163000
END:DAYLIGHT
BEGIN:STANDARD
TZOFFSETFROM:+1030
TZOFFSETTO:+0930
TZNAME:ACST
DTSTART:20260404T163000
END:STANDARD
BEGIN:DAYLIGHT
TZOFFSETFROM:+0930
TZOFFSETTO:+1030
TZNAME:ACDT
DTSTART:20261003T163000
END:DAYLIGHT
BEGIN:STANDARD
TZOFFSETFROM:+1030
TZOFFSETTO:+0930
TZNAME:ACST
DTSTART:20270403T163000
END:STANDARD
BEGIN:DAYLIGHT
TZOFFSETFROM:+0930
TZOFFSETTO:+1030
TZNAME:ACDT
DTSTART:20271002T163000
END:DAYLIGHT
END:VTIMEZONE
BEGIN:VEVENT
DTSTART;TZID=Australia/Adelaide:20260419T090000
DTEND;TZID=Australia/Adelaide:20260419T103000
DTSTAMP:20260425T044959
CREATED:20260219T044330Z
LAST-MODIFIED:20260219T044330Z
UID:17886-1776589200-1776594600@barossanorth-parish.lutheran.org.au
SUMMARY:Worship Service - Pastor David
DESCRIPTION:At Strait Gate with HC with Stockwell visiting
URL:https://barossanorth-parish.lutheran.org.au/event/worship-service-pastor-david-42/
LOCATION:Strait Gate Lutheran Church\, Light Pass\, 412 Light Pass Road\, Light Pass\, SA\, 5355\, Australia
CATEGORIES:Worship
GEO:-34.4673621;139.0250785
X-APPLE-STRUCTURED-LOCATION;VALUE=URI;X-ADDRESS=Strait Gate Lutheran Church Light Pass 412 Light Pass Road Light Pass SA 5355 Australia;X-APPLE-RADIUS=500;X-TITLE=412 Light Pass Road:geo:139.0250785,-34.4673621
END:VEVENT
BEGIN:VEVENT
DTSTART;TZID=Australia/Adelaide:20260418T083000
DTEND;TZID=Australia/Adelaide:20260418T113000
DTSTAMP:20260425T044959
CREATED:20260409T051114Z
LAST-MODIFIED:20260409T051114Z
UID:18101-1776501000-1776511800@barossanorth-parish.lutheran.org.au
SUMMARY:Strait Gate Busy Bee
DESCRIPTION:In the Strait Gate Church Grounds
URL:https://barossanorth-parish.lutheran.org.au/event/strait-gate-busy-bee-3/
LOCATION:Strait Gate Lutheran Church\, Light Pass\, 412 Light Pass Road\, Light Pass\, SA\, 5355\, Australia
CATEGORIES:Community,Family
GEO:-34.4673621;139.0250785
X-APPLE-STRUCTURED-LOCATION;VALUE=URI;X-ADDRESS=Strait Gate Lutheran Church Light Pass 412 Light Pass Road Light Pass SA 5355 Australia;X-APPLE-RADIUS=500;X-TITLE=412 Light Pass Road:geo:139.0250785,-34.4673621
END:VEVENT
BEGIN:VEVENT
DTSTART;TZID=Australia/Adelaide:20260402T120000
DTEND;TZID=Australia/Adelaide:20260402T143000
DTSTAMP:20260425T044959
CREATED:20260326T052048Z
LAST-MODIFIED:20260326T052048Z
UID:18083-1775131200-1775140200@barossanorth-parish.lutheran.org.au
SUMMARY:Strait Gate Fellowship Group
DESCRIPTION:In the Strait Gate Church Hall – please bring your own lunch
URL:https://barossanorth-parish.lutheran.org.au/event/strait-gate-fellowship-group/
LOCATION:Strait Gate Lutheran Church\, Light Pass\, 412 Light Pass Road\, Light Pass\, SA\, 5355\, Australia
CATEGORIES:Community,Fellowship
GEO:-34.4673621;139.0250785
X-APPLE-STRUCTURED-LOCATION;VALUE=URI;X-ADDRESS=Strait Gate Lutheran Church Light Pass 412 Light Pass Road Light Pass SA 5355 Australia;X-APPLE-RADIUS=500;X-TITLE=412 Light Pass Road:geo:139.0250785,-34.4673621
END:VEVENT
BEGIN:VEVENT
DTSTART;TZID=Australia/Adelaide:20260402T103000
DTEND;TZID=Australia/Adelaide:20260402T120000
DTSTAMP:20260425T044959
CREATED:20260212T053618Z
LAST-MODIFIED:20260212T053618Z
UID:17849-1775125800-1775131200@barossanorth-parish.lutheran.org.au
SUMMARY:Maundy Thursday Service - Pastor Damien
DESCRIPTION:At Strait Gate with HC
URL:https://barossanorth-parish.lutheran.org.au/event/maundy-thursday-service-pastor-damien/
LOCATION:Strait Gate Lutheran Church\, Light Pass\, 412 Light Pass Road\, Light Pass\, SA\, 5355\, Australia
CATEGORIES:Worship
GEO:-34.4673621;139.0250785
X-APPLE-STRUCTURED-LOCATION;VALUE=URI;X-ADDRESS=Strait Gate Lutheran Church Light Pass 412 Light Pass Road Light Pass SA 5355 Australia;X-APPLE-RADIUS=500;X-TITLE=412 Light Pass Road:geo:139.0250785,-34.4673621
END:VEVENT
BEGIN:VEVENT
DTSTART;TZID=Australia/Adelaide:20260329T100000
DTEND;TZID=Australia/Adelaide:20260329T113000
DTSTAMP:20260425T044959
CREATED:20260129T043001Z
LAST-MODIFIED:20260129T043001Z
UID:17713-1774778400-1774783800@barossanorth-parish.lutheran.org.au
SUMMARY:Parish Palm Sunday Worship Service - Pastor Damien
DESCRIPTION:At Strait Gate
URL:https://barossanorth-parish.lutheran.org.au/event/parish-palm-sunday-worship-service-pastor-damien/
LOCATION:Strait Gate Lutheran Church\, Light Pass\, 412 Light Pass Road\, Light Pass\, SA\, 5355\, Australia
CATEGORIES:Worship
GEO:-34.4673621;139.0250785
X-APPLE-STRUCTURED-LOCATION;VALUE=URI;X-ADDRESS=Strait Gate Lutheran Church Light Pass 412 Light Pass Road Light Pass SA 5355 Australia;X-APPLE-RADIUS=500;X-TITLE=412 Light Pass Road:geo:139.0250785,-34.4673621
END:VEVENT
BEGIN:VEVENT
DTSTART;TZID=Australia/Adelaide:20260315T103000
DTEND;TZID=Australia/Adelaide:20260315T120000
DTSTAMP:20260425T044959
CREATED:20260212T052619Z
LAST-MODIFIED:20260212T052619Z
UID:17831-1773570600-1773576000@barossanorth-parish.lutheran.org.au
SUMMARY:Worship Service - Pastor Damien
DESCRIPTION:At Strait Gate with HC with Stockwell visiting
URL:https://barossanorth-parish.lutheran.org.au/event/worship-service-pastor-damien-403/
LOCATION:Strait Gate Lutheran Church\, Light Pass\, 412 Light Pass Road\, Light Pass\, SA\, 5355\, Australia
CATEGORIES:Worship
GEO:-34.4673621;139.0250785
X-APPLE-STRUCTURED-LOCATION;VALUE=URI;X-ADDRESS=Strait Gate Lutheran Church Light Pass 412 Light Pass Road Light Pass SA 5355 Australia;X-APPLE-RADIUS=500;X-TITLE=412 Light Pass Road:geo:139.0250785,-34.4673621
END:VEVENT
BEGIN:VEVENT
DTSTART;TZID=Australia/Adelaide:20260215T090000
DTEND;TZID=Australia/Adelaide:20260215T103000
DTSTAMP:20260425T044959
CREATED:20251120T063714Z
LAST-MODIFIED:20251120T063714Z
UID:17512-1771146000-1771151400@barossanorth-parish.lutheran.org.au
SUMMARY:Worship Service - Pastor Damien
DESCRIPTION:At Strait Gate with HC with Stockwell visiting
URL:https://barossanorth-parish.lutheran.org.au/event/worship-service-pastor-damien-400/
LOCATION:Strait Gate Lutheran Church\, Light Pass\, 412 Light Pass Road\, Light Pass\, SA\, 5355\, Australia
CATEGORIES:Worship
GEO:-34.4673621;139.0250785
X-APPLE-STRUCTURED-LOCATION;VALUE=URI;X-ADDRESS=Strait Gate Lutheran Church Light Pass 412 Light Pass Road Light Pass SA 5355 Australia;X-APPLE-RADIUS=500;X-TITLE=412 Light Pass Road:geo:139.0250785,-34.4673621
END:VEVENT
BEGIN:VEVENT
DTSTART;VALUE=DATE:20260215
DTEND;VALUE=DATE:20260216
DTSTAMP:20260425T044959
CREATED:20251120T063834Z
LAST-MODIFIED:20251120T063834Z
UID:17514-1771113600-1771199999@barossanorth-parish.lutheran.org.au
SUMMARY:Strait Gate AGM
DESCRIPTION:At Strait Gate after the service
URL:https://barossanorth-parish.lutheran.org.au/event/strait-gate-agm-3/
LOCATION:Strait Gate Lutheran Church\, Light Pass\, 412 Light Pass Road\, Light Pass\, SA\, 5355\, Australia
CATEGORIES:Meeting
GEO:-34.4673621;139.0250785
X-APPLE-STRUCTURED-LOCATION;VALUE=URI;X-ADDRESS=Strait Gate Lutheran Church Light Pass 412 Light Pass Road Light Pass SA 5355 Australia;X-APPLE-RADIUS=500;X-TITLE=412 Light Pass Road:geo:139.0250785,-34.4673621
END:VEVENT
BEGIN:VEVENT
DTSTART;TZID=Australia/Adelaide:20260208T090000
DTEND;TZID=Australia/Adelaide:20260208T103000
DTSTAMP:20260425T044959
CREATED:20260205T061541Z
LAST-MODIFIED:20260205T061541Z
UID:17822-1770541200-1770546600@barossanorth-parish.lutheran.org.au
SUMMARY:Harvest Thanksgiving Service - Pastor Greg Schiller
DESCRIPTION:At Strait Gate with HC
URL:https://barossanorth-parish.lutheran.org.au/event/harvest-thanksgiving-service-pastor-greg-schiller/
LOCATION:Strait Gate Lutheran Church\, Light Pass\, 412 Light Pass Road\, Light Pass\, SA\, 5355\, Australia
CATEGORIES:Worship
GEO:-34.4673621;139.0250785
X-APPLE-STRUCTURED-LOCATION;VALUE=URI;X-ADDRESS=Strait Gate Lutheran Church Light Pass 412 Light Pass Road Light Pass SA 5355 Australia;X-APPLE-RADIUS=500;X-TITLE=412 Light Pass Road:geo:139.0250785,-34.4673621
END:VEVENT
BEGIN:VEVENT
DTSTART;TZID=Australia/Adelaide:20260118T103000
DTEND;TZID=Australia/Adelaide:20260118T120000
DTSTAMP:20260425T044959
CREATED:20251113T055118Z
LAST-MODIFIED:20251113T055118Z
UID:17467-1768732200-1768737600@barossanorth-parish.lutheran.org.au
SUMMARY:Worship Service - Pastor Damien
DESCRIPTION:At Strait Gate with HC with Stockwell visiting
URL:https://barossanorth-parish.lutheran.org.au/event/worship-service-pastor-damien-394/
LOCATION:Strait Gate Lutheran Church\, Light Pass\, 412 Light Pass Road\, Light Pass\, SA\, 5355\, Australia
CATEGORIES:Worship
GEO:-34.4673621;139.0250785
X-APPLE-STRUCTURED-LOCATION;VALUE=URI;X-ADDRESS=Strait Gate Lutheran Church Light Pass 412 Light Pass Road Light Pass SA 5355 Australia;X-APPLE-RADIUS=500;X-TITLE=412 Light Pass Road:geo:139.0250785,-34.4673621
END:VEVENT
BEGIN:VEVENT
DTSTART;TZID=Australia/Adelaide:20251224T183000
DTEND;TZID=Australia/Adelaide:20251224T193000
DTSTAMP:20260425T044959
CREATED:20251106T072100Z
LAST-MODIFIED:20251106T072100Z
UID:17427-1766601000-1766604600@barossanorth-parish.lutheran.org.au
SUMMARY:Christmas Eve Service - Children's Program - Pastor Greg Schiller
DESCRIPTION:At Strait Gate
URL:https://barossanorth-parish.lutheran.org.au/event/christmas-eve-service-childrens-program-pastor-greg-schiller/
LOCATION:Strait Gate Lutheran Church\, Light Pass\, 412 Light Pass Road\, Light Pass\, SA\, 5355\, Australia
CATEGORIES:Worship
GEO:-34.4673621;139.0250785
X-APPLE-STRUCTURED-LOCATION;VALUE=URI;X-ADDRESS=Strait Gate Lutheran Church Light Pass 412 Light Pass Road Light Pass SA 5355 Australia;X-APPLE-RADIUS=500;X-TITLE=412 Light Pass Road:geo:139.0250785,-34.4673621
END:VEVENT
BEGIN:VEVENT
DTSTART;TZID=Australia/Adelaide:20251221T090000
DTEND;TZID=Australia/Adelaide:20251221T103000
DTSTAMP:20260425T044959
CREATED:20251030T065725Z
LAST-MODIFIED:20251030T065725Z
UID:17404-1766307600-1766313000@barossanorth-parish.lutheran.org.au
SUMMARY:Worship Service - Pastor Damien
DESCRIPTION:At Strait Gate with HC with Stockwell visiting
URL:https://barossanorth-parish.lutheran.org.au/event/worship-service-pastor-damien-389/
LOCATION:Strait Gate Lutheran Church\, Light Pass\, 412 Light Pass Road\, Light Pass\, SA\, 5355\, Australia
CATEGORIES:Worship
GEO:-34.4673621;139.0250785
X-APPLE-STRUCTURED-LOCATION;VALUE=URI;X-ADDRESS=Strait Gate Lutheran Church Light Pass 412 Light Pass Road Light Pass SA 5355 Australia;X-APPLE-RADIUS=500;X-TITLE=412 Light Pass Road:geo:139.0250785,-34.4673621
END:VEVENT
BEGIN:VEVENT
DTSTART;TZID=Australia/Adelaide:20251130T200000
DTEND;TZID=Australia/Adelaide:20251130T213000
DTSTAMP:20260425T044959
CREATED:20251120T070014Z
LAST-MODIFIED:20251120T070014Z
UID:17536-1764532800-1764538200@barossanorth-parish.lutheran.org.au
SUMMARY:Christmas Cantata and Carols Candlelight Service
DESCRIPTION:At Strait Gate
URL:https://barossanorth-parish.lutheran.org.au/event/christmas-cantata-and-carols-candlelight-service/
LOCATION:Strait Gate Lutheran Church\, Light Pass\, 412 Light Pass Road\, Light Pass\, SA\, 5355\, Australia
CATEGORIES:Worship
GEO:-34.4673621;139.0250785
X-APPLE-STRUCTURED-LOCATION;VALUE=URI;X-ADDRESS=Strait Gate Lutheran Church Light Pass 412 Light Pass Road Light Pass SA 5355 Australia;X-APPLE-RADIUS=500;X-TITLE=412 Light Pass Road:geo:139.0250785,-34.4673621
END:VEVENT
BEGIN:VEVENT
DTSTART;TZID=Australia/Adelaide:20251127T070000
DTEND;TZID=Australia/Adelaide:20251127T203000
DTSTAMP:20260425T044959
CREATED:20251009T050417Z
LAST-MODIFIED:20251009T050417Z
UID:17335-1764226800-1764275400@barossanorth-parish.lutheran.org.au
SUMMARY:Combined Choir & Friends Practice
DESCRIPTION:In the Strait Gate Hall
URL:https://barossanorth-parish.lutheran.org.au/event/combined-choir-friends-practice/2025-11-27/
LOCATION:Strait Gate Lutheran Church\, Light Pass\, 412 Light Pass Road\, Light Pass\, SA\, 5355\, Australia
CATEGORIES:Community,Fellowship
GEO:-34.4673621;139.0250785
X-APPLE-STRUCTURED-LOCATION;VALUE=URI;X-ADDRESS=Strait Gate Lutheran Church Light Pass 412 Light Pass Road Light Pass SA 5355 Australia;X-APPLE-RADIUS=500;X-TITLE=412 Light Pass Road:geo:139.0250785,-34.4673621
END:VEVENT
BEGIN:VEVENT
DTSTART;TZID=Australia/Adelaide:20251123T090000
DTEND;TZID=Australia/Adelaide:20251123T103000
DTSTAMP:20260425T044959
CREATED:20250725T013854Z
LAST-MODIFIED:20250725T013854Z
UID:17199-1763888400-1763893800@barossanorth-parish.lutheran.org.au
SUMMARY:Worship Service - Pastor David
DESCRIPTION:Rememberance Service at Strait Gate with HC
URL:https://barossanorth-parish.lutheran.org.au/event/worship-service-pastor-david-38/
LOCATION:Strait Gate Lutheran Church\, Light Pass\, 412 Light Pass Road\, Light Pass\, SA\, 5355\, Australia
CATEGORIES:Worship
GEO:-34.4673621;139.0250785
X-APPLE-STRUCTURED-LOCATION;VALUE=URI;X-ADDRESS=Strait Gate Lutheran Church Light Pass 412 Light Pass Road Light Pass SA 5355 Australia;X-APPLE-RADIUS=500;X-TITLE=412 Light Pass Road:geo:139.0250785,-34.4673621
END:VEVENT
BEGIN:VEVENT
DTSTART;TZID=Australia/Adelaide:20251120T070000
DTEND;TZID=Australia/Adelaide:20251120T203000
DTSTAMP:20260425T044959
CREATED:20251009T050417Z
LAST-MODIFIED:20251009T050417Z
UID:17334-1763622000-1763670600@barossanorth-parish.lutheran.org.au
SUMMARY:Combined Choir & Friends Practice
DESCRIPTION:In the Strait Gate Hall
URL:https://barossanorth-parish.lutheran.org.au/event/combined-choir-friends-practice/2025-11-20/
LOCATION:Strait Gate Lutheran Church\, Light Pass\, 412 Light Pass Road\, Light Pass\, SA\, 5355\, Australia
CATEGORIES:Community,Fellowship
GEO:-34.4673621;139.0250785
X-APPLE-STRUCTURED-LOCATION;VALUE=URI;X-ADDRESS=Strait Gate Lutheran Church Light Pass 412 Light Pass Road Light Pass SA 5355 Australia;X-APPLE-RADIUS=500;X-TITLE=412 Light Pass Road:geo:139.0250785,-34.4673621
END:VEVENT
BEGIN:VEVENT
DTSTART;TZID=Australia/Adelaide:20251116T103000
DTEND;TZID=Australia/Adelaide:20251116T120000
DTSTAMP:20260425T044959
CREATED:20250725T013413Z
LAST-MODIFIED:20251106T071204Z
UID:17191-1763289000-1763294400@barossanorth-parish.lutheran.org.au
SUMMARY:Worship Service - Confirmation - Pastor Damien
DESCRIPTION:At Strait Gate with HC with Stockwell and Immanuel LP visiting
URL:https://barossanorth-parish.lutheran.org.au/event/worship-service-pastor-damien-381/
LOCATION:Strait Gate Lutheran Church\, Light Pass\, 412 Light Pass Road\, Light Pass\, SA\, 5355\, Australia
CATEGORIES:Worship
GEO:-34.4673621;139.0250785
X-APPLE-STRUCTURED-LOCATION;VALUE=URI;X-ADDRESS=Strait Gate Lutheran Church Light Pass 412 Light Pass Road Light Pass SA 5355 Australia;X-APPLE-RADIUS=500;X-TITLE=412 Light Pass Road:geo:139.0250785,-34.4673621
END:VEVENT
BEGIN:VEVENT
DTSTART;TZID=Australia/Adelaide:20251113T070000
DTEND;TZID=Australia/Adelaide:20251113T203000
DTSTAMP:20260425T044959
CREATED:20251009T050417Z
LAST-MODIFIED:20251009T050417Z
UID:17333-1763017200-1763065800@barossanorth-parish.lutheran.org.au
SUMMARY:Combined Choir & Friends Practice
DESCRIPTION:In the Strait Gate Hall
URL:https://barossanorth-parish.lutheran.org.au/event/combined-choir-friends-practice/2025-11-13/
LOCATION:Strait Gate Lutheran Church\, Light Pass\, 412 Light Pass Road\, Light Pass\, SA\, 5355\, Australia
CATEGORIES:Community,Fellowship
GEO:-34.4673621;139.0250785
X-APPLE-STRUCTURED-LOCATION;VALUE=URI;X-ADDRESS=Strait Gate Lutheran Church Light Pass 412 Light Pass Road Light Pass SA 5355 Australia;X-APPLE-RADIUS=500;X-TITLE=412 Light Pass Road:geo:139.0250785,-34.4673621
END:VEVENT
BEGIN:VEVENT
DTSTART;TZID=Australia/Adelaide:20251106T070000
DTEND;TZID=Australia/Adelaide:20251106T203000
DTSTAMP:20260425T044959
CREATED:20251009T050417Z
LAST-MODIFIED:20251009T050417Z
UID:17332-1762412400-1762461000@barossanorth-parish.lutheran.org.au
SUMMARY:Combined Choir & Friends Practice
DESCRIPTION:In the Strait Gate Hall
URL:https://barossanorth-parish.lutheran.org.au/event/combined-choir-friends-practice/2025-11-06/
LOCATION:Strait Gate Lutheran Church\, Light Pass\, 412 Light Pass Road\, Light Pass\, SA\, 5355\, Australia
CATEGORIES:Community,Fellowship
GEO:-34.4673621;139.0250785
X-APPLE-STRUCTURED-LOCATION;VALUE=URI;X-ADDRESS=Strait Gate Lutheran Church Light Pass 412 Light Pass Road Light Pass SA 5355 Australia;X-APPLE-RADIUS=500;X-TITLE=412 Light Pass Road:geo:139.0250785,-34.4673621
END:VEVENT
BEGIN:VEVENT
DTSTART;TZID=Australia/Adelaide:20251030T070000
DTEND;TZID=Australia/Adelaide:20251030T203000
DTSTAMP:20260425T044959
CREATED:20251009T050417Z
LAST-MODIFIED:20251009T050417Z
UID:17331-1761807600-1761856200@barossanorth-parish.lutheran.org.au
SUMMARY:Combined Choir & Friends Practice
DESCRIPTION:In the Strait Gate Hall
URL:https://barossanorth-parish.lutheran.org.au/event/combined-choir-friends-practice/2025-10-30/
LOCATION:Strait Gate Lutheran Church\, Light Pass\, 412 Light Pass Road\, Light Pass\, SA\, 5355\, Australia
CATEGORIES:Community,Fellowship
GEO:-34.4673621;139.0250785
X-APPLE-STRUCTURED-LOCATION;VALUE=URI;X-ADDRESS=Strait Gate Lutheran Church Light Pass 412 Light Pass Road Light Pass SA 5355 Australia;X-APPLE-RADIUS=500;X-TITLE=412 Light Pass Road:geo:139.0250785,-34.4673621
END:VEVENT
BEGIN:VEVENT
DTSTART;TZID=Australia/Adelaide:20251026T090000
DTEND;TZID=Australia/Adelaide:20251026T100000
DTSTAMP:20260425T044959
CREATED:20250925T072309Z
LAST-MODIFIED:20250925T072309Z
UID:17284-1761469200-1761472800@barossanorth-parish.lutheran.org.au
SUMMARY:Worship Service - Lay Preacher Paul Ridley
DESCRIPTION:At Strait Gate
URL:https://barossanorth-parish.lutheran.org.au/event/worship-service-lay-preacher-paul-ridley/
LOCATION:Strait Gate Lutheran Church\, Light Pass\, 412 Light Pass Road\, Light Pass\, SA\, 5355\, Australia
CATEGORIES:Worship
GEO:-34.4673621;139.0250785
X-APPLE-STRUCTURED-LOCATION;VALUE=URI;X-ADDRESS=Strait Gate Lutheran Church Light Pass 412 Light Pass Road Light Pass SA 5355 Australia;X-APPLE-RADIUS=500;X-TITLE=412 Light Pass Road:geo:139.0250785,-34.4673621
END:VEVENT
BEGIN:VEVENT
DTSTART;TZID=Australia/Adelaide:20251023T070000
DTEND;TZID=Australia/Adelaide:20251023T203000
DTSTAMP:20260425T044959
CREATED:20251009T050417Z
LAST-MODIFIED:20251009T050417Z
UID:17330-1761202800-1761251400@barossanorth-parish.lutheran.org.au
SUMMARY:Combined Choir & Friends Practice
DESCRIPTION:In the Strait Gate Hall
URL:https://barossanorth-parish.lutheran.org.au/event/combined-choir-friends-practice/2025-10-23/
LOCATION:Strait Gate Lutheran Church\, Light Pass\, 412 Light Pass Road\, Light Pass\, SA\, 5355\, Australia
CATEGORIES:Community,Fellowship
GEO:-34.4673621;139.0250785
X-APPLE-STRUCTURED-LOCATION;VALUE=URI;X-ADDRESS=Strait Gate Lutheran Church Light Pass 412 Light Pass Road Light Pass SA 5355 Australia;X-APPLE-RADIUS=500;X-TITLE=412 Light Pass Road:geo:139.0250785,-34.4673621
END:VEVENT
BEGIN:VEVENT
DTSTART;TZID=Australia/Adelaide:20251019T090000
DTEND;TZID=Australia/Adelaide:20251019T103000
DTSTAMP:20260425T044959
CREATED:20250718T022747Z
LAST-MODIFIED:20251016T052634Z
UID:17146-1760864400-1760869800@barossanorth-parish.lutheran.org.au
SUMMARY:Worship Service - Pastor David
DESCRIPTION:At Strait Gate with HC with Immanuel visiting
URL:https://barossanorth-parish.lutheran.org.au/event/worship-service-pastor-damien-373/
LOCATION:Strait Gate Lutheran Church\, Light Pass\, 412 Light Pass Road\, Light Pass\, SA\, 5355\, Australia
CATEGORIES:Worship
GEO:-34.4673621;139.0250785
X-APPLE-STRUCTURED-LOCATION;VALUE=URI;X-ADDRESS=Strait Gate Lutheran Church Light Pass 412 Light Pass Road Light Pass SA 5355 Australia;X-APPLE-RADIUS=500;X-TITLE=412 Light Pass Road:geo:139.0250785,-34.4673621
END:VEVENT
BEGIN:VEVENT
DTSTART;TZID=Australia/Adelaide:20251016T070000
DTEND;TZID=Australia/Adelaide:20251016T203000
DTSTAMP:20260425T044959
CREATED:20251009T050417Z
LAST-MODIFIED:20251009T050417Z
UID:17329-1760598000-1760646600@barossanorth-parish.lutheran.org.au
SUMMARY:Combined Choir & Friends Practice
DESCRIPTION:In the Strait Gate Hall
URL:https://barossanorth-parish.lutheran.org.au/event/combined-choir-friends-practice/2025-10-16/
LOCATION:Strait Gate Lutheran Church\, Light Pass\, 412 Light Pass Road\, Light Pass\, SA\, 5355\, Australia
CATEGORIES:Community,Fellowship
GEO:-34.4673621;139.0250785
X-APPLE-STRUCTURED-LOCATION;VALUE=URI;X-ADDRESS=Strait Gate Lutheran Church Light Pass 412 Light Pass Road Light Pass SA 5355 Australia;X-APPLE-RADIUS=500;X-TITLE=412 Light Pass Road:geo:139.0250785,-34.4673621
END:VEVENT
BEGIN:VEVENT
DTSTART;TZID=Australia/Adelaide:20251009T070000
DTEND;TZID=Australia/Adelaide:20251009T203000
DTSTAMP:20260425T044959
CREATED:20251009T050417Z
LAST-MODIFIED:20251009T050417Z
UID:17328-1759993200-1760041800@barossanorth-parish.lutheran.org.au
SUMMARY:Combined Choir & Friends Practice
DESCRIPTION:In the Strait Gate Hall
URL:https://barossanorth-parish.lutheran.org.au/event/combined-choir-friends-practice/2025-10-09/
LOCATION:Strait Gate Lutheran Church\, Light Pass\, 412 Light Pass Road\, Light Pass\, SA\, 5355\, Australia
CATEGORIES:Community,Fellowship
GEO:-34.4673621;139.0250785
X-APPLE-STRUCTURED-LOCATION;VALUE=URI;X-ADDRESS=Strait Gate Lutheran Church Light Pass 412 Light Pass Road Light Pass SA 5355 Australia;X-APPLE-RADIUS=500;X-TITLE=412 Light Pass Road:geo:139.0250785,-34.4673621
END:VEVENT
BEGIN:VEVENT
DTSTART;TZID=Australia/Adelaide:20251002T070000
DTEND;TZID=Australia/Adelaide:20251002T203000
DTSTAMP:20260425T044959
CREATED:20251009T050417Z
LAST-MODIFIED:20251009T050417Z
UID:17327-1759388400-1759437000@barossanorth-parish.lutheran.org.au
SUMMARY:Combined Choir & Friends Practice
DESCRIPTION:In the Strait Gate Hall
URL:https://barossanorth-parish.lutheran.org.au/event/combined-choir-friends-practice/2025-10-02/
LOCATION:Strait Gate Lutheran Church\, Light Pass\, 412 Light Pass Road\, Light Pass\, SA\, 5355\, Australia
CATEGORIES:Community,Fellowship
GEO:-34.4673621;139.0250785
X-APPLE-STRUCTURED-LOCATION;VALUE=URI;X-ADDRESS=Strait Gate Lutheran Church Light Pass 412 Light Pass Road Light Pass SA 5355 Australia;X-APPLE-RADIUS=500;X-TITLE=412 Light Pass Road:geo:139.0250785,-34.4673621
END:VEVENT
BEGIN:VEVENT
DTSTART;TZID=Australia/Adelaide:20250928T090000
DTEND;TZID=Australia/Adelaide:20250928T103000
DTSTAMP:20260425T044959
CREATED:20250717T060356Z
LAST-MODIFIED:20250717T060356Z
UID:17109-1759050000-1759055400@barossanorth-parish.lutheran.org.au
SUMMARY:Worship Service - Pastor David Freckelton
DESCRIPTION:At Strait Gate with HC
URL:https://barossanorth-parish.lutheran.org.au/event/worship-service-pastor-david-freckelton-3/
LOCATION:Strait Gate Lutheran Church\, Light Pass\, 412 Light Pass Road\, Light Pass\, SA\, 5355\, Australia
CATEGORIES:Worship
GEO:-34.4673621;139.0250785
X-APPLE-STRUCTURED-LOCATION;VALUE=URI;X-ADDRESS=Strait Gate Lutheran Church Light Pass 412 Light Pass Road Light Pass SA 5355 Australia;X-APPLE-RADIUS=500;X-TITLE=412 Light Pass Road:geo:139.0250785,-34.4673621
END:VEVENT
BEGIN:VEVENT
DTSTART;TZID=Australia/Adelaide:20250921T103000
DTEND;TZID=Australia/Adelaide:20250921T120000
DTSTAMP:20260425T044959
CREATED:20250717T055705Z
LAST-MODIFIED:20250717T055705Z
UID:17101-1758450600-1758456000@barossanorth-parish.lutheran.org.au
SUMMARY:Worship Service - Pastor Damien
DESCRIPTION:At Strait Gate with HC with Stockwell and Immanuel LP visiting
URL:https://barossanorth-parish.lutheran.org.au/event/worship-service-pastor-damien-369/
LOCATION:Strait Gate Lutheran Church\, Light Pass\, 412 Light Pass Road\, Light Pass\, SA\, 5355\, Australia
CATEGORIES:Worship
GEO:-34.4673621;139.0250785
X-APPLE-STRUCTURED-LOCATION;VALUE=URI;X-ADDRESS=Strait Gate Lutheran Church Light Pass 412 Light Pass Road Light Pass SA 5355 Australia;X-APPLE-RADIUS=500;X-TITLE=412 Light Pass Road:geo:139.0250785,-34.4673621
END:VEVENT
BEGIN:VEVENT
DTSTART;TZID=Australia/Adelaide:20250817T090000
DTEND;TZID=Australia/Adelaide:20250817T103000
DTSTAMP:20260425T044959
CREATED:20250703T074813Z
LAST-MODIFIED:20250703T074813Z
UID:17044-1755421200-1755426600@barossanorth-parish.lutheran.org.au
SUMMARY:Worship Service - Pastor Damien
DESCRIPTION:At Strait Gate with HC with Immanuel LP and Stockwell visiting
URL:https://barossanorth-parish.lutheran.org.au/event/worship-service-pastor-damien-361/
LOCATION:Strait Gate Lutheran Church\, Light Pass\, 412 Light Pass Road\, Light Pass\, SA\, 5355\, Australia
CATEGORIES:Worship
GEO:-34.4673621;139.0250785
X-APPLE-STRUCTURED-LOCATION;VALUE=URI;X-ADDRESS=Strait Gate Lutheran Church Light Pass 412 Light Pass Road Light Pass SA 5355 Australia;X-APPLE-RADIUS=500;X-TITLE=412 Light Pass Road:geo:139.0250785,-34.4673621
END:VEVENT
BEGIN:VEVENT
DTSTART;TZID=Australia/Adelaide:20250806T133000
DTEND;TZID=Australia/Adelaide:20250806T163000
DTSTAMP:20260425T044959
CREATED:20250703T054923Z
LAST-MODIFIED:20250703T054923Z
UID:16977-1754487000-1754497800@barossanorth-parish.lutheran.org.au
SUMMARY:Strait Gate Women's Fellowship
DESCRIPTION:Game On – bring your favourite game or cards to enjoy some fellowship fun in the Church Hall
URL:https://barossanorth-parish.lutheran.org.au/event/strait-gate-womens-fellowship-47/
LOCATION:Strait Gate Lutheran Church\, Light Pass\, 412 Light Pass Road\, Light Pass\, SA\, 5355\, Australia
CATEGORIES:Fellowship,Ladies
GEO:-34.4673621;139.0250785
X-APPLE-STRUCTURED-LOCATION;VALUE=URI;X-ADDRESS=Strait Gate Lutheran Church Light Pass 412 Light Pass Road Light Pass SA 5355 Australia;X-APPLE-RADIUS=500;X-TITLE=412 Light Pass Road:geo:139.0250785,-34.4673621
END:VEVENT
END:VCALENDAR