BEGIN:VCALENDAR
VERSION:2.0
PRODID:-//Barossa North Parish SA - ECPv6.15.12.2//NONSGML v1.0//EN
CALSCALE:GREGORIAN
METHOD:PUBLISH
X-WR-CALNAME:Barossa North Parish SA
X-ORIGINAL-URL:https://barossanorth-parish.lutheran.org.au
X-WR-CALDESC:Events for Barossa North Parish SA
REFRESH-INTERVAL;VALUE=DURATION:PT1H
X-Robots-Tag:noindex
X-PUBLISHED-TTL:PT1H
BEGIN:VTIMEZONE
TZID:Australia/Adelaide
BEGIN:STANDARD
TZOFFSETFROM:+1030
TZOFFSETTO:+0930
TZNAME:ACST
DTSTART:20230401T163000
END:STANDARD
BEGIN:DAYLIGHT
TZOFFSETFROM:+0930
TZOFFSETTO:+1030
TZNAME:ACDT
DTSTART:20230930T163000
END:DAYLIGHT
BEGIN:STANDARD
TZOFFSETFROM:+1030
TZOFFSETTO:+0930
TZNAME:ACST
DTSTART:20240406T163000
END:STANDARD
BEGIN:DAYLIGHT
TZOFFSETFROM:+0930
TZOFFSETTO:+1030
TZNAME:ACDT
DTSTART:20241005T163000
END:DAYLIGHT
BEGIN:STANDARD
TZOFFSETFROM:+1030
TZOFFSETTO:+0930
TZNAME:ACST
DTSTART:20250405T163000
END:STANDARD
BEGIN:DAYLIGHT
TZOFFSETFROM:+0930
TZOFFSETTO:+1030
TZNAME:ACDT
DTSTART:20251004T163000
END:DAYLIGHT
END:VTIMEZONE
BEGIN:VEVENT
DTSTART;TZID=Australia/Adelaide:20241225T090000
DTEND;TZID=Australia/Adelaide:20241225T100000
DTSTAMP:20260425T133338
CREATED:20241114T055328Z
LAST-MODIFIED:20241114T055328Z
UID:16194-1735117200-1735120800@barossanorth-parish.lutheran.org.au
SUMMARY:Christmas Day Service - Pastor Paul Lohe
DESCRIPTION:At Dutton
URL:https://barossanorth-parish.lutheran.org.au/event/christmas-day-service-pastor-paul-lohe/
LOCATION:St John’s Lutheran Church\, Dutton\, 24 Rice Street\, Dutton\, SA\, 5356\, Australia
CATEGORIES:Worship
GEO:-34.3613829;139.1467776
X-APPLE-STRUCTURED-LOCATION;VALUE=URI;X-ADDRESS=St John’s Lutheran Church Dutton 24 Rice Street Dutton SA 5356 Australia;X-APPLE-RADIUS=500;X-TITLE=24 Rice Street:geo:139.1467776,-34.3613829
END:VEVENT
BEGIN:VEVENT
DTSTART;TZID=Australia/Adelaide:20241215T103000
DTEND;TZID=Australia/Adelaide:20241215T120000
DTSTAMP:20260425T133338
CREATED:20241107T062602Z
LAST-MODIFIED:20241107T062602Z
UID:16161-1734258600-1734264000@barossanorth-parish.lutheran.org.au
SUMMARY:Worship Service - Pastor Paul Lohe
DESCRIPTION:At Dutton with HC
URL:https://barossanorth-parish.lutheran.org.au/event/worship-service-pastor-paul-lohe-12/
LOCATION:St John’s Lutheran Church\, Dutton\, 24 Rice Street\, Dutton\, SA\, 5356\, Australia
CATEGORIES:Worship
GEO:-34.3613829;139.1467776
X-APPLE-STRUCTURED-LOCATION;VALUE=URI;X-ADDRESS=St John’s Lutheran Church Dutton 24 Rice Street Dutton SA 5356 Australia;X-APPLE-RADIUS=500;X-TITLE=24 Rice Street:geo:139.1467776,-34.3613829
END:VEVENT
BEGIN:VEVENT
DTSTART;TZID=Australia/Adelaide:20241215T094500
DTEND;TZID=Australia/Adelaide:20241215T103000
DTSTAMP:20260425T133338
CREATED:20241121T062827Z
LAST-MODIFIED:20241121T062827Z
UID:16232-1734255900-1734258600@barossanorth-parish.lutheran.org.au
SUMMARY:God's Kids
DESCRIPTION:At Dutton
URL:https://barossanorth-parish.lutheran.org.au/event/gods-kids-9/
LOCATION:St John’s Lutheran Church\, Dutton\, 24 Rice Street\, Dutton\, SA\, 5356\, Australia
CATEGORIES:Children
GEO:-34.3613829;139.1467776
X-APPLE-STRUCTURED-LOCATION;VALUE=URI;X-ADDRESS=St John’s Lutheran Church Dutton 24 Rice Street Dutton SA 5356 Australia;X-APPLE-RADIUS=500;X-TITLE=24 Rice Street:geo:139.1467776,-34.3613829
END:VEVENT
BEGIN:VEVENT
DTSTART;TZID=Australia/Adelaide:20241201T090000
DTEND;TZID=Australia/Adelaide:20241201T103000
DTSTAMP:20260425T133338
CREATED:20241031T063630Z
LAST-MODIFIED:20241031T063630Z
UID:16134-1733043600-1733049000@barossanorth-parish.lutheran.org.au
SUMMARY:Worship Service - Pastor Damien
DESCRIPTION:At Dutton with HC with Truro and Stockwell visiting
URL:https://barossanorth-parish.lutheran.org.au/event/worship-service-pastor-damien-321/
LOCATION:St John’s Lutheran Church\, Dutton\, 24 Rice Street\, Dutton\, SA\, 5356\, Australia
CATEGORIES:Worship
GEO:-34.3613829;139.1467776
X-APPLE-STRUCTURED-LOCATION;VALUE=URI;X-ADDRESS=St John’s Lutheran Church Dutton 24 Rice Street Dutton SA 5356 Australia;X-APPLE-RADIUS=500;X-TITLE=24 Rice Street:geo:139.1467776,-34.3613829
END:VEVENT
BEGIN:VEVENT
DTSTART;TZID=Australia/Adelaide:20241117T090000
DTEND;TZID=Australia/Adelaide:20241117T103000
DTSTAMP:20260425T133338
CREATED:20241002T054851Z
LAST-MODIFIED:20241002T054851Z
UID:16051-1731834000-1731839400@barossanorth-parish.lutheran.org.au
SUMMARY:Worship Service - Pastor Paul Lohe
DESCRIPTION:At Dutton with HC
URL:https://barossanorth-parish.lutheran.org.au/event/worship-service-pastor-paul-lohe-11/
LOCATION:St John’s Lutheran Church\, Dutton\, 24 Rice Street\, Dutton\, SA\, 5356\, Australia
CATEGORIES:Worship
GEO:-34.3613829;139.1467776
X-APPLE-STRUCTURED-LOCATION;VALUE=URI;X-ADDRESS=St John’s Lutheran Church Dutton 24 Rice Street Dutton SA 5356 Australia;X-APPLE-RADIUS=500;X-TITLE=24 Rice Street:geo:139.1467776,-34.3613829
END:VEVENT
BEGIN:VEVENT
DTSTART;TZID=Australia/Adelaide:20241103T103000
DTEND;TZID=Australia/Adelaide:20241103T120000
DTSTAMP:20260425T133338
CREATED:20241002T052803Z
LAST-MODIFIED:20241002T052803Z
UID:16027-1730629800-1730635200@barossanorth-parish.lutheran.org.au
SUMMARY:Worship Service - Pastor Damien
DESCRIPTION:At Dutton with HC with Stockwell visiting
URL:https://barossanorth-parish.lutheran.org.au/event/worship-service-pastor-damien-315/
LOCATION:St John’s Lutheran Church\, Dutton\, 24 Rice Street\, Dutton\, SA\, 5356\, Australia
CATEGORIES:Worship
GEO:-34.3613829;139.1467776
X-APPLE-STRUCTURED-LOCATION;VALUE=URI;X-ADDRESS=St John’s Lutheran Church Dutton 24 Rice Street Dutton SA 5356 Australia;X-APPLE-RADIUS=500;X-TITLE=24 Rice Street:geo:139.1467776,-34.3613829
END:VEVENT
BEGIN:VEVENT
DTSTART;TZID=Australia/Adelaide:20241103T094500
DTEND;TZID=Australia/Adelaide:20241103T104500
DTSTAMP:20260425T133338
CREATED:20240125T054018Z
LAST-MODIFIED:20240125T054018Z
UID:15142-1730627100-1730630700@barossanorth-parish.lutheran.org.au
SUMMARY:God's Kids
DESCRIPTION:Sunday School Program @ Dutton
URL:https://barossanorth-parish.lutheran.org.au/event/gods-kids-8/2024-11-03/
LOCATION:St John’s Lutheran Church\, Dutton\, 24 Rice Street\, Dutton\, SA\, 5356\, Australia
CATEGORIES:Children,Family
GEO:-34.3613829;139.1467776
X-APPLE-STRUCTURED-LOCATION;VALUE=URI;X-ADDRESS=St John’s Lutheran Church Dutton 24 Rice Street Dutton SA 5356 Australia;X-APPLE-RADIUS=500;X-TITLE=24 Rice Street:geo:139.1467776,-34.3613829
END:VEVENT
BEGIN:VEVENT
DTSTART;TZID=Australia/Adelaide:20241020T103000
DTEND;TZID=Australia/Adelaide:20241020T120000
DTSTAMP:20260425T133338
CREATED:20240919T082042Z
LAST-MODIFIED:20240919T082042Z
UID:15929-1729420200-1729425600@barossanorth-parish.lutheran.org.au
SUMMARY:Worship Service - Pastor Paul Lohe
DESCRIPTION:At Dutton with HC
URL:https://barossanorth-parish.lutheran.org.au/event/worship-service-pastor-paul-lohe-10/
LOCATION:St John’s Lutheran Church\, Dutton\, 24 Rice Street\, Dutton\, SA\, 5356\, Australia
CATEGORIES:Worship
GEO:-34.3613829;139.1467776
X-APPLE-STRUCTURED-LOCATION;VALUE=URI;X-ADDRESS=St John’s Lutheran Church Dutton 24 Rice Street Dutton SA 5356 Australia;X-APPLE-RADIUS=500;X-TITLE=24 Rice Street:geo:139.1467776,-34.3613829
END:VEVENT
BEGIN:VEVENT
DTSTART;TZID=Australia/Adelaide:20241020T094500
DTEND;TZID=Australia/Adelaide:20241020T104500
DTSTAMP:20260425T133338
CREATED:20240125T054018Z
LAST-MODIFIED:20240919T082420Z
UID:15141-1729417500-1729421100@barossanorth-parish.lutheran.org.au
SUMMARY:God's Kids
DESCRIPTION:Sunday School Program @ Dutton
URL:https://barossanorth-parish.lutheran.org.au/event/gods-kids-8-2024-10-06/
LOCATION:St John’s Lutheran Church\, Dutton\, 24 Rice Street\, Dutton\, SA\, 5356\, Australia
CATEGORIES:Children,Family
GEO:-34.3613829;139.1467776
X-APPLE-STRUCTURED-LOCATION;VALUE=URI;X-ADDRESS=St John’s Lutheran Church Dutton 24 Rice Street Dutton SA 5356 Australia;X-APPLE-RADIUS=500;X-TITLE=24 Rice Street:geo:139.1467776,-34.3613829
END:VEVENT
BEGIN:VEVENT
DTSTART;TZID=Australia/Adelaide:20241006T090000
DTEND;TZID=Australia/Adelaide:20241006T103000
DTSTAMP:20260425T133338
CREATED:20240919T075810Z
LAST-MODIFIED:20240919T075810Z
UID:15907-1728205200-1728210600@barossanorth-parish.lutheran.org.au
SUMMARY:Worship Service - Pastor Damien
DESCRIPTION:At Dutton with HC
URL:https://barossanorth-parish.lutheran.org.au/event/worship-service-pastor-damien-307/
LOCATION:St John’s Lutheran Church\, Dutton\, 24 Rice Street\, Dutton\, SA\, 5356\, Australia
CATEGORIES:Worship
GEO:-34.3613829;139.1467776
X-APPLE-STRUCTURED-LOCATION;VALUE=URI;X-ADDRESS=St John’s Lutheran Church Dutton 24 Rice Street Dutton SA 5356 Australia;X-APPLE-RADIUS=500;X-TITLE=24 Rice Street:geo:139.1467776,-34.3613829
END:VEVENT
BEGIN:VEVENT
DTSTART;TZID=Australia/Adelaide:20240915T090000
DTEND;TZID=Australia/Adelaide:20240915T103000
DTSTAMP:20260425T133338
CREATED:20240815T061453Z
LAST-MODIFIED:20240815T061453Z
UID:15855-1726390800-1726396200@barossanorth-parish.lutheran.org.au
SUMMARY:Worship Service - Pastor Paul Lohe
DESCRIPTION:At Dutton with HC
URL:https://barossanorth-parish.lutheran.org.au/event/worship-service-pastor-paul-lohe-9/
LOCATION:St John’s Lutheran Church\, Dutton\, 24 Rice Street\, Dutton\, SA\, 5356\, Australia
CATEGORIES:Worship
GEO:-34.3613829;139.1467776
X-APPLE-STRUCTURED-LOCATION;VALUE=URI;X-ADDRESS=St John’s Lutheran Church Dutton 24 Rice Street Dutton SA 5356 Australia;X-APPLE-RADIUS=500;X-TITLE=24 Rice Street:geo:139.1467776,-34.3613829
END:VEVENT
BEGIN:VEVENT
DTSTART;TZID=Australia/Adelaide:20240901T103000
DTEND;TZID=Australia/Adelaide:20240901T120000
DTSTAMP:20260425T133338
CREATED:20240815T055843Z
LAST-MODIFIED:20240815T055843Z
UID:15837-1725186600-1725192000@barossanorth-parish.lutheran.org.au
SUMMARY:Worship Service - Pastor Damien
DESCRIPTION:At Dutton with HC with Stockwell visiting
URL:https://barossanorth-parish.lutheran.org.au/event/worship-service-pastor-damien-303/
LOCATION:St John’s Lutheran Church\, Dutton\, 24 Rice Street\, Dutton\, SA\, 5356\, Australia
CATEGORIES:Worship
GEO:-34.3613829;139.1467776
X-APPLE-STRUCTURED-LOCATION;VALUE=URI;X-ADDRESS=St John’s Lutheran Church Dutton 24 Rice Street Dutton SA 5356 Australia;X-APPLE-RADIUS=500;X-TITLE=24 Rice Street:geo:139.1467776,-34.3613829
END:VEVENT
BEGIN:VEVENT
DTSTART;TZID=Australia/Adelaide:20240901T094500
DTEND;TZID=Australia/Adelaide:20240901T104500
DTSTAMP:20260425T133338
CREATED:20240125T054018Z
LAST-MODIFIED:20240125T054018Z
UID:15140-1725183900-1725187500@barossanorth-parish.lutheran.org.au
SUMMARY:God's Kids
DESCRIPTION:Sunday School Program @ Dutton
URL:https://barossanorth-parish.lutheran.org.au/event/gods-kids-8/2024-09-01/
LOCATION:St John’s Lutheran Church\, Dutton\, 24 Rice Street\, Dutton\, SA\, 5356\, Australia
CATEGORIES:Children,Family
GEO:-34.3613829;139.1467776
X-APPLE-STRUCTURED-LOCATION;VALUE=URI;X-ADDRESS=St John’s Lutheran Church Dutton 24 Rice Street Dutton SA 5356 Australia;X-APPLE-RADIUS=500;X-TITLE=24 Rice Street:geo:139.1467776,-34.3613829
END:VEVENT
BEGIN:VEVENT
DTSTART;TZID=Australia/Adelaide:20240818T103000
DTEND;TZID=Australia/Adelaide:20240818T120000
DTSTAMP:20260425T133338
CREATED:20240502T053824Z
LAST-MODIFIED:20240502T053824Z
UID:15652-1723977000-1723982400@barossanorth-parish.lutheran.org.au
SUMMARY:Worship Service - Pastor Paul Lohe
DESCRIPTION:At Dutton with HC
URL:https://barossanorth-parish.lutheran.org.au/event/worship-service-pastor-paul-lohe-8/
LOCATION:St John’s Lutheran Church\, Dutton\, 24 Rice Street\, Dutton\, SA\, 5356\, Australia
CATEGORIES:Worship
GEO:-34.3613829;139.1467776
X-APPLE-STRUCTURED-LOCATION;VALUE=URI;X-ADDRESS=St John’s Lutheran Church Dutton 24 Rice Street Dutton SA 5356 Australia;X-APPLE-RADIUS=500;X-TITLE=24 Rice Street:geo:139.1467776,-34.3613829
END:VEVENT
BEGIN:VEVENT
DTSTART;TZID=Australia/Adelaide:20240818T094500
DTEND;TZID=Australia/Adelaide:20240818T104500
DTSTAMP:20260425T133338
CREATED:20240125T054018Z
LAST-MODIFIED:20240502T054005Z
UID:15139-1723974300-1723977900@barossanorth-parish.lutheran.org.au
SUMMARY:God's Kids
DESCRIPTION:Sunday School Program @ Dutton
URL:https://barossanorth-parish.lutheran.org.au/event/gods-kids-8-2024-08-04/
LOCATION:St John’s Lutheran Church\, Dutton\, 24 Rice Street\, Dutton\, SA\, 5356\, Australia
CATEGORIES:Children,Family
GEO:-34.3613829;139.1467776
X-APPLE-STRUCTURED-LOCATION;VALUE=URI;X-ADDRESS=St John’s Lutheran Church Dutton 24 Rice Street Dutton SA 5356 Australia;X-APPLE-RADIUS=500;X-TITLE=24 Rice Street:geo:139.1467776,-34.3613829
END:VEVENT
BEGIN:VEVENT
DTSTART;TZID=Australia/Adelaide:20240804T090000
DTEND;TZID=Australia/Adelaide:20240804T103000
DTSTAMP:20260425T133338
CREATED:20240502T052042Z
LAST-MODIFIED:20240502T052042Z
UID:15634-1722762000-1722767400@barossanorth-parish.lutheran.org.au
SUMMARY:Worship Service - Pastor Damien
DESCRIPTION:At Dutton with HC
URL:https://barossanorth-parish.lutheran.org.au/event/worship-service-pastor-damien-295/
LOCATION:St John’s Lutheran Church\, Dutton\, 24 Rice Street\, Dutton\, SA\, 5356\, Australia
CATEGORIES:Worship
GEO:-34.3613829;139.1467776
X-APPLE-STRUCTURED-LOCATION;VALUE=URI;X-ADDRESS=St John’s Lutheran Church Dutton 24 Rice Street Dutton SA 5356 Australia;X-APPLE-RADIUS=500;X-TITLE=24 Rice Street:geo:139.1467776,-34.3613829
END:VEVENT
BEGIN:VEVENT
DTSTART;TZID=Australia/Adelaide:20240721T090000
DTEND;TZID=Australia/Adelaide:20240721T103000
DTSTAMP:20260425T133338
CREATED:20240426T064837Z
LAST-MODIFIED:20240426T064837Z
UID:15610-1721552400-1721557800@barossanorth-parish.lutheran.org.au
SUMMARY:Worship Service - Pastor Paul Lohe
DESCRIPTION:At Dutton with HC
URL:https://barossanorth-parish.lutheran.org.au/event/worship-service-pastor-paul-lohe-7/
LOCATION:St John’s Lutheran Church\, Dutton\, 24 Rice Street\, Dutton\, SA\, 5356\, Australia
CATEGORIES:Worship
GEO:-34.3613829;139.1467776
X-APPLE-STRUCTURED-LOCATION;VALUE=URI;X-ADDRESS=St John’s Lutheran Church Dutton 24 Rice Street Dutton SA 5356 Australia;X-APPLE-RADIUS=500;X-TITLE=24 Rice Street:geo:139.1467776,-34.3613829
END:VEVENT
BEGIN:VEVENT
DTSTART;TZID=Australia/Adelaide:20240707T103000
DTEND;TZID=Australia/Adelaide:20240707T120000
DTSTAMP:20260425T133338
CREATED:20240419T081142Z
LAST-MODIFIED:20240419T081142Z
UID:15527-1720348200-1720353600@barossanorth-parish.lutheran.org.au
SUMMARY:Worship Service - Pastor Damien
DESCRIPTION:At Dutton with HC with Stockwell visiting
URL:https://barossanorth-parish.lutheran.org.au/event/worship-service-pastor-damien-287/
LOCATION:St John’s Lutheran Church\, Dutton\, 24 Rice Street\, Dutton\, SA\, 5356\, Australia
CATEGORIES:Worship
GEO:-34.3613829;139.1467776
X-APPLE-STRUCTURED-LOCATION;VALUE=URI;X-ADDRESS=St John’s Lutheran Church Dutton 24 Rice Street Dutton SA 5356 Australia;X-APPLE-RADIUS=500;X-TITLE=24 Rice Street:geo:139.1467776,-34.3613829
END:VEVENT
BEGIN:VEVENT
DTSTART;TZID=Australia/Adelaide:20240707T094500
DTEND;TZID=Australia/Adelaide:20240707T104500
DTSTAMP:20260425T133338
CREATED:20240125T054018Z
LAST-MODIFIED:20240125T054018Z
UID:15138-1720345500-1720349100@barossanorth-parish.lutheran.org.au
SUMMARY:God's Kids
DESCRIPTION:Sunday School Program @ Dutton
URL:https://barossanorth-parish.lutheran.org.au/event/gods-kids-8/2024-07-07/
LOCATION:St John’s Lutheran Church\, Dutton\, 24 Rice Street\, Dutton\, SA\, 5356\, Australia
CATEGORIES:Children,Family
GEO:-34.3613829;139.1467776
X-APPLE-STRUCTURED-LOCATION;VALUE=URI;X-ADDRESS=St John’s Lutheran Church Dutton 24 Rice Street Dutton SA 5356 Australia;X-APPLE-RADIUS=500;X-TITLE=24 Rice Street:geo:139.1467776,-34.3613829
END:VEVENT
BEGIN:VEVENT
DTSTART;TZID=Australia/Adelaide:20240616T103000
DTEND;TZID=Australia/Adelaide:20240616T120000
DTSTAMP:20260425T133338
CREATED:20240419T080021Z
LAST-MODIFIED:20240606T070135Z
UID:15512-1718533800-1718539200@barossanorth-parish.lutheran.org.au
SUMMARY:Worship Service - Pastor Wally Schiller
DESCRIPTION:At Dutton with HC
URL:https://barossanorth-parish.lutheran.org.au/event/worship-service-pastor-paul-lohe-6/
LOCATION:St John’s Lutheran Church\, Dutton\, 24 Rice Street\, Dutton\, SA\, 5356\, Australia
CATEGORIES:Worship
GEO:-34.3613829;139.1467776
X-APPLE-STRUCTURED-LOCATION;VALUE=URI;X-ADDRESS=St John’s Lutheran Church Dutton 24 Rice Street Dutton SA 5356 Australia;X-APPLE-RADIUS=500;X-TITLE=24 Rice Street:geo:139.1467776,-34.3613829
END:VEVENT
BEGIN:VEVENT
DTSTART;TZID=Australia/Adelaide:20240616T094500
DTEND;TZID=Australia/Adelaide:20240616T104500
DTSTAMP:20260425T133338
CREATED:20240125T054018Z
LAST-MODIFIED:20240419T080926Z
UID:15137-1718531100-1718534700@barossanorth-parish.lutheran.org.au
SUMMARY:God's Kids
DESCRIPTION:Sunday School Program @ Dutton
URL:https://barossanorth-parish.lutheran.org.au/event/gods-kids-8-2024-06-02/
LOCATION:St John’s Lutheran Church\, Dutton\, 24 Rice Street\, Dutton\, SA\, 5356\, Australia
CATEGORIES:Children,Family
GEO:-34.3613829;139.1467776
X-APPLE-STRUCTURED-LOCATION;VALUE=URI;X-ADDRESS=St John’s Lutheran Church Dutton 24 Rice Street Dutton SA 5356 Australia;X-APPLE-RADIUS=500;X-TITLE=24 Rice Street:geo:139.1467776,-34.3613829
END:VEVENT
BEGIN:VEVENT
DTSTART;TZID=Australia/Adelaide:20240602T090000
DTEND;TZID=Australia/Adelaide:20240602T103000
DTSTAMP:20260425T133338
CREATED:20240419T074226Z
LAST-MODIFIED:20240419T074226Z
UID:15485-1717318800-1717324200@barossanorth-parish.lutheran.org.au
SUMMARY:Worship Service - Pastor Damien
DESCRIPTION:At Dutton with HC
URL:https://barossanorth-parish.lutheran.org.au/event/worship-service-pastor-damien-279/
LOCATION:St John’s Lutheran Church\, Dutton\, 24 Rice Street\, Dutton\, SA\, 5356\, Australia
CATEGORIES:Worship
GEO:-34.3613829;139.1467776
X-APPLE-STRUCTURED-LOCATION;VALUE=URI;X-ADDRESS=St John’s Lutheran Church Dutton 24 Rice Street Dutton SA 5356 Australia;X-APPLE-RADIUS=500;X-TITLE=24 Rice Street:geo:139.1467776,-34.3613829
END:VEVENT
BEGIN:VEVENT
DTSTART;TZID=Australia/Adelaide:20240519T090000
DTEND;TZID=Australia/Adelaide:20240519T103000
DTSTAMP:20260425T133338
CREATED:20240417T055516Z
LAST-MODIFIED:20240417T055516Z
UID:15454-1716109200-1716114600@barossanorth-parish.lutheran.org.au
SUMMARY:Worship Service - Pastor Paul Lohe
DESCRIPTION:At Dutton with HC
URL:https://barossanorth-parish.lutheran.org.au/event/worship-service-pastor-paul-lohe-5/
LOCATION:St John’s Lutheran Church\, Dutton\, 24 Rice Street\, Dutton\, SA\, 5356\, Australia
CATEGORIES:Worship
GEO:-34.3613829;139.1467776
X-APPLE-STRUCTURED-LOCATION;VALUE=URI;X-ADDRESS=St John’s Lutheran Church Dutton 24 Rice Street Dutton SA 5356 Australia;X-APPLE-RADIUS=500;X-TITLE=24 Rice Street:geo:139.1467776,-34.3613829
END:VEVENT
BEGIN:VEVENT
DTSTART;TZID=Australia/Adelaide:20240421T090000
DTEND;TZID=Australia/Adelaide:20240421T103000
DTSTAMP:20260425T133338
CREATED:20240213T042702Z
LAST-MODIFIED:20240213T042702Z
UID:15264-1713690000-1713695400@barossanorth-parish.lutheran.org.au
SUMMARY:Worship Service - Pastor Paul Lohe
DESCRIPTION:At Dutton with HC
URL:https://barossanorth-parish.lutheran.org.au/event/worship-service-pastor-paul-lohe-4/
LOCATION:St John’s Lutheran Church\, Dutton\, 24 Rice Street\, Dutton\, SA\, 5356\, Australia
CATEGORIES:Worship
GEO:-34.3613829;139.1467776
X-APPLE-STRUCTURED-LOCATION;VALUE=URI;X-ADDRESS=St John’s Lutheran Church Dutton 24 Rice Street Dutton SA 5356 Australia;X-APPLE-RADIUS=500;X-TITLE=24 Rice Street:geo:139.1467776,-34.3613829
END:VEVENT
BEGIN:VEVENT
DTSTART;TZID=Australia/Adelaide:20240407T103000
DTEND;TZID=Australia/Adelaide:20240407T120000
DTSTAMP:20260425T133338
CREATED:20240209T010831Z
LAST-MODIFIED:20240404T054652Z
UID:15243-1712485800-1712491200@barossanorth-parish.lutheran.org.au
SUMMARY:Worship Service - Pastor Paul Lohe
DESCRIPTION:At Dutton with HC with Stockwell visiting
URL:https://barossanorth-parish.lutheran.org.au/event/worship-service-pastor-damien-265/
LOCATION:St John’s Lutheran Church\, Dutton\, 24 Rice Street\, Dutton\, SA\, 5356\, Australia
CATEGORIES:Worship
GEO:-34.3613829;139.1467776
X-APPLE-STRUCTURED-LOCATION;VALUE=URI;X-ADDRESS=St John’s Lutheran Church Dutton 24 Rice Street Dutton SA 5356 Australia;X-APPLE-RADIUS=500;X-TITLE=24 Rice Street:geo:139.1467776,-34.3613829
END:VEVENT
BEGIN:VEVENT
DTSTART;TZID=Australia/Adelaide:20240407T094500
DTEND;TZID=Australia/Adelaide:20240407T104500
DTSTAMP:20260425T133338
CREATED:20240125T054018Z
LAST-MODIFIED:20240125T054018Z
UID:15135-1712483100-1712486700@barossanorth-parish.lutheran.org.au
SUMMARY:God's Kids
DESCRIPTION:Sunday School Program @ Dutton
URL:https://barossanorth-parish.lutheran.org.au/event/gods-kids-8/2024-04-07/
LOCATION:St John’s Lutheran Church\, Dutton\, 24 Rice Street\, Dutton\, SA\, 5356\, Australia
CATEGORIES:Children,Family
GEO:-34.3613829;139.1467776
X-APPLE-STRUCTURED-LOCATION;VALUE=URI;X-ADDRESS=St John’s Lutheran Church Dutton 24 Rice Street Dutton SA 5356 Australia;X-APPLE-RADIUS=500;X-TITLE=24 Rice Street:geo:139.1467776,-34.3613829
END:VEVENT
BEGIN:VEVENT
DTSTART;TZID=Australia/Adelaide:20240329T090000
DTEND;TZID=Australia/Adelaide:20240329T100000
DTSTAMP:20260425T133338
CREATED:20240209T004541Z
LAST-MODIFIED:20240209T004541Z
UID:15231-1711702800-1711706400@barossanorth-parish.lutheran.org.au
SUMMARY:Good Friday Worship Service - Pastor Damien
DESCRIPTION:At Dutton
URL:https://barossanorth-parish.lutheran.org.au/event/good-friday-worship-service-pastor-damien-8/
LOCATION:St John’s Lutheran Church\, Dutton\, 24 Rice Street\, Dutton\, SA\, 5356\, Australia
CATEGORIES:Worship
GEO:-34.3613829;139.1467776
X-APPLE-STRUCTURED-LOCATION;VALUE=URI;X-ADDRESS=St John’s Lutheran Church Dutton 24 Rice Street Dutton SA 5356 Australia;X-APPLE-RADIUS=500;X-TITLE=24 Rice Street:geo:139.1467776,-34.3613829
END:VEVENT
BEGIN:VEVENT
DTSTART;TZID=Australia/Adelaide:20240317T103000
DTEND;TZID=Australia/Adelaide:20240317T120000
DTSTAMP:20260425T133338
CREATED:20240130T044047Z
LAST-MODIFIED:20240130T044047Z
UID:15192-1710671400-1710676800@barossanorth-parish.lutheran.org.au
SUMMARY:Worship Service - Pastor Paul Lohe
DESCRIPTION:At Dutton with HC
URL:https://barossanorth-parish.lutheran.org.au/event/worship-service-pastor-paul-lohe-3/
LOCATION:St John’s Lutheran Church\, Dutton\, 24 Rice Street\, Dutton\, SA\, 5356\, Australia
CATEGORIES:Worship
GEO:-34.3613829;139.1467776
X-APPLE-STRUCTURED-LOCATION;VALUE=URI;X-ADDRESS=St John’s Lutheran Church Dutton 24 Rice Street Dutton SA 5356 Australia;X-APPLE-RADIUS=500;X-TITLE=24 Rice Street:geo:139.1467776,-34.3613829
END:VEVENT
BEGIN:VEVENT
DTSTART;TZID=Australia/Adelaide:20240313T193000
DTEND;TZID=Australia/Adelaide:20240313T203000
DTSTAMP:20260425T133338
CREATED:20240206T041958Z
LAST-MODIFIED:20240206T041958Z
UID:15202-1710358200-1710361800@barossanorth-parish.lutheran.org.au
SUMMARY:Mid Week Lenten Service
DESCRIPTION:At Dutton with Pastor Wally Schiller
URL:https://barossanorth-parish.lutheran.org.au/event/mid-week-lenten-service-8/
LOCATION:St John’s Lutheran Church\, Dutton\, 24 Rice Street\, Dutton\, SA\, 5356\, Australia
CATEGORIES:Worship
GEO:-34.3613829;139.1467776
X-APPLE-STRUCTURED-LOCATION;VALUE=URI;X-ADDRESS=St John’s Lutheran Church Dutton 24 Rice Street Dutton SA 5356 Australia;X-APPLE-RADIUS=500;X-TITLE=24 Rice Street:geo:139.1467776,-34.3613829
END:VEVENT
BEGIN:VEVENT
DTSTART;TZID=Australia/Adelaide:20240303T094500
DTEND;TZID=Australia/Adelaide:20240303T104500
DTSTAMP:20260425T133338
CREATED:20240125T054018Z
LAST-MODIFIED:20240125T054018Z
UID:15134-1709459100-1709462700@barossanorth-parish.lutheran.org.au
SUMMARY:God's Kids
DESCRIPTION:Sunday School Program @ Dutton
URL:https://barossanorth-parish.lutheran.org.au/event/gods-kids-8/2024-03-03/
LOCATION:St John’s Lutheran Church\, Dutton\, 24 Rice Street\, Dutton\, SA\, 5356\, Australia
CATEGORIES:Children,Family
GEO:-34.3613829;139.1467776
X-APPLE-STRUCTURED-LOCATION;VALUE=URI;X-ADDRESS=St John’s Lutheran Church Dutton 24 Rice Street Dutton SA 5356 Australia;X-APPLE-RADIUS=500;X-TITLE=24 Rice Street:geo:139.1467776,-34.3613829
END:VEVENT
END:VCALENDAR