BEGIN:VCALENDAR
VERSION:2.0
PRODID:-//Barossa North Parish SA - ECPv6.15.12.2//NONSGML v1.0//EN
CALSCALE:GREGORIAN
METHOD:PUBLISH
X-ORIGINAL-URL:https://barossanorth-parish.lutheran.org.au
X-WR-CALDESC:Events for Barossa North Parish SA
REFRESH-INTERVAL;VALUE=DURATION:PT1H
X-Robots-Tag:noindex
X-PUBLISHED-TTL:PT1H
BEGIN:VTIMEZONE
TZID:Australia/Adelaide
BEGIN:STANDARD
TZOFFSETFROM:+1030
TZOFFSETTO:+0930
TZNAME:ACST
DTSTART:20210403T163000
END:STANDARD
BEGIN:DAYLIGHT
TZOFFSETFROM:+0930
TZOFFSETTO:+1030
TZNAME:ACDT
DTSTART:20211002T163000
END:DAYLIGHT
BEGIN:STANDARD
TZOFFSETFROM:+1030
TZOFFSETTO:+0930
TZNAME:ACST
DTSTART:20220402T163000
END:STANDARD
BEGIN:DAYLIGHT
TZOFFSETFROM:+0930
TZOFFSETTO:+1030
TZNAME:ACDT
DTSTART:20221001T163000
END:DAYLIGHT
BEGIN:STANDARD
TZOFFSETFROM:+1030
TZOFFSETTO:+0930
TZNAME:ACST
DTSTART:20230401T163000
END:STANDARD
BEGIN:DAYLIGHT
TZOFFSETFROM:+0930
TZOFFSETTO:+1030
TZNAME:ACDT
DTSTART:20230930T163000
END:DAYLIGHT
BEGIN:STANDARD
TZOFFSETFROM:+1030
TZOFFSETTO:+0930
TZNAME:ACST
DTSTART:20240406T163000
END:STANDARD
BEGIN:DAYLIGHT
TZOFFSETFROM:+0930
TZOFFSETTO:+1030
TZNAME:ACDT
DTSTART:20241005T163000
END:DAYLIGHT
END:VTIMEZONE
BEGIN:VEVENT
DTSTART;TZID=Australia/Adelaide:20230820T090000
DTEND;TZID=Australia/Adelaide:20230820T103000
DTSTAMP:20260425T223812
CREATED:20230810T064148Z
LAST-MODIFIED:20230810T064148Z
UID:14475-1692522000-1692527400@barossanorth-parish.lutheran.org.au
SUMMARY:Worship Service - Pastor Damien
DESCRIPTION:At Dutton with HC
URL:https://barossanorth-parish.lutheran.org.au/event/worship-service-pastor-damien-233/
LOCATION:St John’s Lutheran Church\, Dutton\, 24 Rice Street\, Dutton\, SA\, 5356\, Australia
CATEGORIES:Worship
GEO:-34.3613829;139.1467776
X-APPLE-STRUCTURED-LOCATION;VALUE=URI;X-ADDRESS=St John’s Lutheran Church Dutton 24 Rice Street Dutton SA 5356 Australia;X-APPLE-RADIUS=500;X-TITLE=24 Rice Street:geo:139.1467776,-34.3613829
END:VEVENT
BEGIN:VEVENT
DTSTART;TZID=Australia/Adelaide:20230806T103000
DTEND;TZID=Australia/Adelaide:20230806T123000
DTSTAMP:20260425T223812
CREATED:20230727T064325Z
LAST-MODIFIED:20230727T064325Z
UID:14429-1691317800-1691325000@barossanorth-parish.lutheran.org.au
SUMMARY:Worship Service - Pastor Lohe
DESCRIPTION:Dutton with HC
URL:https://barossanorth-parish.lutheran.org.au/event/worship-service-pastor-lohe/
LOCATION:St John’s Lutheran Church\, Dutton\, 24 Rice Street\, Dutton\, SA\, 5356\, Australia
CATEGORIES:Worship
GEO:-34.3613829;139.1467776
X-APPLE-STRUCTURED-LOCATION;VALUE=URI;X-ADDRESS=St John’s Lutheran Church Dutton 24 Rice Street Dutton SA 5356 Australia;X-APPLE-RADIUS=500;X-TITLE=24 Rice Street:geo:139.1467776,-34.3613829
END:VEVENT
BEGIN:VEVENT
DTSTART;TZID=Australia/Adelaide:20230806T094500
DTEND;TZID=Australia/Adelaide:20230806T104500
DTSTAMP:20260425T223812
CREATED:20230127T033643Z
LAST-MODIFIED:20230127T033643Z
UID:13585-1691315100-1691318700@barossanorth-parish.lutheran.org.au
SUMMARY:God's Kids
DESCRIPTION:Sunday School Program @ Dutton
URL:https://barossanorth-parish.lutheran.org.au/event/gods-kids-7/2023-08-06/
LOCATION:St John’s Lutheran Church\, Dutton\, 24 Rice Street\, Dutton\, SA\, 5356\, Australia
CATEGORIES:Children,Fellowship
GEO:-34.3613829;139.1467776
X-APPLE-STRUCTURED-LOCATION;VALUE=URI;X-ADDRESS=St John’s Lutheran Church Dutton 24 Rice Street Dutton SA 5356 Australia;X-APPLE-RADIUS=500;X-TITLE=24 Rice Street:geo:139.1467776,-34.3613829
END:VEVENT
BEGIN:VEVENT
DTSTART;TZID=Australia/Adelaide:20230716T090000
DTEND;TZID=Australia/Adelaide:20230716T103000
DTSTAMP:20260425T223812
CREATED:20230706T061146Z
LAST-MODIFIED:20230706T061146Z
UID:14341-1689498000-1689503400@barossanorth-parish.lutheran.org.au
SUMMARY:Worship Service - Pastor Mathew
DESCRIPTION:Dutton with HC
URL:https://barossanorth-parish.lutheran.org.au/event/worship-service-pastor-mathew-235/
LOCATION:St John’s Lutheran Church\, Dutton\, 24 Rice Street\, Dutton\, SA\, 5356\, Australia
CATEGORIES:Worship
GEO:-34.3613829;139.1467776
X-APPLE-STRUCTURED-LOCATION;VALUE=URI;X-ADDRESS=St John’s Lutheran Church Dutton 24 Rice Street Dutton SA 5356 Australia;X-APPLE-RADIUS=500;X-TITLE=24 Rice Street:geo:139.1467776,-34.3613829
END:VEVENT
BEGIN:VEVENT
DTSTART;TZID=Australia/Adelaide:20230702T103000
DTEND;TZID=Australia/Adelaide:20230702T120000
DTSTAMP:20260425T223812
CREATED:20230621T030127Z
LAST-MODIFIED:20230621T030127Z
UID:14268-1688293800-1688299200@barossanorth-parish.lutheran.org.au
SUMMARY:Worship Service - Pastor Damien
DESCRIPTION:Dutton with HC
URL:https://barossanorth-parish.lutheran.org.au/event/worship-service-pastor-damien-221/
LOCATION:St John’s Lutheran Church\, Dutton\, 24 Rice Street\, Dutton\, SA\, 5356\, Australia
CATEGORIES:Worship
GEO:-34.3613829;139.1467776
X-APPLE-STRUCTURED-LOCATION;VALUE=URI;X-ADDRESS=St John’s Lutheran Church Dutton 24 Rice Street Dutton SA 5356 Australia;X-APPLE-RADIUS=500;X-TITLE=24 Rice Street:geo:139.1467776,-34.3613829
END:VEVENT
BEGIN:VEVENT
DTSTART;TZID=Australia/Adelaide:20230702T094500
DTEND;TZID=Australia/Adelaide:20230702T104500
DTSTAMP:20260425T223812
CREATED:20230127T033643Z
LAST-MODIFIED:20230127T033643Z
UID:13584-1688291100-1688294700@barossanorth-parish.lutheran.org.au
SUMMARY:God's Kids
DESCRIPTION:Sunday School Program @ Dutton
URL:https://barossanorth-parish.lutheran.org.au/event/gods-kids-7/2023-07-02/
LOCATION:St John’s Lutheran Church\, Dutton\, 24 Rice Street\, Dutton\, SA\, 5356\, Australia
CATEGORIES:Children,Fellowship
GEO:-34.3613829;139.1467776
X-APPLE-STRUCTURED-LOCATION;VALUE=URI;X-ADDRESS=St John’s Lutheran Church Dutton 24 Rice Street Dutton SA 5356 Australia;X-APPLE-RADIUS=500;X-TITLE=24 Rice Street:geo:139.1467776,-34.3613829
END:VEVENT
BEGIN:VEVENT
DTSTART;TZID=Australia/Adelaide:20230618T090000
DTEND;TZID=Australia/Adelaide:20230618T103000
DTSTAMP:20260425T223812
CREATED:20230413T063320Z
LAST-MODIFIED:20230413T063320Z
UID:14072-1687078800-1687084200@barossanorth-parish.lutheran.org.au
SUMMARY:Worship Service - Pastor Damien
DESCRIPTION:Dutton
URL:https://barossanorth-parish.lutheran.org.au/event/worship-service-pastor-damien-217/
LOCATION:St John’s Lutheran Church\, Dutton\, 24 Rice Street\, Dutton\, SA\, 5356\, Australia
CATEGORIES:Worship
GEO:-34.3613829;139.1467776
X-APPLE-STRUCTURED-LOCATION;VALUE=URI;X-ADDRESS=St John’s Lutheran Church Dutton 24 Rice Street Dutton SA 5356 Australia;X-APPLE-RADIUS=500;X-TITLE=24 Rice Street:geo:139.1467776,-34.3613829
END:VEVENT
BEGIN:VEVENT
DTSTART;TZID=Australia/Adelaide:20230604T103000
DTEND;TZID=Australia/Adelaide:20230604T120000
DTSTAMP:20260425T223812
CREATED:20230413T050637Z
LAST-MODIFIED:20230413T050637Z
UID:14031-1685874600-1685880000@barossanorth-parish.lutheran.org.au
SUMMARY:Worship Service - Pastor Mathew
DESCRIPTION:Dutton
URL:https://barossanorth-parish.lutheran.org.au/event/worship-service-pastor-mathew-225/
LOCATION:St John’s Lutheran Church\, Dutton\, 24 Rice Street\, Dutton\, SA\, 5356\, Australia
CATEGORIES:Worship
GEO:-34.3613829;139.1467776
X-APPLE-STRUCTURED-LOCATION;VALUE=URI;X-ADDRESS=St John’s Lutheran Church Dutton 24 Rice Street Dutton SA 5356 Australia;X-APPLE-RADIUS=500;X-TITLE=24 Rice Street:geo:139.1467776,-34.3613829
END:VEVENT
BEGIN:VEVENT
DTSTART;TZID=Australia/Adelaide:20230604T094500
DTEND;TZID=Australia/Adelaide:20230604T104500
DTSTAMP:20260425T223812
CREATED:20230127T033643Z
LAST-MODIFIED:20230127T033643Z
UID:13583-1685871900-1685875500@barossanorth-parish.lutheran.org.au
SUMMARY:God's Kids
DESCRIPTION:Sunday School Program @ Dutton
URL:https://barossanorth-parish.lutheran.org.au/event/gods-kids-7/2023-06-04/
LOCATION:St John’s Lutheran Church\, Dutton\, 24 Rice Street\, Dutton\, SA\, 5356\, Australia
CATEGORIES:Children,Fellowship
GEO:-34.3613829;139.1467776
X-APPLE-STRUCTURED-LOCATION;VALUE=URI;X-ADDRESS=St John’s Lutheran Church Dutton 24 Rice Street Dutton SA 5356 Australia;X-APPLE-RADIUS=500;X-TITLE=24 Rice Street:geo:139.1467776,-34.3613829
END:VEVENT
BEGIN:VEVENT
DTSTART;TZID=Australia/Adelaide:20230507T103000
DTEND;TZID=Australia/Adelaide:20230507T120000
DTSTAMP:20260425T223812
CREATED:20230308T025917Z
LAST-MODIFIED:20230316T023417Z
UID:13912-1683455400-1683460800@barossanorth-parish.lutheran.org.au
SUMMARY:Worship Service - Layreading
DESCRIPTION:Dutton
URL:https://barossanorth-parish.lutheran.org.au/event/worship-service-18/
LOCATION:St John’s Lutheran Church\, Dutton\, 24 Rice Street\, Dutton\, SA\, 5356\, Australia
CATEGORIES:Worship
GEO:-34.3613829;139.1467776
X-APPLE-STRUCTURED-LOCATION;VALUE=URI;X-ADDRESS=St John’s Lutheran Church Dutton 24 Rice Street Dutton SA 5356 Australia;X-APPLE-RADIUS=500;X-TITLE=24 Rice Street:geo:139.1467776,-34.3613829
END:VEVENT
BEGIN:VEVENT
DTSTART;TZID=Australia/Adelaide:20230507T094500
DTEND;TZID=Australia/Adelaide:20230507T104500
DTSTAMP:20260425T223812
CREATED:20230127T033643Z
LAST-MODIFIED:20230127T033643Z
UID:13582-1683452700-1683456300@barossanorth-parish.lutheran.org.au
SUMMARY:God's Kids
DESCRIPTION:Sunday School Program @ Dutton
URL:https://barossanorth-parish.lutheran.org.au/event/gods-kids-7/2023-05-07/
LOCATION:St John’s Lutheran Church\, Dutton\, 24 Rice Street\, Dutton\, SA\, 5356\, Australia
CATEGORIES:Children,Fellowship
GEO:-34.3613829;139.1467776
X-APPLE-STRUCTURED-LOCATION;VALUE=URI;X-ADDRESS=St John’s Lutheran Church Dutton 24 Rice Street Dutton SA 5356 Australia;X-APPLE-RADIUS=500;X-TITLE=24 Rice Street:geo:139.1467776,-34.3613829
END:VEVENT
BEGIN:VEVENT
DTSTART;TZID=Australia/Adelaide:20230416T090000
DTEND;TZID=Australia/Adelaide:20230416T103000
DTSTAMP:20260425T223812
CREATED:20230308T023314Z
LAST-MODIFIED:20230308T023314Z
UID:13886-1681635600-1681641000@barossanorth-parish.lutheran.org.au
SUMMARY:Worship Service - Pastor Damien
DESCRIPTION:Dutton
URL:https://barossanorth-parish.lutheran.org.au/event/worship-service-pastor-damien-205/
LOCATION:St John’s Lutheran Church\, Dutton\, 24 Rice Street\, Dutton\, SA\, 5356\, Australia
CATEGORIES:Worship
GEO:-34.3613829;139.1467776
X-APPLE-STRUCTURED-LOCATION;VALUE=URI;X-ADDRESS=St John’s Lutheran Church Dutton 24 Rice Street Dutton SA 5356 Australia;X-APPLE-RADIUS=500;X-TITLE=24 Rice Street:geo:139.1467776,-34.3613829
END:VEVENT
BEGIN:VEVENT
DTSTART;TZID=Australia/Adelaide:20230409T073000
DTEND;TZID=Australia/Adelaide:20230409T090000
DTSTAMP:20260425T223812
CREATED:20230308T021200Z
LAST-MODIFIED:20230308T021200Z
UID:13870-1681025400-1681030800@barossanorth-parish.lutheran.org.au
SUMMARY:Easter Sunday Worship Service - Pastor Mathew
DESCRIPTION:Dutton
URL:https://barossanorth-parish.lutheran.org.au/event/easter-sunday-worship-service-pastor-mathew-7/
LOCATION:St John’s Lutheran Church\, Dutton\, 24 Rice Street\, Dutton\, SA\, 5356\, Australia
CATEGORIES:Worship
GEO:-34.3613829;139.1467776
X-APPLE-STRUCTURED-LOCATION;VALUE=URI;X-ADDRESS=St John’s Lutheran Church Dutton 24 Rice Street Dutton SA 5356 Australia;X-APPLE-RADIUS=500;X-TITLE=24 Rice Street:geo:139.1467776,-34.3613829
END:VEVENT
BEGIN:VEVENT
DTSTART;TZID=Australia/Adelaide:20230402T103000
DTEND;TZID=Australia/Adelaide:20230402T120000
DTSTAMP:20260425T223812
CREATED:20230302T054326Z
LAST-MODIFIED:20230302T054326Z
UID:13816-1680431400-1680436800@barossanorth-parish.lutheran.org.au
SUMMARY:Palm Sunday Worship Service - Pastor Mathew
DESCRIPTION:Dutton
URL:https://barossanorth-parish.lutheran.org.au/event/palm-sunday-worship-service-pastor-mathew-5/
LOCATION:St John’s Lutheran Church\, Dutton\, 24 Rice Street\, Dutton\, SA\, 5356\, Australia
CATEGORIES:Worship
GEO:-34.3613829;139.1467776
X-APPLE-STRUCTURED-LOCATION;VALUE=URI;X-ADDRESS=St John’s Lutheran Church Dutton 24 Rice Street Dutton SA 5356 Australia;X-APPLE-RADIUS=500;X-TITLE=24 Rice Street:geo:139.1467776,-34.3613829
END:VEVENT
BEGIN:VEVENT
DTSTART;TZID=Australia/Adelaide:20230402T094500
DTEND;TZID=Australia/Adelaide:20230402T104500
DTSTAMP:20260425T223812
CREATED:20230127T033643Z
LAST-MODIFIED:20230127T033643Z
UID:13581-1680428700-1680432300@barossanorth-parish.lutheran.org.au
SUMMARY:God's Kids
DESCRIPTION:Sunday School Program @ Dutton
URL:https://barossanorth-parish.lutheran.org.au/event/gods-kids-7/2023-04-02/
LOCATION:St John’s Lutheran Church\, Dutton\, 24 Rice Street\, Dutton\, SA\, 5356\, Australia
CATEGORIES:Children,Fellowship
GEO:-34.3613829;139.1467776
X-APPLE-STRUCTURED-LOCATION;VALUE=URI;X-ADDRESS=St John’s Lutheran Church Dutton 24 Rice Street Dutton SA 5356 Australia;X-APPLE-RADIUS=500;X-TITLE=24 Rice Street:geo:139.1467776,-34.3613829
END:VEVENT
BEGIN:VEVENT
DTSTART;TZID=Australia/Adelaide:20230319T090000
DTEND;TZID=Australia/Adelaide:20230319T103000
DTSTAMP:20260425T223812
CREATED:20230223T054425Z
LAST-MODIFIED:20230223T054425Z
UID:13793-1679216400-1679221800@barossanorth-parish.lutheran.org.au
SUMMARY:Worship Service - Pastor Damien
DESCRIPTION:Dutton
URL:https://barossanorth-parish.lutheran.org.au/event/worship-service-pastor-damien-201/
LOCATION:St John’s Lutheran Church\, Dutton\, 24 Rice Street\, Dutton\, SA\, 5356\, Australia
CATEGORIES:Worship
GEO:-34.3613829;139.1467776
X-APPLE-STRUCTURED-LOCATION;VALUE=URI;X-ADDRESS=St John’s Lutheran Church Dutton 24 Rice Street Dutton SA 5356 Australia;X-APPLE-RADIUS=500;X-TITLE=24 Rice Street:geo:139.1467776,-34.3613829
END:VEVENT
BEGIN:VEVENT
DTSTART;TZID=Australia/Adelaide:20230305T094500
DTEND;TZID=Australia/Adelaide:20230305T104500
DTSTAMP:20260425T223812
CREATED:20230127T033643Z
LAST-MODIFIED:20230127T033643Z
UID:13580-1678009500-1678013100@barossanorth-parish.lutheran.org.au
SUMMARY:God's Kids
DESCRIPTION:Sunday School Program @ Dutton
URL:https://barossanorth-parish.lutheran.org.au/event/gods-kids-7/2023-03-05/
LOCATION:St John’s Lutheran Church\, Dutton\, 24 Rice Street\, Dutton\, SA\, 5356\, Australia
CATEGORIES:Children,Fellowship
GEO:-34.3613829;139.1467776
X-APPLE-STRUCTURED-LOCATION;VALUE=URI;X-ADDRESS=St John’s Lutheran Church Dutton 24 Rice Street Dutton SA 5356 Australia;X-APPLE-RADIUS=500;X-TITLE=24 Rice Street:geo:139.1467776,-34.3613829
END:VEVENT
BEGIN:VEVENT
DTSTART;TZID=Australia/Adelaide:20230305T090000
DTEND;TZID=Australia/Adelaide:20230305T103000
DTSTAMP:20260425T223812
CREATED:20230215T012805Z
LAST-MODIFIED:20230215T012805Z
UID:13699-1678006800-1678012200@barossanorth-parish.lutheran.org.au
SUMMARY:Worship Service - Pastor Mathew
DESCRIPTION:Dutton
URL:https://barossanorth-parish.lutheran.org.au/event/worship-service-pastor-mathew-207/
LOCATION:St John’s Lutheran Church\, Dutton\, 24 Rice Street\, Dutton\, SA\, 5356\, Australia
CATEGORIES:Worship
GEO:-34.3613829;139.1467776
X-APPLE-STRUCTURED-LOCATION;VALUE=URI;X-ADDRESS=St John’s Lutheran Church Dutton 24 Rice Street Dutton SA 5356 Australia;X-APPLE-RADIUS=500;X-TITLE=24 Rice Street:geo:139.1467776,-34.3613829
END:VEVENT
BEGIN:VEVENT
DTSTART;TZID=Australia/Adelaide:20230301T193000
DTEND;TZID=Australia/Adelaide:20230301T203000
DTSTAMP:20260425T223812
CREATED:20230201T041954Z
LAST-MODIFIED:20230215T010423Z
UID:13634-1677699000-1677702600@barossanorth-parish.lutheran.org.au
SUMMARY:Mid Week Lenten Service - Pastor Damien Martin
DESCRIPTION:Dutton
URL:https://barossanorth-parish.lutheran.org.au/event/mid-week-lenten-service-pastor-damien-martin-2/
LOCATION:St John’s Lutheran Church\, Dutton\, 24 Rice Street\, Dutton\, SA\, 5356\, Australia
CATEGORIES:Worship
GEO:-34.3613829;139.1467776
X-APPLE-STRUCTURED-LOCATION;VALUE=URI;X-ADDRESS=St John’s Lutheran Church Dutton 24 Rice Street Dutton SA 5356 Australia;X-APPLE-RADIUS=500;X-TITLE=24 Rice Street:geo:139.1467776,-34.3613829
END:VEVENT
BEGIN:VEVENT
DTSTART;TZID=Australia/Adelaide:20230219T090000
DTEND;TZID=Australia/Adelaide:20230219T100000
DTSTAMP:20260425T223812
CREATED:20230113T015812Z
LAST-MODIFIED:20230202T052534Z
UID:13467-1676797200-1676800800@barossanorth-parish.lutheran.org.au
SUMMARY:Worship Service - Layreading
DESCRIPTION:Dutton
URL:https://barossanorth-parish.lutheran.org.au/event/worship-service-layreading-175/
LOCATION:St John’s Lutheran Church\, Dutton\, 24 Rice Street\, Dutton\, SA\, 5356\, Australia
CATEGORIES:Community,Family,Fellowship
GEO:-34.3613829;139.1467776
X-APPLE-STRUCTURED-LOCATION;VALUE=URI;X-ADDRESS=St John’s Lutheran Church Dutton 24 Rice Street Dutton SA 5356 Australia;X-APPLE-RADIUS=500;X-TITLE=24 Rice Street:geo:139.1467776,-34.3613829
END:VEVENT
BEGIN:VEVENT
DTSTART;VALUE=DATE:20230219
DTEND;VALUE=DATE:20230220
DTSTAMP:20260425T223812
CREATED:20230113T020505Z
LAST-MODIFIED:20230113T020505Z
UID:13477-1676764800-1676851199@barossanorth-parish.lutheran.org.au
SUMMARY:AGM - Dutton
DESCRIPTION:Dutton
URL:https://barossanorth-parish.lutheran.org.au/event/agm-dutton-2/
LOCATION:St John’s Lutheran Church\, Dutton\, 24 Rice Street\, Dutton\, SA\, 5356\, Australia
CATEGORIES:Meeting
GEO:-34.3613829;139.1467776
X-APPLE-STRUCTURED-LOCATION;VALUE=URI;X-ADDRESS=St John’s Lutheran Church Dutton 24 Rice Street Dutton SA 5356 Australia;X-APPLE-RADIUS=500;X-TITLE=24 Rice Street:geo:139.1467776,-34.3613829
END:VEVENT
BEGIN:VEVENT
DTSTART;TZID=Australia/Adelaide:20230205T103000
DTEND;TZID=Australia/Adelaide:20230205T120000
DTSTAMP:20260425T223812
CREATED:20230113T013914Z
LAST-MODIFIED:20230113T013914Z
UID:13445-1675593000-1675598400@barossanorth-parish.lutheran.org.au
SUMMARY:Harvest Thanksgiving Service - Pastor Damien
DESCRIPTION:Dutton
URL:https://barossanorth-parish.lutheran.org.au/event/harvest-thanksgiving-service-pastor-damien-8/
LOCATION:St John’s Lutheran Church\, Dutton\, 24 Rice Street\, Dutton\, SA\, 5356\, Australia
CATEGORIES:Worship
GEO:-34.3613829;139.1467776
X-APPLE-STRUCTURED-LOCATION;VALUE=URI;X-ADDRESS=St John’s Lutheran Church Dutton 24 Rice Street Dutton SA 5356 Australia;X-APPLE-RADIUS=500;X-TITLE=24 Rice Street:geo:139.1467776,-34.3613829
END:VEVENT
BEGIN:VEVENT
DTSTART;TZID=Australia/Adelaide:20230205T094500
DTEND;TZID=Australia/Adelaide:20230205T104500
DTSTAMP:20260425T223812
CREATED:20230127T033643Z
LAST-MODIFIED:20230127T033643Z
UID:13578-1675590300-1675593900@barossanorth-parish.lutheran.org.au
SUMMARY:God's Kids
DESCRIPTION:Sunday School Program @ Dutton
URL:https://barossanorth-parish.lutheran.org.au/event/gods-kids-7/2023-02-05/
LOCATION:St John’s Lutheran Church\, Dutton\, 24 Rice Street\, Dutton\, SA\, 5356\, Australia
CATEGORIES:Children,Fellowship
GEO:-34.3613829;139.1467776
X-APPLE-STRUCTURED-LOCATION;VALUE=URI;X-ADDRESS=St John’s Lutheran Church Dutton 24 Rice Street Dutton SA 5356 Australia;X-APPLE-RADIUS=500;X-TITLE=24 Rice Street:geo:139.1467776,-34.3613829
END:VEVENT
BEGIN:VEVENT
DTSTART;TZID=Australia/Adelaide:20230115T090000
DTEND;TZID=Australia/Adelaide:20230115T103000
DTSTAMP:20260425T223812
CREATED:20221209T080959Z
LAST-MODIFIED:20221209T080959Z
UID:13361-1673773200-1673778600@barossanorth-parish.lutheran.org.au
SUMMARY:Worship Service - Pastor Mathew
DESCRIPTION:Dutton
URL:https://barossanorth-parish.lutheran.org.au/event/worship-service-pastor-mathew-201/
LOCATION:St John’s Lutheran Church\, Dutton\, 24 Rice Street\, Dutton\, SA\, 5356\, Australia
CATEGORIES:Worship
GEO:-34.3613829;139.1467776
X-APPLE-STRUCTURED-LOCATION;VALUE=URI;X-ADDRESS=St John’s Lutheran Church Dutton 24 Rice Street Dutton SA 5356 Australia;X-APPLE-RADIUS=500;X-TITLE=24 Rice Street:geo:139.1467776,-34.3613829
END:VEVENT
BEGIN:VEVENT
DTSTART;TZID=Australia/Adelaide:20230101T103000
DTEND;TZID=Australia/Adelaide:20230101T120000
DTSTAMP:20260425T223812
CREATED:20221130T043027Z
LAST-MODIFIED:20221130T043027Z
UID:13319-1672569000-1672574400@barossanorth-parish.lutheran.org.au
SUMMARY:Worship Service - Pastor Damien
DESCRIPTION:Dutton
URL:https://barossanorth-parish.lutheran.org.au/event/worship-service-pastor-damien-187/
LOCATION:St John’s Lutheran Church\, Dutton\, 24 Rice Street\, Dutton\, SA\, 5356\, Australia
CATEGORIES:Worship
GEO:-34.3613829;139.1467776
X-APPLE-STRUCTURED-LOCATION;VALUE=URI;X-ADDRESS=St John’s Lutheran Church Dutton 24 Rice Street Dutton SA 5356 Australia;X-APPLE-RADIUS=500;X-TITLE=24 Rice Street:geo:139.1467776,-34.3613829
END:VEVENT
BEGIN:VEVENT
DTSTART;TZID=Australia/Adelaide:20221225T080000
DTEND;TZID=Australia/Adelaide:20221225T090000
DTSTAMP:20260425T223812
CREATED:20221116T030310Z
LAST-MODIFIED:20221116T030310Z
UID:13285-1671955200-1671958800@barossanorth-parish.lutheran.org.au
SUMMARY:Worship Service - Pastor Mathew
DESCRIPTION:Christmas Day Service @ Dutton
URL:https://barossanorth-parish.lutheran.org.au/event/worship-service-pastor-mathew-195/
LOCATION:St John’s Lutheran Church\, Dutton\, 24 Rice Street\, Dutton\, SA\, 5356\, Australia
CATEGORIES:Worship
GEO:-34.3613829;139.1467776
X-APPLE-STRUCTURED-LOCATION;VALUE=URI;X-ADDRESS=St John’s Lutheran Church Dutton 24 Rice Street Dutton SA 5356 Australia;X-APPLE-RADIUS=500;X-TITLE=24 Rice Street:geo:139.1467776,-34.3613829
END:VEVENT
BEGIN:VEVENT
DTSTART;TZID=Australia/Adelaide:20221218T090000
DTEND;TZID=Australia/Adelaide:20221218T103000
DTSTAMP:20260425T223812
CREATED:20221026T041552Z
LAST-MODIFIED:20221026T041552Z
UID:13232-1671354000-1671359400@barossanorth-parish.lutheran.org.au
SUMMARY:Worship Service - Pastor Damien
DESCRIPTION:Dutton
URL:https://barossanorth-parish.lutheran.org.au/event/worship-service-pastor-damien-182/
LOCATION:St John’s Lutheran Church\, Dutton\, 24 Rice Street\, Dutton\, SA\, 5356\, Australia
CATEGORIES:Worship
GEO:-34.3613829;139.1467776
X-APPLE-STRUCTURED-LOCATION;VALUE=URI;X-ADDRESS=St John’s Lutheran Church Dutton 24 Rice Street Dutton SA 5356 Australia;X-APPLE-RADIUS=500;X-TITLE=24 Rice Street:geo:139.1467776,-34.3613829
END:VEVENT
BEGIN:VEVENT
DTSTART;TZID=Australia/Adelaide:20221204T103000
DTEND;TZID=Australia/Adelaide:20221204T120000
DTSTAMP:20260425T223812
CREATED:20221020T022950Z
LAST-MODIFIED:20221020T022950Z
UID:13195-1670149800-1670155200@barossanorth-parish.lutheran.org.au
SUMMARY:Worship Service - Pastor Mathew
DESCRIPTION:Dutton \nCombined with Truro & Stockwell
URL:https://barossanorth-parish.lutheran.org.au/event/worship-service-pastor-mathew-188/
LOCATION:St John’s Lutheran Church\, Dutton\, 24 Rice Street\, Dutton\, SA\, 5356\, Australia
CATEGORIES:Worship
GEO:-34.3613829;139.1467776
X-APPLE-STRUCTURED-LOCATION;VALUE=URI;X-ADDRESS=St John’s Lutheran Church Dutton 24 Rice Street Dutton SA 5356 Australia;X-APPLE-RADIUS=500;X-TITLE=24 Rice Street:geo:139.1467776,-34.3613829
END:VEVENT
BEGIN:VEVENT
DTSTART;TZID=Australia/Adelaide:20221204T094500
DTEND;TZID=Australia/Adelaide:20221204T103000
DTSTAMP:20260425T223812
CREATED:20220713T034658Z
LAST-MODIFIED:20220713T034658Z
UID:12770-1670147100-1670149800@barossanorth-parish.lutheran.org.au
SUMMARY:God's Kids
DESCRIPTION:Sunday School Program @ Dutton
URL:https://barossanorth-parish.lutheran.org.au/event/gods-kids-6/
LOCATION:St John’s Lutheran Church\, Dutton\, 24 Rice Street\, Dutton\, SA\, 5356\, Australia
CATEGORIES:Children,Community,Family
GEO:-34.3613829;139.1467776
X-APPLE-STRUCTURED-LOCATION;VALUE=URI;X-ADDRESS=St John’s Lutheran Church Dutton 24 Rice Street Dutton SA 5356 Australia;X-APPLE-RADIUS=500;X-TITLE=24 Rice Street:geo:139.1467776,-34.3613829
END:VEVENT
BEGIN:VEVENT
DTSTART;TZID=Australia/Adelaide:20221120T090000
DTEND;TZID=Australia/Adelaide:20221120T103000
DTSTAMP:20260425T223812
CREATED:20220901T034356Z
LAST-MODIFIED:20220901T034356Z
UID:13053-1668934800-1668940200@barossanorth-parish.lutheran.org.au
SUMMARY:Worship Service - Pastor Mathew
DESCRIPTION:Dutton
URL:https://barossanorth-parish.lutheran.org.au/event/worship-service-pastor-mathew-184/
LOCATION:St John’s Lutheran Church\, Dutton\, 24 Rice Street\, Dutton\, SA\, 5356\, Australia
CATEGORIES:Worship
GEO:-34.3613829;139.1467776
X-APPLE-STRUCTURED-LOCATION;VALUE=URI;X-ADDRESS=St John’s Lutheran Church Dutton 24 Rice Street Dutton SA 5356 Australia;X-APPLE-RADIUS=500;X-TITLE=24 Rice Street:geo:139.1467776,-34.3613829
END:VEVENT
END:VCALENDAR