BEGIN:VCALENDAR
VERSION:2.0
PRODID:-//Barossa North Parish SA - ECPv6.15.12.2//NONSGML v1.0//EN
CALSCALE:GREGORIAN
METHOD:PUBLISH
X-ORIGINAL-URL:https://barossanorth-parish.lutheran.org.au
X-WR-CALDESC:Events for Barossa North Parish SA
REFRESH-INTERVAL;VALUE=DURATION:PT1H
X-Robots-Tag:noindex
X-PUBLISHED-TTL:PT1H
BEGIN:VTIMEZONE
TZID:Australia/Adelaide
BEGIN:STANDARD
TZOFFSETFROM:+1030
TZOFFSETTO:+0930
TZNAME:ACST
DTSTART:20250405T163000
END:STANDARD
BEGIN:DAYLIGHT
TZOFFSETFROM:+0930
TZOFFSETTO:+1030
TZNAME:ACDT
DTSTART:20251004T163000
END:DAYLIGHT
BEGIN:STANDARD
TZOFFSETFROM:+1030
TZOFFSETTO:+0930
TZNAME:ACST
DTSTART:20260404T163000
END:STANDARD
BEGIN:DAYLIGHT
TZOFFSETFROM:+0930
TZOFFSETTO:+1030
TZNAME:ACDT
DTSTART:20261003T163000
END:DAYLIGHT
BEGIN:STANDARD
TZOFFSETFROM:+1030
TZOFFSETTO:+0930
TZNAME:ACST
DTSTART:20270403T163000
END:STANDARD
BEGIN:DAYLIGHT
TZOFFSETFROM:+0930
TZOFFSETTO:+1030
TZNAME:ACDT
DTSTART:20271002T163000
END:DAYLIGHT
END:VTIMEZONE
BEGIN:VEVENT
DTSTART;TZID=Australia/Adelaide:20260517T090000
DTEND;TZID=Australia/Adelaide:20260517T100000
DTSTAMP:20260425T032025
CREATED:20260226T043306Z
LAST-MODIFIED:20260226T043306Z
UID:17927-1779008400-1779012000@barossanorth-parish.lutheran.org.au
SUMMARY:Worship Service - Layreading
DESCRIPTION:At Dutton
URL:https://barossanorth-parish.lutheran.org.au/event/worship-service-layreading-455/
LOCATION:St John’s Lutheran Church\, Dutton\, 24 Rice Street\, Dutton\, SA\, 5356\, Australia
CATEGORIES:Community,Family,Fellowship
GEO:-34.3613829;139.1467776
X-APPLE-STRUCTURED-LOCATION;VALUE=URI;X-ADDRESS=St John’s Lutheran Church Dutton 24 Rice Street Dutton SA 5356 Australia;X-APPLE-RADIUS=500;X-TITLE=24 Rice Street:geo:139.1467776,-34.3613829
END:VEVENT
BEGIN:VEVENT
DTSTART;TZID=Australia/Adelaide:20260531T094500
DTEND;TZID=Australia/Adelaide:20260531T103000
DTSTAMP:20260425T032025
CREATED:20260416T042007Z
LAST-MODIFIED:20260416T042007Z
UID:18144-1780220700-1780223400@barossanorth-parish.lutheran.org.au
SUMMARY:God's Kids
DESCRIPTION:At Dutton
URL:https://barossanorth-parish.lutheran.org.au/event/gods-kids-15/
LOCATION:St John’s Lutheran Church\, Dutton\, 24 Rice Street\, Dutton\, SA\, 5356\, Australia
CATEGORIES:Children,Family
GEO:-34.3613829;139.1467776
X-APPLE-STRUCTURED-LOCATION;VALUE=URI;X-ADDRESS=St John’s Lutheran Church Dutton 24 Rice Street Dutton SA 5356 Australia;X-APPLE-RADIUS=500;X-TITLE=24 Rice Street:geo:139.1467776,-34.3613829
END:VEVENT
BEGIN:VEVENT
DTSTART;TZID=Australia/Adelaide:20260531T103000
DTEND;TZID=Australia/Adelaide:20260531T120000
DTSTAMP:20260425T032025
CREATED:20260226T051011Z
LAST-MODIFIED:20260226T051011Z
UID:17943-1780223400-1780228800@barossanorth-parish.lutheran.org.au
SUMMARY:Worship Service - Pastor Damien
DESCRIPTION:At Dutton with HC with Stockwell visiting
URL:https://barossanorth-parish.lutheran.org.au/event/worship-service-pastor-damien-413/
LOCATION:St John’s Lutheran Church\, Dutton\, 24 Rice Street\, Dutton\, SA\, 5356\, Australia
CATEGORIES:Worship
GEO:-34.3613829;139.1467776
X-APPLE-STRUCTURED-LOCATION;VALUE=URI;X-ADDRESS=St John’s Lutheran Church Dutton 24 Rice Street Dutton SA 5356 Australia;X-APPLE-RADIUS=500;X-TITLE=24 Rice Street:geo:139.1467776,-34.3613829
END:VEVENT
BEGIN:VEVENT
DTSTART;TZID=Australia/Adelaide:20260607T090000
DTEND;TZID=Australia/Adelaide:20260607T103000
DTSTAMP:20260425T032025
CREATED:20260306T072133Z
LAST-MODIFIED:20260306T072133Z
UID:17965-1780822800-1780828200@barossanorth-parish.lutheran.org.au
SUMMARY:Worship Service - Pastor Damien
DESCRIPTION:At Dutton with HC with Stockwell visiting
URL:https://barossanorth-parish.lutheran.org.au/event/worship-service-pastor-damien-415/
LOCATION:St John’s Lutheran Church\, Dutton\, 24 Rice Street\, Dutton\, SA\, 5356\, Australia
CATEGORIES:Worship
GEO:-34.3613829;139.1467776
X-APPLE-STRUCTURED-LOCATION;VALUE=URI;X-ADDRESS=St John’s Lutheran Church Dutton 24 Rice Street Dutton SA 5356 Australia;X-APPLE-RADIUS=500;X-TITLE=24 Rice Street:geo:139.1467776,-34.3613829
END:VEVENT
BEGIN:VEVENT
DTSTART;TZID=Australia/Adelaide:20260621T103000
DTEND;TZID=Australia/Adelaide:20260621T113000
DTSTAMP:20260425T032025
CREATED:20260311T042359Z
LAST-MODIFIED:20260311T042359Z
UID:17983-1782037800-1782041400@barossanorth-parish.lutheran.org.au
SUMMARY:Worship Service - Layreading
DESCRIPTION:At Dutton
URL:https://barossanorth-parish.lutheran.org.au/event/worship-service-layreading-467/
LOCATION:St John’s Lutheran Church\, Dutton\, 24 Rice Street\, Dutton\, SA\, 5356\, Australia
CATEGORIES:Community,Family,Fellowship
GEO:-34.3613829;139.1467776
X-APPLE-STRUCTURED-LOCATION;VALUE=URI;X-ADDRESS=St John’s Lutheran Church Dutton 24 Rice Street Dutton SA 5356 Australia;X-APPLE-RADIUS=500;X-TITLE=24 Rice Street:geo:139.1467776,-34.3613829
END:VEVENT
BEGIN:VEVENT
DTSTART;TZID=Australia/Adelaide:20260705T103000
DTEND;TZID=Australia/Adelaide:20260705T120000
DTSTAMP:20260425T032025
CREATED:20260311T043728Z
LAST-MODIFIED:20260311T043728Z
UID:18004-1783247400-1783252800@barossanorth-parish.lutheran.org.au
SUMMARY:Worship Service - Pastor Damien
DESCRIPTION:At Dutton with HC
URL:https://barossanorth-parish.lutheran.org.au/event/worship-service-pastor-damien-422/
LOCATION:St John’s Lutheran Church\, Dutton\, 24 Rice Street\, Dutton\, SA\, 5356\, Australia
CATEGORIES:Worship
GEO:-34.3613829;139.1467776
X-APPLE-STRUCTURED-LOCATION;VALUE=URI;X-ADDRESS=St John’s Lutheran Church Dutton 24 Rice Street Dutton SA 5356 Australia;X-APPLE-RADIUS=500;X-TITLE=24 Rice Street:geo:139.1467776,-34.3613829
END:VEVENT
BEGIN:VEVENT
DTSTART;TZID=Australia/Adelaide:20260719T090000
DTEND;TZID=Australia/Adelaide:20260719T100000
DTSTAMP:20260425T032025
CREATED:20260312T044155Z
LAST-MODIFIED:20260312T044155Z
UID:18028-1784451600-1784455200@barossanorth-parish.lutheran.org.au
SUMMARY:Worship Service - Layreading
DESCRIPTION:At Dutton
URL:https://barossanorth-parish.lutheran.org.au/event/worship-service-layreading-474/
LOCATION:St John’s Lutheran Church\, Dutton\, 24 Rice Street\, Dutton\, SA\, 5356\, Australia
CATEGORIES:Community,Family,Fellowship
GEO:-34.3613829;139.1467776
X-APPLE-STRUCTURED-LOCATION;VALUE=URI;X-ADDRESS=St John’s Lutheran Church Dutton 24 Rice Street Dutton SA 5356 Australia;X-APPLE-RADIUS=500;X-TITLE=24 Rice Street:geo:139.1467776,-34.3613829
END:VEVENT
END:VCALENDAR