BEGIN:VCALENDAR
VERSION:2.0
PRODID:-//Barossa North Parish SA - ECPv6.15.12.2//NONSGML v1.0//EN
CALSCALE:GREGORIAN
METHOD:PUBLISH
X-ORIGINAL-URL:https://barossanorth-parish.lutheran.org.au
X-WR-CALDESC:Events for Barossa North Parish SA
REFRESH-INTERVAL;VALUE=DURATION:PT1H
X-Robots-Tag:noindex
X-PUBLISHED-TTL:PT1H
BEGIN:VTIMEZONE
TZID:Australia/Adelaide
BEGIN:STANDARD
TZOFFSETFROM:+1030
TZOFFSETTO:+0930
TZNAME:ACST
DTSTART:20250405T163000
END:STANDARD
BEGIN:DAYLIGHT
TZOFFSETFROM:+0930
TZOFFSETTO:+1030
TZNAME:ACDT
DTSTART:20251004T163000
END:DAYLIGHT
BEGIN:STANDARD
TZOFFSETFROM:+1030
TZOFFSETTO:+0930
TZNAME:ACST
DTSTART:20260404T163000
END:STANDARD
BEGIN:DAYLIGHT
TZOFFSETFROM:+0930
TZOFFSETTO:+1030
TZNAME:ACDT
DTSTART:20261003T163000
END:DAYLIGHT
BEGIN:STANDARD
TZOFFSETFROM:+1030
TZOFFSETTO:+0930
TZNAME:ACST
DTSTART:20270403T163000
END:STANDARD
BEGIN:DAYLIGHT
TZOFFSETFROM:+0930
TZOFFSETTO:+1030
TZNAME:ACDT
DTSTART:20271002T163000
END:DAYLIGHT
END:VTIMEZONE
BEGIN:VEVENT
DTSTART;VALUE=DATE:20260406
DTEND;VALUE=DATE:20260428
DTSTAMP:20260425T030045
CREATED:20260409T051643Z
LAST-MODIFIED:20260409T051643Z
UID:18127-1775433600-1777334399@barossanorth-parish.lutheran.org.au
SUMMARY:Pastor Damien on Annual Leave
DESCRIPTION:
URL:https://barossanorth-parish.lutheran.org.au/event/pastor-damien-on-annual-leave-8/
LOCATION:Parish Office\, 15 Immanuel Way\, Light Pass\, SA\, 5355\, Australia
CATEGORIES:Pastors
GEO:-34.4712692;139.0260373
X-APPLE-STRUCTURED-LOCATION;VALUE=URI;X-ADDRESS=Parish Office 15 Immanuel Way Light Pass SA 5355 Australia;X-APPLE-RADIUS=500;X-TITLE=15 Immanuel Way:geo:139.0260373,-34.4712692
END:VEVENT
BEGIN:VEVENT
DTSTART;TZID=Australia/Adelaide:20260428T134500
DTEND;TZID=Australia/Adelaide:20260428T144500
DTSTAMP:20260425T030045
CREATED:20260409T051429Z
LAST-MODIFIED:20260409T051429Z
UID:18105-1777383900-1777387500@barossanorth-parish.lutheran.org.au
SUMMARY:Bible Study
DESCRIPTION:In the Meeting Room at Immanuel LP
URL:https://barossanorth-parish.lutheran.org.au/event/bible-study-15/2026-04-28/
LOCATION:Parish Office\, 15 Immanuel Way\, Light Pass\, SA\, 5355\, Australia
CATEGORIES:Bible study
GEO:-34.4712692;139.0260373
X-APPLE-STRUCTURED-LOCATION;VALUE=URI;X-ADDRESS=Parish Office 15 Immanuel Way Light Pass SA 5355 Australia;X-APPLE-RADIUS=500;X-TITLE=15 Immanuel Way:geo:139.0260373,-34.4712692
END:VEVENT
BEGIN:VEVENT
DTSTART;TZID=Australia/Adelaide:20260429T090000
DTEND;TZID=Australia/Adelaide:20260429T100000
DTSTAMP:20260425T030045
CREATED:20260326T051852Z
LAST-MODIFIED:20260326T051852Z
UID:18070-1777453200-1777456800@barossanorth-parish.lutheran.org.au
SUMMARY:Prayer Fellowship
DESCRIPTION:In the Meeting Room\, Immanuel LP
URL:https://barossanorth-parish.lutheran.org.au/event/prayer-fellowship-18/2026-04-29/
LOCATION:Parish Office\, 15 Immanuel Way\, Light Pass\, SA\, 5355\, Australia
CATEGORIES:Community,Fellowship
GEO:-34.4712692;139.0260373
X-APPLE-STRUCTURED-LOCATION;VALUE=URI;X-ADDRESS=Parish Office 15 Immanuel Way Light Pass SA 5355 Australia;X-APPLE-RADIUS=500;X-TITLE=15 Immanuel Way:geo:139.0260373,-34.4712692
END:VEVENT
BEGIN:VEVENT
DTSTART;TZID=Australia/Adelaide:20260505T134500
DTEND;TZID=Australia/Adelaide:20260505T144500
DTSTAMP:20260425T030045
CREATED:20260409T051429Z
LAST-MODIFIED:20260409T051429Z
UID:18106-1777988700-1777992300@barossanorth-parish.lutheran.org.au
SUMMARY:Bible Study
DESCRIPTION:In the Meeting Room at Immanuel LP
URL:https://barossanorth-parish.lutheran.org.au/event/bible-study-15/2026-05-05/
LOCATION:Parish Office\, 15 Immanuel Way\, Light Pass\, SA\, 5355\, Australia
CATEGORIES:Bible study
GEO:-34.4712692;139.0260373
X-APPLE-STRUCTURED-LOCATION;VALUE=URI;X-ADDRESS=Parish Office 15 Immanuel Way Light Pass SA 5355 Australia;X-APPLE-RADIUS=500;X-TITLE=15 Immanuel Way:geo:139.0260373,-34.4712692
END:VEVENT
BEGIN:VEVENT
DTSTART;TZID=Australia/Adelaide:20260506T090000
DTEND;TZID=Australia/Adelaide:20260506T100000
DTSTAMP:20260425T030045
CREATED:20260326T051852Z
LAST-MODIFIED:20260326T051852Z
UID:18071-1778058000-1778061600@barossanorth-parish.lutheran.org.au
SUMMARY:Prayer Fellowship
DESCRIPTION:In the Meeting Room\, Immanuel LP
URL:https://barossanorth-parish.lutheran.org.au/event/prayer-fellowship-18/2026-05-06/
LOCATION:Parish Office\, 15 Immanuel Way\, Light Pass\, SA\, 5355\, Australia
CATEGORIES:Community,Fellowship
GEO:-34.4712692;139.0260373
X-APPLE-STRUCTURED-LOCATION;VALUE=URI;X-ADDRESS=Parish Office 15 Immanuel Way Light Pass SA 5355 Australia;X-APPLE-RADIUS=500;X-TITLE=15 Immanuel Way:geo:139.0260373,-34.4712692
END:VEVENT
BEGIN:VEVENT
DTSTART;TZID=Australia/Adelaide:20260512T134500
DTEND;TZID=Australia/Adelaide:20260512T144500
DTSTAMP:20260425T030045
CREATED:20260409T051429Z
LAST-MODIFIED:20260409T051429Z
UID:18107-1778593500-1778597100@barossanorth-parish.lutheran.org.au
SUMMARY:Bible Study
DESCRIPTION:In the Meeting Room at Immanuel LP
URL:https://barossanorth-parish.lutheran.org.au/event/bible-study-15/2026-05-12/
LOCATION:Parish Office\, 15 Immanuel Way\, Light Pass\, SA\, 5355\, Australia
CATEGORIES:Bible study
GEO:-34.4712692;139.0260373
X-APPLE-STRUCTURED-LOCATION;VALUE=URI;X-ADDRESS=Parish Office 15 Immanuel Way Light Pass SA 5355 Australia;X-APPLE-RADIUS=500;X-TITLE=15 Immanuel Way:geo:139.0260373,-34.4712692
END:VEVENT
BEGIN:VEVENT
DTSTART;TZID=Australia/Adelaide:20260513T090000
DTEND;TZID=Australia/Adelaide:20260513T100000
DTSTAMP:20260425T030045
CREATED:20260326T051852Z
LAST-MODIFIED:20260326T051852Z
UID:18072-1778662800-1778666400@barossanorth-parish.lutheran.org.au
SUMMARY:Prayer Fellowship
DESCRIPTION:In the Meeting Room\, Immanuel LP
URL:https://barossanorth-parish.lutheran.org.au/event/prayer-fellowship-18/2026-05-13/
LOCATION:Parish Office\, 15 Immanuel Way\, Light Pass\, SA\, 5355\, Australia
CATEGORIES:Community,Fellowship
GEO:-34.4712692;139.0260373
X-APPLE-STRUCTURED-LOCATION;VALUE=URI;X-ADDRESS=Parish Office 15 Immanuel Way Light Pass SA 5355 Australia;X-APPLE-RADIUS=500;X-TITLE=15 Immanuel Way:geo:139.0260373,-34.4712692
END:VEVENT
BEGIN:VEVENT
DTSTART;TZID=Australia/Adelaide:20260519T134500
DTEND;TZID=Australia/Adelaide:20260519T144500
DTSTAMP:20260425T030045
CREATED:20260409T051429Z
LAST-MODIFIED:20260409T051429Z
UID:18108-1779198300-1779201900@barossanorth-parish.lutheran.org.au
SUMMARY:Bible Study
DESCRIPTION:In the Meeting Room at Immanuel LP
URL:https://barossanorth-parish.lutheran.org.au/event/bible-study-15/2026-05-19/
LOCATION:Parish Office\, 15 Immanuel Way\, Light Pass\, SA\, 5355\, Australia
CATEGORIES:Bible study
GEO:-34.4712692;139.0260373
X-APPLE-STRUCTURED-LOCATION;VALUE=URI;X-ADDRESS=Parish Office 15 Immanuel Way Light Pass SA 5355 Australia;X-APPLE-RADIUS=500;X-TITLE=15 Immanuel Way:geo:139.0260373,-34.4712692
END:VEVENT
BEGIN:VEVENT
DTSTART;TZID=Australia/Adelaide:20260519T193000
DTEND;TZID=Australia/Adelaide:20260519T210000
DTSTAMP:20260425T030045
CREATED:20260416T043610Z
LAST-MODIFIED:20260416T043610Z
UID:18157-1779219000-1779224400@barossanorth-parish.lutheran.org.au
SUMMARY:Parish Council Meeting
DESCRIPTION:In the Meeting Room\, Immanuel LP
URL:https://barossanorth-parish.lutheran.org.au/event/parish-council-meeting-19/
LOCATION:Parish Office\, 15 Immanuel Way\, Light Pass\, SA\, 5355\, Australia
CATEGORIES:Meeting
GEO:-34.4712692;139.0260373
X-APPLE-STRUCTURED-LOCATION;VALUE=URI;X-ADDRESS=Parish Office 15 Immanuel Way Light Pass SA 5355 Australia;X-APPLE-RADIUS=500;X-TITLE=15 Immanuel Way:geo:139.0260373,-34.4712692
END:VEVENT
BEGIN:VEVENT
DTSTART;TZID=Australia/Adelaide:20260520T090000
DTEND;TZID=Australia/Adelaide:20260520T100000
DTSTAMP:20260425T030045
CREATED:20260326T051852Z
LAST-MODIFIED:20260326T051852Z
UID:18073-1779267600-1779271200@barossanorth-parish.lutheran.org.au
SUMMARY:Prayer Fellowship
DESCRIPTION:In the Meeting Room\, Immanuel LP
URL:https://barossanorth-parish.lutheran.org.au/event/prayer-fellowship-18/2026-05-20/
LOCATION:Parish Office\, 15 Immanuel Way\, Light Pass\, SA\, 5355\, Australia
CATEGORIES:Community,Fellowship
GEO:-34.4712692;139.0260373
X-APPLE-STRUCTURED-LOCATION;VALUE=URI;X-ADDRESS=Parish Office 15 Immanuel Way Light Pass SA 5355 Australia;X-APPLE-RADIUS=500;X-TITLE=15 Immanuel Way:geo:139.0260373,-34.4712692
END:VEVENT
BEGIN:VEVENT
DTSTART;TZID=Australia/Adelaide:20260526T134500
DTEND;TZID=Australia/Adelaide:20260526T144500
DTSTAMP:20260425T030045
CREATED:20260409T051429Z
LAST-MODIFIED:20260409T051429Z
UID:18109-1779803100-1779806700@barossanorth-parish.lutheran.org.au
SUMMARY:Bible Study
DESCRIPTION:In the Meeting Room at Immanuel LP
URL:https://barossanorth-parish.lutheran.org.au/event/bible-study-15/2026-05-26/
LOCATION:Parish Office\, 15 Immanuel Way\, Light Pass\, SA\, 5355\, Australia
CATEGORIES:Bible study
GEO:-34.4712692;139.0260373
X-APPLE-STRUCTURED-LOCATION;VALUE=URI;X-ADDRESS=Parish Office 15 Immanuel Way Light Pass SA 5355 Australia;X-APPLE-RADIUS=500;X-TITLE=15 Immanuel Way:geo:139.0260373,-34.4712692
END:VEVENT
BEGIN:VEVENT
DTSTART;TZID=Australia/Adelaide:20260527T090000
DTEND;TZID=Australia/Adelaide:20260527T100000
DTSTAMP:20260425T030045
CREATED:20260326T051852Z
LAST-MODIFIED:20260326T051852Z
UID:18074-1779872400-1779876000@barossanorth-parish.lutheran.org.au
SUMMARY:Prayer Fellowship
DESCRIPTION:In the Meeting Room\, Immanuel LP
URL:https://barossanorth-parish.lutheran.org.au/event/prayer-fellowship-18/2026-05-27/
LOCATION:Parish Office\, 15 Immanuel Way\, Light Pass\, SA\, 5355\, Australia
CATEGORIES:Community,Fellowship
GEO:-34.4712692;139.0260373
X-APPLE-STRUCTURED-LOCATION;VALUE=URI;X-ADDRESS=Parish Office 15 Immanuel Way Light Pass SA 5355 Australia;X-APPLE-RADIUS=500;X-TITLE=15 Immanuel Way:geo:139.0260373,-34.4712692
END:VEVENT
BEGIN:VEVENT
DTSTART;TZID=Australia/Adelaide:20260602T134500
DTEND;TZID=Australia/Adelaide:20260602T144500
DTSTAMP:20260425T030045
CREATED:20260409T051429Z
LAST-MODIFIED:20260409T051429Z
UID:18110-1780407900-1780411500@barossanorth-parish.lutheran.org.au
SUMMARY:Bible Study
DESCRIPTION:In the Meeting Room at Immanuel LP
URL:https://barossanorth-parish.lutheran.org.au/event/bible-study-15/2026-06-02/
LOCATION:Parish Office\, 15 Immanuel Way\, Light Pass\, SA\, 5355\, Australia
CATEGORIES:Bible study
GEO:-34.4712692;139.0260373
X-APPLE-STRUCTURED-LOCATION;VALUE=URI;X-ADDRESS=Parish Office 15 Immanuel Way Light Pass SA 5355 Australia;X-APPLE-RADIUS=500;X-TITLE=15 Immanuel Way:geo:139.0260373,-34.4712692
END:VEVENT
BEGIN:VEVENT
DTSTART;TZID=Australia/Adelaide:20260603T090000
DTEND;TZID=Australia/Adelaide:20260603T100000
DTSTAMP:20260425T030045
CREATED:20260326T051852Z
LAST-MODIFIED:20260326T051852Z
UID:18075-1780477200-1780480800@barossanorth-parish.lutheran.org.au
SUMMARY:Prayer Fellowship
DESCRIPTION:In the Meeting Room\, Immanuel LP
URL:https://barossanorth-parish.lutheran.org.au/event/prayer-fellowship-18/2026-06-03/
LOCATION:Parish Office\, 15 Immanuel Way\, Light Pass\, SA\, 5355\, Australia
CATEGORIES:Community,Fellowship
GEO:-34.4712692;139.0260373
X-APPLE-STRUCTURED-LOCATION;VALUE=URI;X-ADDRESS=Parish Office 15 Immanuel Way Light Pass SA 5355 Australia;X-APPLE-RADIUS=500;X-TITLE=15 Immanuel Way:geo:139.0260373,-34.4712692
END:VEVENT
BEGIN:VEVENT
DTSTART;TZID=Australia/Adelaide:20260609T134500
DTEND;TZID=Australia/Adelaide:20260609T144500
DTSTAMP:20260425T030045
CREATED:20260409T051429Z
LAST-MODIFIED:20260409T051429Z
UID:18111-1781012700-1781016300@barossanorth-parish.lutheran.org.au
SUMMARY:Bible Study
DESCRIPTION:In the Meeting Room at Immanuel LP
URL:https://barossanorth-parish.lutheran.org.au/event/bible-study-15/2026-06-09/
LOCATION:Parish Office\, 15 Immanuel Way\, Light Pass\, SA\, 5355\, Australia
CATEGORIES:Bible study
GEO:-34.4712692;139.0260373
X-APPLE-STRUCTURED-LOCATION;VALUE=URI;X-ADDRESS=Parish Office 15 Immanuel Way Light Pass SA 5355 Australia;X-APPLE-RADIUS=500;X-TITLE=15 Immanuel Way:geo:139.0260373,-34.4712692
END:VEVENT
BEGIN:VEVENT
DTSTART;TZID=Australia/Adelaide:20260610T090000
DTEND;TZID=Australia/Adelaide:20260610T100000
DTSTAMP:20260425T030045
CREATED:20260326T051852Z
LAST-MODIFIED:20260326T051852Z
UID:18076-1781082000-1781085600@barossanorth-parish.lutheran.org.au
SUMMARY:Prayer Fellowship
DESCRIPTION:In the Meeting Room\, Immanuel LP
URL:https://barossanorth-parish.lutheran.org.au/event/prayer-fellowship-18/2026-06-10/
LOCATION:Parish Office\, 15 Immanuel Way\, Light Pass\, SA\, 5355\, Australia
CATEGORIES:Community,Fellowship
GEO:-34.4712692;139.0260373
X-APPLE-STRUCTURED-LOCATION;VALUE=URI;X-ADDRESS=Parish Office 15 Immanuel Way Light Pass SA 5355 Australia;X-APPLE-RADIUS=500;X-TITLE=15 Immanuel Way:geo:139.0260373,-34.4712692
END:VEVENT
BEGIN:VEVENT
DTSTART;TZID=Australia/Adelaide:20260616T134500
DTEND;TZID=Australia/Adelaide:20260616T144500
DTSTAMP:20260425T030045
CREATED:20260409T051429Z
LAST-MODIFIED:20260409T051429Z
UID:18112-1781617500-1781621100@barossanorth-parish.lutheran.org.au
SUMMARY:Bible Study
DESCRIPTION:In the Meeting Room at Immanuel LP
URL:https://barossanorth-parish.lutheran.org.au/event/bible-study-15/2026-06-16/
LOCATION:Parish Office\, 15 Immanuel Way\, Light Pass\, SA\, 5355\, Australia
CATEGORIES:Bible study
GEO:-34.4712692;139.0260373
X-APPLE-STRUCTURED-LOCATION;VALUE=URI;X-ADDRESS=Parish Office 15 Immanuel Way Light Pass SA 5355 Australia;X-APPLE-RADIUS=500;X-TITLE=15 Immanuel Way:geo:139.0260373,-34.4712692
END:VEVENT
BEGIN:VEVENT
DTSTART;TZID=Australia/Adelaide:20260617T090000
DTEND;TZID=Australia/Adelaide:20260617T100000
DTSTAMP:20260425T030045
CREATED:20260326T051852Z
LAST-MODIFIED:20260326T051852Z
UID:18077-1781686800-1781690400@barossanorth-parish.lutheran.org.au
SUMMARY:Prayer Fellowship
DESCRIPTION:In the Meeting Room\, Immanuel LP
URL:https://barossanorth-parish.lutheran.org.au/event/prayer-fellowship-18/2026-06-17/
LOCATION:Parish Office\, 15 Immanuel Way\, Light Pass\, SA\, 5355\, Australia
CATEGORIES:Community,Fellowship
GEO:-34.4712692;139.0260373
X-APPLE-STRUCTURED-LOCATION;VALUE=URI;X-ADDRESS=Parish Office 15 Immanuel Way Light Pass SA 5355 Australia;X-APPLE-RADIUS=500;X-TITLE=15 Immanuel Way:geo:139.0260373,-34.4712692
END:VEVENT
BEGIN:VEVENT
DTSTART;TZID=Australia/Adelaide:20260623T134500
DTEND;TZID=Australia/Adelaide:20260623T144500
DTSTAMP:20260425T030045
CREATED:20260409T051429Z
LAST-MODIFIED:20260409T051429Z
UID:18113-1782222300-1782225900@barossanorth-parish.lutheran.org.au
SUMMARY:Bible Study
DESCRIPTION:In the Meeting Room at Immanuel LP
URL:https://barossanorth-parish.lutheran.org.au/event/bible-study-15/2026-06-23/
LOCATION:Parish Office\, 15 Immanuel Way\, Light Pass\, SA\, 5355\, Australia
CATEGORIES:Bible study
GEO:-34.4712692;139.0260373
X-APPLE-STRUCTURED-LOCATION;VALUE=URI;X-ADDRESS=Parish Office 15 Immanuel Way Light Pass SA 5355 Australia;X-APPLE-RADIUS=500;X-TITLE=15 Immanuel Way:geo:139.0260373,-34.4712692
END:VEVENT
BEGIN:VEVENT
DTSTART;TZID=Australia/Adelaide:20260624T090000
DTEND;TZID=Australia/Adelaide:20260624T100000
DTSTAMP:20260425T030045
CREATED:20260326T051852Z
LAST-MODIFIED:20260326T051852Z
UID:18079-1782291600-1782295200@barossanorth-parish.lutheran.org.au
SUMMARY:Prayer Fellowship
DESCRIPTION:In the Meeting Room\, Immanuel LP
URL:https://barossanorth-parish.lutheran.org.au/event/prayer-fellowship-18/2026-06-24/
LOCATION:Parish Office\, 15 Immanuel Way\, Light Pass\, SA\, 5355\, Australia
CATEGORIES:Community,Fellowship
GEO:-34.4712692;139.0260373
X-APPLE-STRUCTURED-LOCATION;VALUE=URI;X-ADDRESS=Parish Office 15 Immanuel Way Light Pass SA 5355 Australia;X-APPLE-RADIUS=500;X-TITLE=15 Immanuel Way:geo:139.0260373,-34.4712692
END:VEVENT
BEGIN:VEVENT
DTSTART;TZID=Australia/Adelaide:20260630T134500
DTEND;TZID=Australia/Adelaide:20260630T144500
DTSTAMP:20260425T030045
CREATED:20260409T051429Z
LAST-MODIFIED:20260409T051429Z
UID:18114-1782827100-1782830700@barossanorth-parish.lutheran.org.au
SUMMARY:Bible Study
DESCRIPTION:In the Meeting Room at Immanuel LP
URL:https://barossanorth-parish.lutheran.org.au/event/bible-study-15/2026-06-30/
LOCATION:Parish Office\, 15 Immanuel Way\, Light Pass\, SA\, 5355\, Australia
CATEGORIES:Bible study
GEO:-34.4712692;139.0260373
X-APPLE-STRUCTURED-LOCATION;VALUE=URI;X-ADDRESS=Parish Office 15 Immanuel Way Light Pass SA 5355 Australia;X-APPLE-RADIUS=500;X-TITLE=15 Immanuel Way:geo:139.0260373,-34.4712692
END:VEVENT
BEGIN:VEVENT
DTSTART;TZID=Australia/Adelaide:20260701T090000
DTEND;TZID=Australia/Adelaide:20260701T100000
DTSTAMP:20260425T030045
CREATED:20260326T051852Z
LAST-MODIFIED:20260326T051852Z
UID:18080-1782896400-1782900000@barossanorth-parish.lutheran.org.au
SUMMARY:Prayer Fellowship
DESCRIPTION:In the Meeting Room\, Immanuel LP
URL:https://barossanorth-parish.lutheran.org.au/event/prayer-fellowship-18/2026-07-01/
LOCATION:Parish Office\, 15 Immanuel Way\, Light Pass\, SA\, 5355\, Australia
CATEGORIES:Community,Fellowship
GEO:-34.4712692;139.0260373
X-APPLE-STRUCTURED-LOCATION;VALUE=URI;X-ADDRESS=Parish Office 15 Immanuel Way Light Pass SA 5355 Australia;X-APPLE-RADIUS=500;X-TITLE=15 Immanuel Way:geo:139.0260373,-34.4712692
END:VEVENT
END:VCALENDAR