BEGIN:VCALENDAR
VERSION:2.0
PRODID:-//Barossa North Parish SA - ECPv6.15.12.2//NONSGML v1.0//EN
CALSCALE:GREGORIAN
METHOD:PUBLISH
X-WR-CALNAME:Barossa North Parish SA
X-ORIGINAL-URL:https://barossanorth-parish.lutheran.org.au
X-WR-CALDESC:Events for Barossa North Parish SA
REFRESH-INTERVAL;VALUE=DURATION:PT1H
X-Robots-Tag:noindex
X-PUBLISHED-TTL:PT1H
BEGIN:VTIMEZONE
TZID:Australia/Adelaide
BEGIN:STANDARD
TZOFFSETFROM:+1030
TZOFFSETTO:+0930
TZNAME:ACST
DTSTART:20240406T163000
END:STANDARD
BEGIN:DAYLIGHT
TZOFFSETFROM:+0930
TZOFFSETTO:+1030
TZNAME:ACDT
DTSTART:20241005T163000
END:DAYLIGHT
BEGIN:STANDARD
TZOFFSETFROM:+1030
TZOFFSETTO:+0930
TZNAME:ACST
DTSTART:20250405T163000
END:STANDARD
BEGIN:DAYLIGHT
TZOFFSETFROM:+0930
TZOFFSETTO:+1030
TZNAME:ACDT
DTSTART:20251004T163000
END:DAYLIGHT
BEGIN:STANDARD
TZOFFSETFROM:+1030
TZOFFSETTO:+0930
TZNAME:ACST
DTSTART:20260404T163000
END:STANDARD
BEGIN:DAYLIGHT
TZOFFSETFROM:+0930
TZOFFSETTO:+1030
TZNAME:ACDT
DTSTART:20261003T163000
END:DAYLIGHT
END:VTIMEZONE
BEGIN:VEVENT
DTSTART;VALUE=DATE:20250517
DTEND;VALUE=DATE:20250519
DTSTAMP:20260425T095354
CREATED:20250424T054520Z
LAST-MODIFIED:20250424T054520Z
UID:16826-1747440000-1747612799@barossanorth-parish.lutheran.org.au
SUMMARY:SA-NT District Convention of Synod
DESCRIPTION:At the Adelaide Convention Centre\, North Adelaide
URL:https://barossanorth-parish.lutheran.org.au/event/sa-nt-district-convention-of-synod-5/
LOCATION:North Adelaide\, Adelaide\, SA\, Australia
CATEGORIES:Meeting
GEO:-34.9284989;138.6007456
END:VEVENT
BEGIN:VEVENT
DTSTART;TZID=Australia/Adelaide:20250503T083000
DTEND;TZID=Australia/Adelaide:20250503T130000
DTSTAMP:20260425T095354
CREATED:20250424T053537Z
LAST-MODIFIED:20250424T053537Z
UID:16814-1746261000-1746277200@barossanorth-parish.lutheran.org.au
SUMMARY:Walk My Way
DESCRIPTION:North Adelaide
URL:https://barossanorth-parish.lutheran.org.au/event/walk-my-way/
LOCATION:North Adelaide\, Adelaide\, SA\, Australia
CATEGORIES:Community,Family,Fellowship
GEO:-34.9284989;138.6007456
END:VEVENT
END:VCALENDAR