BEGIN:VCALENDAR
VERSION:2.0
PRODID:-//Barossa North Parish SA - ECPv6.15.12.2//NONSGML v1.0//EN
CALSCALE:GREGORIAN
METHOD:PUBLISH
X-WR-CALNAME:Barossa North Parish SA
X-ORIGINAL-URL:https://barossanorth-parish.lutheran.org.au
X-WR-CALDESC:Events for Barossa North Parish SA
REFRESH-INTERVAL;VALUE=DURATION:PT1H
X-Robots-Tag:noindex
X-PUBLISHED-TTL:PT1H
BEGIN:VTIMEZONE
TZID:Australia/Adelaide
BEGIN:STANDARD
TZOFFSETFROM:+1030
TZOFFSETTO:+0930
TZNAME:ACST
DTSTART:20220402T163000
END:STANDARD
BEGIN:DAYLIGHT
TZOFFSETFROM:+0930
TZOFFSETTO:+1030
TZNAME:ACDT
DTSTART:20221001T163000
END:DAYLIGHT
BEGIN:STANDARD
TZOFFSETFROM:+1030
TZOFFSETTO:+0930
TZNAME:ACST
DTSTART:20230401T163000
END:STANDARD
BEGIN:DAYLIGHT
TZOFFSETFROM:+0930
TZOFFSETTO:+1030
TZNAME:ACDT
DTSTART:20230930T163000
END:DAYLIGHT
BEGIN:STANDARD
TZOFFSETFROM:+1030
TZOFFSETTO:+0930
TZNAME:ACST
DTSTART:20240406T163000
END:STANDARD
BEGIN:DAYLIGHT
TZOFFSETFROM:+0930
TZOFFSETTO:+1030
TZNAME:ACDT
DTSTART:20241005T163000
END:DAYLIGHT
BEGIN:STANDARD
TZOFFSETFROM:+1030
TZOFFSETTO:+0930
TZNAME:ACST
DTSTART:20250405T163000
END:STANDARD
BEGIN:DAYLIGHT
TZOFFSETFROM:+0930
TZOFFSETTO:+1030
TZNAME:ACDT
DTSTART:20251004T163000
END:DAYLIGHT
END:VTIMEZONE
BEGIN:VEVENT
DTSTART;TZID=Australia/Adelaide:20241124T090000
DTEND;TZID=Australia/Adelaide:20241124T103000
DTSTAMP:20260425T082128
CREATED:20241004T054246Z
LAST-MODIFIED:20241004T054246Z
UID:16064-1732438800-1732444200@barossanorth-parish.lutheran.org.au
SUMMARY:Worship Service - Pastor Damien
DESCRIPTION:At Truro with HC with Strait Gate visiting
URL:https://barossanorth-parish.lutheran.org.au/event/worship-service-pastor-damien-319/
LOCATION:Immanuel Lutheran Church\, Truro\, 64 Moorundie Street\, Truro\, SA\, 5356\, Australia
CATEGORIES:Worship
GEO:-34.4094949;139.1307718
X-APPLE-STRUCTURED-LOCATION;VALUE=URI;X-ADDRESS=Immanuel Lutheran Church Truro 64 Moorundie Street Truro SA 5356 Australia;X-APPLE-RADIUS=500;X-TITLE=64 Moorundie Street:geo:139.1307718,-34.4094949
END:VEVENT
BEGIN:VEVENT
DTSTART;TZID=Australia/Adelaide:20241110T090000
DTEND;TZID=Australia/Adelaide:20241110T100000
DTSTAMP:20260425T082128
CREATED:20241002T054015Z
LAST-MODIFIED:20241002T054015Z
UID:16039-1731229200-1731232800@barossanorth-parish.lutheran.org.au
SUMMARY:Worship Service - Pastor Mark Kleemann
DESCRIPTION:At Truro
URL:https://barossanorth-parish.lutheran.org.au/event/worship-service-pastor-mark-kleemann-8/
LOCATION:Immanuel Lutheran Church\, Truro\, 64 Moorundie Street\, Truro\, SA\, 5356\, Australia
CATEGORIES:Worship
GEO:-34.4094949;139.1307718
X-APPLE-STRUCTURED-LOCATION;VALUE=URI;X-ADDRESS=Immanuel Lutheran Church Truro 64 Moorundie Street Truro SA 5356 Australia;X-APPLE-RADIUS=500;X-TITLE=64 Moorundie Street:geo:139.1307718,-34.4094949
END:VEVENT
BEGIN:VEVENT
DTSTART;TZID=Australia/Adelaide:20241027T090000
DTEND;TZID=Australia/Adelaide:20241027T103000
DTSTAMP:20260425T082128
CREATED:20240920T075157Z
LAST-MODIFIED:20240920T075157Z
UID:15938-1730019600-1730025000@barossanorth-parish.lutheran.org.au
SUMMARY:Worship Service - Pastor Damien
DESCRIPTION:At Truro with HC
URL:https://barossanorth-parish.lutheran.org.au/event/worship-service-pastor-damien-313/
LOCATION:Immanuel Lutheran Church\, Truro\, 64 Moorundie Street\, Truro\, SA\, 5356\, Australia
CATEGORIES:Worship
GEO:-34.4094949;139.1307718
X-APPLE-STRUCTURED-LOCATION;VALUE=URI;X-ADDRESS=Immanuel Lutheran Church Truro 64 Moorundie Street Truro SA 5356 Australia;X-APPLE-RADIUS=500;X-TITLE=64 Moorundie Street:geo:139.1307718,-34.4094949
END:VEVENT
BEGIN:VEVENT
DTSTART;TZID=Australia/Adelaide:20240922T103000
DTEND;TZID=Australia/Adelaide:20240922T120000
DTSTAMP:20260425T082128
CREATED:20240815T064502Z
LAST-MODIFIED:20240815T064502Z
UID:15869-1727001000-1727006400@barossanorth-parish.lutheran.org.au
SUMMARY:Worship Service - Pastor Damien
DESCRIPTION:At Truro with HC with Strait Gate visiting
URL:https://barossanorth-parish.lutheran.org.au/event/worship-service-pastor-damien-305/
LOCATION:Immanuel Lutheran Church\, Truro\, 64 Moorundie Street\, Truro\, SA\, 5356\, Australia
CATEGORIES:Worship
GEO:-34.4094949;139.1307718
X-APPLE-STRUCTURED-LOCATION;VALUE=URI;X-ADDRESS=Immanuel Lutheran Church Truro 64 Moorundie Street Truro SA 5356 Australia;X-APPLE-RADIUS=500;X-TITLE=64 Moorundie Street:geo:139.1307718,-34.4094949
END:VEVENT
BEGIN:VEVENT
DTSTART;TZID=Australia/Adelaide:20240825T090000
DTEND;TZID=Australia/Adelaide:20240825T103000
DTSTAMP:20260425T082128
CREATED:20240502T060915Z
LAST-MODIFIED:20240502T060915Z
UID:15657-1724576400-1724581800@barossanorth-parish.lutheran.org.au
SUMMARY:Worship Service - Pastor Damien
DESCRIPTION:At Truro with HC
URL:https://barossanorth-parish.lutheran.org.au/event/worship-service-pastor-damien-301/
LOCATION:Immanuel Lutheran Church\, Truro\, 64 Moorundie Street\, Truro\, SA\, 5356\, Australia
CATEGORIES:Worship
GEO:-34.4094949;139.1307718
X-APPLE-STRUCTURED-LOCATION;VALUE=URI;X-ADDRESS=Immanuel Lutheran Church Truro 64 Moorundie Street Truro SA 5356 Australia;X-APPLE-RADIUS=500;X-TITLE=64 Moorundie Street:geo:139.1307718,-34.4094949
END:VEVENT
BEGIN:VEVENT
DTSTART;TZID=Australia/Adelaide:20240812T200000
DTEND;TZID=Australia/Adelaide:20240812T213000
DTSTAMP:20260425T082128
CREATED:20240808T063035Z
LAST-MODIFIED:20240808T063035Z
UID:15803-1723492800-1723498200@barossanorth-parish.lutheran.org.au
SUMMARY:Truro Church Council Meeting
DESCRIPTION:In the Church Hall
URL:https://barossanorth-parish.lutheran.org.au/event/truro-church-council-meeting/
LOCATION:Immanuel Lutheran Church\, Truro\, 64 Moorundie Street\, Truro\, SA\, 5356\, Australia
CATEGORIES:Meeting
GEO:-34.4094949;139.1307718
X-APPLE-STRUCTURED-LOCATION;VALUE=URI;X-ADDRESS=Immanuel Lutheran Church Truro 64 Moorundie Street Truro SA 5356 Australia;X-APPLE-RADIUS=500;X-TITLE=64 Moorundie Street:geo:139.1307718,-34.4094949
END:VEVENT
BEGIN:VEVENT
DTSTART;TZID=Australia/Adelaide:20240728T103000
DTEND;TZID=Australia/Adelaide:20240728T120000
DTSTAMP:20260425T082128
CREATED:20240426T065359Z
LAST-MODIFIED:20240426T065359Z
UID:15618-1722162600-1722168000@barossanorth-parish.lutheran.org.au
SUMMARY:Worship Service - Pastor Damien
DESCRIPTION:At Truro with HC with Strait Gate visiting
URL:https://barossanorth-parish.lutheran.org.au/event/worship-service-pastor-damien-293/
LOCATION:Immanuel Lutheran Church\, Truro\, 64 Moorundie Street\, Truro\, SA\, 5356\, Australia
CATEGORIES:Worship
GEO:-34.4094949;139.1307718
X-APPLE-STRUCTURED-LOCATION;VALUE=URI;X-ADDRESS=Immanuel Lutheran Church Truro 64 Moorundie Street Truro SA 5356 Australia;X-APPLE-RADIUS=500;X-TITLE=64 Moorundie Street:geo:139.1307718,-34.4094949
END:VEVENT
BEGIN:VEVENT
DTSTART;TZID=Australia/Adelaide:20240714T090000
DTEND;TZID=Australia/Adelaide:20240714T100000
DTSTAMP:20260425T082128
CREATED:20240419T082158Z
LAST-MODIFIED:20240419T082158Z
UID:15543-1720947600-1720951200@barossanorth-parish.lutheran.org.au
SUMMARY:Worship Service - Pastor Mark Kleemann
DESCRIPTION:At Truro
URL:https://barossanorth-parish.lutheran.org.au/event/worship-service-pastor-mark-kleemann-4/
LOCATION:Immanuel Lutheran Church\, Truro\, 64 Moorundie Street\, Truro\, SA\, 5356\, Australia
CATEGORIES:Worship
GEO:-34.4094949;139.1307718
X-APPLE-STRUCTURED-LOCATION;VALUE=URI;X-ADDRESS=Immanuel Lutheran Church Truro 64 Moorundie Street Truro SA 5356 Australia;X-APPLE-RADIUS=500;X-TITLE=64 Moorundie Street:geo:139.1307718,-34.4094949
END:VEVENT
BEGIN:VEVENT
DTSTART;TZID=Australia/Adelaide:20240623T090000
DTEND;TZID=Australia/Adelaide:20240623T103000
DTSTAMP:20260425T082128
CREATED:20240419T080415Z
LAST-MODIFIED:20240419T080415Z
UID:15518-1719133200-1719138600@barossanorth-parish.lutheran.org.au
SUMMARY:Worship Service - Pastor Damien
DESCRIPTION:At Truro with HC
URL:https://barossanorth-parish.lutheran.org.au/event/worship-service-pastor-damien-285/
LOCATION:Immanuel Lutheran Church\, Truro\, 64 Moorundie Street\, Truro\, SA\, 5356\, Australia
CATEGORIES:Worship
GEO:-34.4094949;139.1307718
X-APPLE-STRUCTURED-LOCATION;VALUE=URI;X-ADDRESS=Immanuel Lutheran Church Truro 64 Moorundie Street Truro SA 5356 Australia;X-APPLE-RADIUS=500;X-TITLE=64 Moorundie Street:geo:139.1307718,-34.4094949
END:VEVENT
BEGIN:VEVENT
DTSTART;TZID=Australia/Adelaide:20240529T133000
DTEND;TZID=Australia/Adelaide:20240529T153000
DTSTAMP:20260425T082128
CREATED:20240313T043035Z
LAST-MODIFIED:20240313T043035Z
UID:15385-1716989400-1716996600@barossanorth-parish.lutheran.org.au
SUMMARY:Truro Lutheran Ladies Guild
DESCRIPTION:Assemble & pack birthing kits in the Church Hall
URL:https://barossanorth-parish.lutheran.org.au/event/truro-lutheran-ladies-guild-29/
LOCATION:Immanuel Lutheran Church\, Truro\, 64 Moorundie Street\, Truro\, SA\, 5356\, Australia
CATEGORIES:Fellowship,Ladies
GEO:-34.4094949;139.1307718
X-APPLE-STRUCTURED-LOCATION;VALUE=URI;X-ADDRESS=Immanuel Lutheran Church Truro 64 Moorundie Street Truro SA 5356 Australia;X-APPLE-RADIUS=500;X-TITLE=64 Moorundie Street:geo:139.1307718,-34.4094949
END:VEVENT
BEGIN:VEVENT
DTSTART;TZID=Australia/Adelaide:20240526T103000
DTEND;TZID=Australia/Adelaide:20240526T120000
DTSTAMP:20260425T082128
CREATED:20240419T073626Z
LAST-MODIFIED:20240419T073626Z
UID:15473-1716719400-1716724800@barossanorth-parish.lutheran.org.au
SUMMARY:Worship Service - Pastor Damien
DESCRIPTION:At Truro with HC with Strait Gate visiting
URL:https://barossanorth-parish.lutheran.org.au/event/worship-service-pastor-damien-277/
LOCATION:Immanuel Lutheran Church\, Truro\, 64 Moorundie Street\, Truro\, SA\, 5356\, Australia
CATEGORIES:Worship
GEO:-34.4094949;139.1307718
X-APPLE-STRUCTURED-LOCATION;VALUE=URI;X-ADDRESS=Immanuel Lutheran Church Truro 64 Moorundie Street Truro SA 5356 Australia;X-APPLE-RADIUS=500;X-TITLE=64 Moorundie Street:geo:139.1307718,-34.4094949
END:VEVENT
BEGIN:VEVENT
DTSTART;TZID=Australia/Adelaide:20240428T090000
DTEND;TZID=Australia/Adelaide:20240428T103000
DTSTAMP:20260425T082128
CREATED:20240213T043620Z
LAST-MODIFIED:20240213T043620Z
UID:15274-1714294800-1714300200@barossanorth-parish.lutheran.org.au
SUMMARY:Worship Service - Pastor Damien
DESCRIPTION:At Truro with HC
URL:https://barossanorth-parish.lutheran.org.au/event/worship-service-pastor-damien-271/
LOCATION:Immanuel Lutheran Church\, Truro\, 64 Moorundie Street\, Truro\, SA\, 5356\, Australia
CATEGORIES:Worship
GEO:-34.4094949;139.1307718
X-APPLE-STRUCTURED-LOCATION;VALUE=URI;X-ADDRESS=Immanuel Lutheran Church Truro 64 Moorundie Street Truro SA 5356 Australia;X-APPLE-RADIUS=500;X-TITLE=64 Moorundie Street:geo:139.1307718,-34.4094949
END:VEVENT
BEGIN:VEVENT
DTSTART;TZID=Australia/Adelaide:20240424T133000
DTEND;TZID=Australia/Adelaide:20240424T153000
DTSTAMP:20260425T082128
CREATED:20240307T061114Z
LAST-MODIFIED:20240307T061114Z
UID:15370-1713965400-1713972600@barossanorth-parish.lutheran.org.au
SUMMARY:Truro Lutheran Ladies Guild
DESCRIPTION:Anzac Celebrations in the Church Hall
URL:https://barossanorth-parish.lutheran.org.au/event/truro-lutheran-ladies-guild-28/
LOCATION:Immanuel Lutheran Church\, Truro\, 64 Moorundie Street\, Truro\, SA\, 5356\, Australia
CATEGORIES:Fellowship,Ladies
GEO:-34.4094949;139.1307718
X-APPLE-STRUCTURED-LOCATION;VALUE=URI;X-ADDRESS=Immanuel Lutheran Church Truro 64 Moorundie Street Truro SA 5356 Australia;X-APPLE-RADIUS=500;X-TITLE=64 Moorundie Street:geo:139.1307718,-34.4094949
END:VEVENT
BEGIN:VEVENT
DTSTART;TZID=Australia/Adelaide:20240414T103000
DTEND;TZID=Australia/Adelaide:20240414T113000
DTSTAMP:20260425T082128
CREATED:20240213T041932Z
LAST-MODIFIED:20240213T041932Z
UID:15254-1713090600-1713094200@barossanorth-parish.lutheran.org.au
SUMMARY:Worship Service - Pastor Mark Kleemann
DESCRIPTION:At Truro
URL:https://barossanorth-parish.lutheran.org.au/event/worship-service-pastor-mark-kleemann-2/
LOCATION:Immanuel Lutheran Church\, Truro\, 64 Moorundie Street\, Truro\, SA\, 5356\, Australia
CATEGORIES:Worship
GEO:-34.4094949;139.1307718
X-APPLE-STRUCTURED-LOCATION;VALUE=URI;X-ADDRESS=Immanuel Lutheran Church Truro 64 Moorundie Street Truro SA 5356 Australia;X-APPLE-RADIUS=500;X-TITLE=64 Moorundie Street:geo:139.1307718,-34.4094949
END:VEVENT
BEGIN:VEVENT
DTSTART;TZID=Australia/Adelaide:20240331T090000
DTEND;TZID=Australia/Adelaide:20240331T103000
DTSTAMP:20260425T082128
CREATED:20240209T005101Z
LAST-MODIFIED:20240209T005101Z
UID:15235-1711875600-1711881000@barossanorth-parish.lutheran.org.au
SUMMARY:Easter Sunday Worship Service - Pastor Damien
DESCRIPTION:At Truro with HC
URL:https://barossanorth-parish.lutheran.org.au/event/easter-sunday-worship-service-pastor-damien-10/
LOCATION:Immanuel Lutheran Church\, Truro\, 64 Moorundie Street\, Truro\, SA\, 5356\, Australia
CATEGORIES:Worship
GEO:-34.4094949;139.1307718
X-APPLE-STRUCTURED-LOCATION;VALUE=URI;X-ADDRESS=Immanuel Lutheran Church Truro 64 Moorundie Street Truro SA 5356 Australia;X-APPLE-RADIUS=500;X-TITLE=64 Moorundie Street:geo:139.1307718,-34.4094949
END:VEVENT
BEGIN:VEVENT
DTSTART;TZID=Australia/Adelaide:20240324T103000
DTEND;TZID=Australia/Adelaide:20240324T120000
DTSTAMP:20260425T082128
CREATED:20240206T042907Z
LAST-MODIFIED:20240206T042907Z
UID:15212-1711276200-1711281600@barossanorth-parish.lutheran.org.au
SUMMARY:Palm Sunday Worship Service - Pastor Damien
DESCRIPTION:At Truro with HC with Strait Gate visiting
URL:https://barossanorth-parish.lutheran.org.au/event/palm-sunday-worship-service-pastor-damien-7/
LOCATION:Immanuel Lutheran Church\, Truro\, 64 Moorundie Street\, Truro\, SA\, 5356\, Australia
CATEGORIES:Worship
GEO:-34.4094949;139.1307718
X-APPLE-STRUCTURED-LOCATION;VALUE=URI;X-ADDRESS=Immanuel Lutheran Church Truro 64 Moorundie Street Truro SA 5356 Australia;X-APPLE-RADIUS=500;X-TITLE=64 Moorundie Street:geo:139.1307718,-34.4094949
END:VEVENT
BEGIN:VEVENT
DTSTART;TZID=Australia/Adelaide:20240310T103000
DTEND;TZID=Australia/Adelaide:20240310T120000
DTSTAMP:20260425T082128
CREATED:20240130T043625Z
LAST-MODIFIED:20240130T043625Z
UID:15186-1710066600-1710072000@barossanorth-parish.lutheran.org.au
SUMMARY:Worship Service - Pastor Mark Kleemann
DESCRIPTION:At Truro \n70th Anniversary Service of the Truro Lutheran Ladies Guild
URL:https://barossanorth-parish.lutheran.org.au/event/worship-service-pastor-mark-kleemann/
LOCATION:Immanuel Lutheran Church\, Truro\, 64 Moorundie Street\, Truro\, SA\, 5356\, Australia
CATEGORIES:Worship
GEO:-34.4094949;139.1307718
X-APPLE-STRUCTURED-LOCATION;VALUE=URI;X-ADDRESS=Immanuel Lutheran Church Truro 64 Moorundie Street Truro SA 5356 Australia;X-APPLE-RADIUS=500;X-TITLE=64 Moorundie Street:geo:139.1307718,-34.4094949
END:VEVENT
BEGIN:VEVENT
DTSTART;TZID=Australia/Adelaide:20240228T133000
DTEND;TZID=Australia/Adelaide:20240228T153000
DTSTAMP:20260425T082128
CREATED:20230426T052359Z
LAST-MODIFIED:20230426T052359Z
UID:14114-1709127000-1709134200@barossanorth-parish.lutheran.org.au
SUMMARY:Truro Lutheran Ladies Guild
DESCRIPTION:Plan Programme for 2024
URL:https://barossanorth-parish.lutheran.org.au/event/truro-lutheran-ladies-guild-26/
LOCATION:Immanuel Lutheran Church\, Truro\, 64 Moorundie Street\, Truro\, SA\, 5356\, Australia
CATEGORIES:Fellowship,Ladies
GEO:-34.4094949;139.1307718
X-APPLE-STRUCTURED-LOCATION;VALUE=URI;X-ADDRESS=Immanuel Lutheran Church Truro 64 Moorundie Street Truro SA 5356 Australia;X-APPLE-RADIUS=500;X-TITLE=64 Moorundie Street:geo:139.1307718,-34.4094949
END:VEVENT
BEGIN:VEVENT
DTSTART;TZID=Australia/Adelaide:20240225T090000
DTEND;TZID=Australia/Adelaide:20240225T103000
DTSTAMP:20260425T082128
CREATED:20240109T013758Z
LAST-MODIFIED:20240109T013758Z
UID:15048-1708851600-1708857000@barossanorth-parish.lutheran.org.au
SUMMARY:Harvest Thanksgiving Service - Pastor Damien
DESCRIPTION:At Truro with HC
URL:https://barossanorth-parish.lutheran.org.au/event/harvest-thanksgiving-service-pastor-damien-17/
LOCATION:Immanuel Lutheran Church\, Truro\, 64 Moorundie Street\, Truro\, SA\, 5356\, Australia
CATEGORIES:Worship
GEO:-34.4094949;139.1307718
X-APPLE-STRUCTURED-LOCATION;VALUE=URI;X-ADDRESS=Immanuel Lutheran Church Truro 64 Moorundie Street Truro SA 5356 Australia;X-APPLE-RADIUS=500;X-TITLE=64 Moorundie Street:geo:139.1307718,-34.4094949
END:VEVENT
BEGIN:VEVENT
DTSTART;VALUE=DATE:20240225
DTEND;VALUE=DATE:20240226
DTSTAMP:20260425T082128
CREATED:20240125T055238Z
LAST-MODIFIED:20240125T055238Z
UID:15159-1708819200-1708905599@barossanorth-parish.lutheran.org.au
SUMMARY:Truro AGM
DESCRIPTION:
URL:https://barossanorth-parish.lutheran.org.au/event/truro-agm/
LOCATION:Immanuel Lutheran Church\, Truro\, 64 Moorundie Street\, Truro\, SA\, 5356\, Australia
CATEGORIES:Meeting
GEO:-34.4094949;139.1307718
X-APPLE-STRUCTURED-LOCATION;VALUE=URI;X-ADDRESS=Immanuel Lutheran Church Truro 64 Moorundie Street Truro SA 5356 Australia;X-APPLE-RADIUS=500;X-TITLE=64 Moorundie Street:geo:139.1307718,-34.4094949
END:VEVENT
BEGIN:VEVENT
DTSTART;TZID=Australia/Adelaide:20240214T193000
DTEND;TZID=Australia/Adelaide:20240214T210000
DTSTAMP:20260425T082128
CREATED:20240109T012559Z
LAST-MODIFIED:20240109T012559Z
UID:15038-1707939000-1707944400@barossanorth-parish.lutheran.org.au
SUMMARY:Ash Wednesday Service - Pastor Damien
DESCRIPTION:At Truro with HC
URL:https://barossanorth-parish.lutheran.org.au/event/ash-wednesday-service-pastor-damien-2/
LOCATION:Immanuel Lutheran Church\, Truro\, 64 Moorundie Street\, Truro\, SA\, 5356\, Australia
CATEGORIES:Worship
GEO:-34.4094949;139.1307718
X-APPLE-STRUCTURED-LOCATION;VALUE=URI;X-ADDRESS=Immanuel Lutheran Church Truro 64 Moorundie Street Truro SA 5356 Australia;X-APPLE-RADIUS=500;X-TITLE=64 Moorundie Street:geo:139.1307718,-34.4094949
END:VEVENT
BEGIN:VEVENT
DTSTART;TZID=Australia/Adelaide:20240114T090000
DTEND;TZID=Australia/Adelaide:20240114T103000
DTSTAMP:20260425T082128
CREATED:20231116T053009Z
LAST-MODIFIED:20231116T053009Z
UID:14923-1705222800-1705228200@barossanorth-parish.lutheran.org.au
SUMMARY:Worship Service - Pastor Damien
DESCRIPTION:At Truro with HC
URL:https://barossanorth-parish.lutheran.org.au/event/worship-service-pastor-damien-255/
LOCATION:Immanuel Lutheran Church\, Truro\, 64 Moorundie Street\, Truro\, SA\, 5356\, Australia
CATEGORIES:Worship
GEO:-34.4094949;139.1307718
X-APPLE-STRUCTURED-LOCATION;VALUE=URI;X-ADDRESS=Immanuel Lutheran Church Truro 64 Moorundie Street Truro SA 5356 Australia;X-APPLE-RADIUS=500;X-TITLE=64 Moorundie Street:geo:139.1307718,-34.4094949
END:VEVENT
BEGIN:VEVENT
DTSTART;TZID=Australia/Adelaide:20231224T103000
DTEND;TZID=Australia/Adelaide:20231224T120000
DTSTAMP:20260425T082128
CREATED:20231025T014743Z
LAST-MODIFIED:20231025T014743Z
UID:14851-1703413800-1703419200@barossanorth-parish.lutheran.org.au
SUMMARY:Worship Service - Pastor Damien
DESCRIPTION:At Truro with HC
URL:https://barossanorth-parish.lutheran.org.au/event/worship-service-pastor-damien-249/
LOCATION:Immanuel Lutheran Church\, Truro\, 64 Moorundie Street\, Truro\, SA\, 5356\, Australia
CATEGORIES:Worship
GEO:-34.4094949;139.1307718
X-APPLE-STRUCTURED-LOCATION;VALUE=URI;X-ADDRESS=Immanuel Lutheran Church Truro 64 Moorundie Street Truro SA 5356 Australia;X-APPLE-RADIUS=500;X-TITLE=64 Moorundie Street:geo:139.1307718,-34.4094949
END:VEVENT
BEGIN:VEVENT
DTSTART;TZID=Australia/Adelaide:20231129T133000
DTEND;TZID=Australia/Adelaide:20231129T153000
DTSTAMP:20260425T082128
CREATED:20230426T051941Z
LAST-MODIFIED:20230426T051941Z
UID:14110-1701264600-1701271800@barossanorth-parish.lutheran.org.au
SUMMARY:Truro Lutheran Ladies Guild
DESCRIPTION:AGM and discuss Guild’s 70th Anniversary in 2024
URL:https://barossanorth-parish.lutheran.org.au/event/truro-lutheran-ladies-guild-24/
LOCATION:Immanuel Lutheran Church\, Truro\, 64 Moorundie Street\, Truro\, SA\, 5356\, Australia
CATEGORIES:Fellowship,Ladies
GEO:-34.4094949;139.1307718
X-APPLE-STRUCTURED-LOCATION;VALUE=URI;X-ADDRESS=Immanuel Lutheran Church Truro 64 Moorundie Street Truro SA 5356 Australia;X-APPLE-RADIUS=500;X-TITLE=64 Moorundie Street:geo:139.1307718,-34.4094949
END:VEVENT
BEGIN:VEVENT
DTSTART;TZID=Australia/Adelaide:20231112T090000
DTEND;TZID=Australia/Adelaide:20231112T103000
DTSTAMP:20260425T082128
CREATED:20231013T065109Z
LAST-MODIFIED:20231013T065109Z
UID:14788-1699779600-1699785000@barossanorth-parish.lutheran.org.au
SUMMARY:Worship Service - Pastor Damien
DESCRIPTION:At Truro with HC \nNeukirch visiting
URL:https://barossanorth-parish.lutheran.org.au/event/worship-service-pastor-damien-238/
LOCATION:Immanuel Lutheran Church\, Truro\, 64 Moorundie Street\, Truro\, SA\, 5356\, Australia
CATEGORIES:Worship
GEO:-34.4094949;139.1307718
X-APPLE-STRUCTURED-LOCATION;VALUE=URI;X-ADDRESS=Immanuel Lutheran Church Truro 64 Moorundie Street Truro SA 5356 Australia;X-APPLE-RADIUS=500;X-TITLE=64 Moorundie Street:geo:139.1307718,-34.4094949
END:VEVENT
BEGIN:VEVENT
DTSTART;TZID=Australia/Adelaide:20231022T103000
DTEND;TZID=Australia/Adelaide:20231022T120000
DTSTAMP:20260425T082128
CREATED:20230913T050041Z
LAST-MODIFIED:20230913T050041Z
UID:14667-1697970600-1697976000@barossanorth-parish.lutheran.org.au
SUMMARY:Worship Service - Pastor Jim Bryan
DESCRIPTION:At Truro with HC
URL:https://barossanorth-parish.lutheran.org.au/event/worship-service-pastor-jim-bryan-4/
LOCATION:Immanuel Lutheran Church\, Truro\, 64 Moorundie Street\, Truro\, SA\, 5356\, Australia
CATEGORIES:Worship
GEO:-34.4094949;139.1307718
X-APPLE-STRUCTURED-LOCATION;VALUE=URI;X-ADDRESS=Immanuel Lutheran Church Truro 64 Moorundie Street Truro SA 5356 Australia;X-APPLE-RADIUS=500;X-TITLE=64 Moorundie Street:geo:139.1307718,-34.4094949
END:VEVENT
BEGIN:VEVENT
DTSTART;TZID=Australia/Adelaide:20230927T133000
DTEND;TZID=Australia/Adelaide:20230927T153000
DTSTAMP:20260425T082128
CREATED:20230426T051504Z
LAST-MODIFIED:20230426T051504Z
UID:14105-1695821400-1695828600@barossanorth-parish.lutheran.org.au
SUMMARY:Truro Lutheran Ladies Guild
DESCRIPTION:Donations to LWA\, LWSA/NT Projects for 2023 and biscuits for the Tanunda Lutheran Home
URL:https://barossanorth-parish.lutheran.org.au/event/truro-lutheran-ladies-guild-22/
LOCATION:Immanuel Lutheran Church\, Truro\, 64 Moorundie Street\, Truro\, SA\, 5356\, Australia
CATEGORIES:Fellowship,Ladies
GEO:-34.4094949;139.1307718
X-APPLE-STRUCTURED-LOCATION;VALUE=URI;X-ADDRESS=Immanuel Lutheran Church Truro 64 Moorundie Street Truro SA 5356 Australia;X-APPLE-RADIUS=500;X-TITLE=64 Moorundie Street:geo:139.1307718,-34.4094949
END:VEVENT
BEGIN:VEVENT
DTSTART;TZID=Australia/Adelaide:20230924T103000
DTEND;TZID=Australia/Adelaide:20230924T120000
DTSTAMP:20260425T082128
CREATED:20230823T051651Z
LAST-MODIFIED:20230823T051651Z
UID:14565-1695551400-1695556800@barossanorth-parish.lutheran.org.au
SUMMARY:Worship Service - Pastor Dean Zweck
DESCRIPTION:At Truro with HC
URL:https://barossanorth-parish.lutheran.org.au/event/worship-service-pastor-dean-zweck-2/
LOCATION:Immanuel Lutheran Church\, Truro\, 64 Moorundie Street\, Truro\, SA\, 5356\, Australia
CATEGORIES:Worship
GEO:-34.4094949;139.1307718
X-APPLE-STRUCTURED-LOCATION;VALUE=URI;X-ADDRESS=Immanuel Lutheran Church Truro 64 Moorundie Street Truro SA 5356 Australia;X-APPLE-RADIUS=500;X-TITLE=64 Moorundie Street:geo:139.1307718,-34.4094949
END:VEVENT
BEGIN:VEVENT
DTSTART;TZID=Australia/Adelaide:20230910T090000
DTEND;TZID=Australia/Adelaide:20230910T103000
DTSTAMP:20260425T082128
CREATED:20230816T042653Z
LAST-MODIFIED:20230816T042653Z
UID:14521-1694336400-1694341800@barossanorth-parish.lutheran.org.au
SUMMARY:Worship Service - Pastor David
DESCRIPTION:At Truro with HC
URL:https://barossanorth-parish.lutheran.org.au/event/worship-service-pastor-david-21/
LOCATION:Immanuel Lutheran Church\, Truro\, 64 Moorundie Street\, Truro\, SA\, 5356\, Australia
CATEGORIES:Worship
GEO:-34.4094949;139.1307718
X-APPLE-STRUCTURED-LOCATION;VALUE=URI;X-ADDRESS=Immanuel Lutheran Church Truro 64 Moorundie Street Truro SA 5356 Australia;X-APPLE-RADIUS=500;X-TITLE=64 Moorundie Street:geo:139.1307718,-34.4094949
END:VEVENT
BEGIN:VEVENT
DTSTART;TZID=Australia/Adelaide:20230827T103000
DTEND;TZID=Australia/Adelaide:20230827T120000
DTSTAMP:20260425T082128
CREATED:20230810T064649Z
LAST-MODIFIED:20230810T064649Z
UID:14481-1693132200-1693137600@barossanorth-parish.lutheran.org.au
SUMMARY:Worship Service - Pastor David
DESCRIPTION:At Truro with HC
URL:https://barossanorth-parish.lutheran.org.au/event/worship-service-pastor-david-17/
LOCATION:Immanuel Lutheran Church\, Truro\, 64 Moorundie Street\, Truro\, SA\, 5356\, Australia
CATEGORIES:Worship
GEO:-34.4094949;139.1307718
X-APPLE-STRUCTURED-LOCATION;VALUE=URI;X-ADDRESS=Immanuel Lutheran Church Truro 64 Moorundie Street Truro SA 5356 Australia;X-APPLE-RADIUS=500;X-TITLE=64 Moorundie Street:geo:139.1307718,-34.4094949
END:VEVENT
END:VCALENDAR