BEGIN:VCALENDAR
VERSION:2.0
PRODID:-//Barossa North Parish SA - ECPv6.15.12.2//NONSGML v1.0//EN
CALSCALE:GREGORIAN
METHOD:PUBLISH
X-ORIGINAL-URL:https://barossanorth-parish.lutheran.org.au
X-WR-CALDESC:Events for Barossa North Parish SA
REFRESH-INTERVAL;VALUE=DURATION:PT1H
X-Robots-Tag:noindex
X-PUBLISHED-TTL:PT1H
BEGIN:VTIMEZONE
TZID:Australia/Adelaide
BEGIN:STANDARD
TZOFFSETFROM:+1030
TZOFFSETTO:+0930
TZNAME:ACST
DTSTART:20250405T163000
END:STANDARD
BEGIN:DAYLIGHT
TZOFFSETFROM:+0930
TZOFFSETTO:+1030
TZNAME:ACDT
DTSTART:20251004T163000
END:DAYLIGHT
BEGIN:STANDARD
TZOFFSETFROM:+1030
TZOFFSETTO:+0930
TZNAME:ACST
DTSTART:20260404T163000
END:STANDARD
BEGIN:DAYLIGHT
TZOFFSETFROM:+0930
TZOFFSETTO:+1030
TZNAME:ACDT
DTSTART:20261003T163000
END:DAYLIGHT
BEGIN:STANDARD
TZOFFSETFROM:+1030
TZOFFSETTO:+0930
TZNAME:ACST
DTSTART:20270403T163000
END:STANDARD
BEGIN:DAYLIGHT
TZOFFSETFROM:+0930
TZOFFSETTO:+1030
TZNAME:ACDT
DTSTART:20271002T163000
END:DAYLIGHT
END:VTIMEZONE
BEGIN:VEVENT
DTSTART;TZID=Australia/Adelaide:20260426T090000
DTEND;TZID=Australia/Adelaide:20260426T100000
DTSTAMP:20260425T014657
CREATED:20260219T051939Z
LAST-MODIFIED:20260416T041324Z
UID:17896-1777194000-1777197600@barossanorth-parish.lutheran.org.au
SUMMARY:Worship Service - Layreading
DESCRIPTION:At Truro
URL:https://barossanorth-parish.lutheran.org.au/event/worship-service-26/
LOCATION:Immanuel Lutheran Church\, Truro\, 64 Moorundie Street\, Truro\, SA\, 5356\, Australia
CATEGORIES:Community,Family,Fellowship
GEO:-34.4094949;139.1307718
X-APPLE-STRUCTURED-LOCATION;VALUE=URI;X-ADDRESS=Immanuel Lutheran Church Truro 64 Moorundie Street Truro SA 5356 Australia;X-APPLE-RADIUS=500;X-TITLE=64 Moorundie Street:geo:139.1307718,-34.4094949
END:VEVENT
BEGIN:VEVENT
DTSTART;TZID=Australia/Adelaide:20260524T103000
DTEND;TZID=Australia/Adelaide:20260524T120000
DTSTAMP:20260425T014657
CREATED:20260226T050552Z
LAST-MODIFIED:20260226T050552Z
UID:17935-1779618600-1779624000@barossanorth-parish.lutheran.org.au
SUMMARY:Worship Service - Pastor Damien
DESCRIPTION:At Truro with HC with Strait Gate visiting
URL:https://barossanorth-parish.lutheran.org.au/event/worship-service-pastor-damien-411/
LOCATION:Immanuel Lutheran Church\, Truro\, 64 Moorundie Street\, Truro\, SA\, 5356\, Australia
CATEGORIES:Worship
GEO:-34.4094949;139.1307718
X-APPLE-STRUCTURED-LOCATION;VALUE=URI;X-ADDRESS=Immanuel Lutheran Church Truro 64 Moorundie Street Truro SA 5356 Australia;X-APPLE-RADIUS=500;X-TITLE=64 Moorundie Street:geo:139.1307718,-34.4094949
END:VEVENT
BEGIN:VEVENT
DTSTART;TZID=Australia/Adelaide:20260628T090000
DTEND;TZID=Australia/Adelaide:20260628T103000
DTSTAMP:20260425T014657
CREATED:20260311T042753Z
LAST-MODIFIED:20260311T042753Z
UID:17989-1782637200-1782642600@barossanorth-parish.lutheran.org.au
SUMMARY:Worship Service - Pastor Damien
DESCRIPTION:At Truro with HC
URL:https://barossanorth-parish.lutheran.org.au/event/worship-service-pastor-damien-420/
LOCATION:Immanuel Lutheran Church\, Truro\, 64 Moorundie Street\, Truro\, SA\, 5356\, Australia
CATEGORIES:Worship
GEO:-34.4094949;139.1307718
X-APPLE-STRUCTURED-LOCATION;VALUE=URI;X-ADDRESS=Immanuel Lutheran Church Truro 64 Moorundie Street Truro SA 5356 Australia;X-APPLE-RADIUS=500;X-TITLE=64 Moorundie Street:geo:139.1307718,-34.4094949
END:VEVENT
BEGIN:VEVENT
DTSTART;TZID=Australia/Adelaide:20260712T090000
DTEND;TZID=Australia/Adelaide:20260712T103000
DTSTAMP:20260425T014657
CREATED:20260312T043412Z
LAST-MODIFIED:20260312T043412Z
UID:18016-1783846800-1783852200@barossanorth-parish.lutheran.org.au
SUMMARY:Worship Service - Pastor Mark Kleemann
DESCRIPTION:At Truro with HC
URL:https://barossanorth-parish.lutheran.org.au/event/worship-service-pastor-mark-kleemann-21/
LOCATION:Immanuel Lutheran Church\, Truro\, 64 Moorundie Street\, Truro\, SA\, 5356\, Australia
CATEGORIES:Worship
GEO:-34.4094949;139.1307718
X-APPLE-STRUCTURED-LOCATION;VALUE=URI;X-ADDRESS=Immanuel Lutheran Church Truro 64 Moorundie Street Truro SA 5356 Australia;X-APPLE-RADIUS=500;X-TITLE=64 Moorundie Street:geo:139.1307718,-34.4094949
END:VEVENT
BEGIN:VEVENT
DTSTART;TZID=Australia/Adelaide:20260726T103000
DTEND;TZID=Australia/Adelaide:20260726T120000
DTSTAMP:20260425T014657
CREATED:20260312T052850Z
LAST-MODIFIED:20260312T052850Z
UID:18039-1785061800-1785067200@barossanorth-parish.lutheran.org.au
SUMMARY:Worship Service - Pastor Damien
DESCRIPTION:At Truro with HC
URL:https://barossanorth-parish.lutheran.org.au/event/worship-service-pastor-damien-428/
LOCATION:Immanuel Lutheran Church\, Truro\, 64 Moorundie Street\, Truro\, SA\, 5356\, Australia
CATEGORIES:Worship
GEO:-34.4094949;139.1307718
X-APPLE-STRUCTURED-LOCATION;VALUE=URI;X-ADDRESS=Immanuel Lutheran Church Truro 64 Moorundie Street Truro SA 5356 Australia;X-APPLE-RADIUS=500;X-TITLE=64 Moorundie Street:geo:139.1307718,-34.4094949
END:VEVENT
END:VCALENDAR