BEGIN:VCALENDAR
VERSION:2.0
PRODID:-//Barossa North Parish SA - ECPv6.15.12.2//NONSGML v1.0//EN
CALSCALE:GREGORIAN
METHOD:PUBLISH
X-ORIGINAL-URL:https://barossanorth-parish.lutheran.org.au
X-WR-CALDESC:Events for Barossa North Parish SA
REFRESH-INTERVAL;VALUE=DURATION:PT1H
X-Robots-Tag:noindex
X-PUBLISHED-TTL:PT1H
BEGIN:VTIMEZONE
TZID:Australia/Adelaide
BEGIN:STANDARD
TZOFFSETFROM:+1030
TZOFFSETTO:+0930
TZNAME:ACST
DTSTART:20200404T163000
END:STANDARD
BEGIN:DAYLIGHT
TZOFFSETFROM:+0930
TZOFFSETTO:+1030
TZNAME:ACDT
DTSTART:20201003T163000
END:DAYLIGHT
BEGIN:STANDARD
TZOFFSETFROM:+1030
TZOFFSETTO:+0930
TZNAME:ACST
DTSTART:20210403T163000
END:STANDARD
BEGIN:DAYLIGHT
TZOFFSETFROM:+0930
TZOFFSETTO:+1030
TZNAME:ACDT
DTSTART:20211002T163000
END:DAYLIGHT
BEGIN:STANDARD
TZOFFSETFROM:+1030
TZOFFSETTO:+0930
TZNAME:ACST
DTSTART:20220402T163000
END:STANDARD
BEGIN:DAYLIGHT
TZOFFSETFROM:+0930
TZOFFSETTO:+1030
TZNAME:ACDT
DTSTART:20221001T163000
END:DAYLIGHT
BEGIN:STANDARD
TZOFFSETFROM:+1030
TZOFFSETTO:+0930
TZNAME:ACST
DTSTART:20230401T163000
END:STANDARD
BEGIN:DAYLIGHT
TZOFFSETFROM:+0930
TZOFFSETTO:+1030
TZNAME:ACDT
DTSTART:20230930T163000
END:DAYLIGHT
BEGIN:STANDARD
TZOFFSETFROM:+1030
TZOFFSETTO:+0930
TZNAME:ACST
DTSTART:20240406T163000
END:STANDARD
BEGIN:DAYLIGHT
TZOFFSETFROM:+0930
TZOFFSETTO:+1030
TZNAME:ACDT
DTSTART:20241005T163000
END:DAYLIGHT
BEGIN:STANDARD
TZOFFSETFROM:+1030
TZOFFSETTO:+0930
TZNAME:ACST
DTSTART:20250405T163000
END:STANDARD
BEGIN:DAYLIGHT
TZOFFSETFROM:+0930
TZOFFSETTO:+1030
TZNAME:ACDT
DTSTART:20251004T163000
END:DAYLIGHT
BEGIN:STANDARD
TZOFFSETFROM:+1030
TZOFFSETTO:+0930
TZNAME:ACST
DTSTART:20260404T163000
END:STANDARD
BEGIN:DAYLIGHT
TZOFFSETFROM:+0930
TZOFFSETTO:+1030
TZNAME:ACDT
DTSTART:20261003T163000
END:DAYLIGHT
END:VTIMEZONE
BEGIN:VEVENT
DTSTART;TZID=Australia/Adelaide:20250521T103000
DTEND;TZID=Australia/Adelaide:20250521T133000
DTSTAMP:20260426T013051
CREATED:20250424T054951Z
LAST-MODIFIED:20250424T054951Z
UID:16834-1747823400-1747834200@barossanorth-parish.lutheran.org.au
SUMMARY:Holy Trinity Women's Fellowship
DESCRIPTION:At the Gawler Cinema to watch a movie
URL:https://barossanorth-parish.lutheran.org.au/event/holy-trinity-womens-fellowship-44/
LOCATION:Gawler Cinema\, 11 Murray Street\, Gawler\, SA\, 5118\, Australia
CATEGORIES:Fellowship,Ladies
GEO:-34.6038143;138.7496991
X-APPLE-STRUCTURED-LOCATION;VALUE=URI;X-ADDRESS=Gawler Cinema 11 Murray Street Gawler SA 5118 Australia;X-APPLE-RADIUS=500;X-TITLE=11 Murray Street:geo:138.7496991,-34.6038143
END:VEVENT
BEGIN:VEVENT
DTSTART;TZID=Australia/Adelaide:20240515T103000
DTEND;TZID=Australia/Adelaide:20240515T133000
DTSTAMP:20260426T013051
CREATED:20240214T042537Z
LAST-MODIFIED:20240214T042537Z
UID:15308-1715769000-1715779800@barossanorth-parish.lutheran.org.au
SUMMARY:Holy Trinity Women's Fellowship
DESCRIPTION:Silver Screening at the Gawler Cinema
URL:https://barossanorth-parish.lutheran.org.au/event/holy-trinity-womens-fellowship-34/
LOCATION:Gawler Cinema\, 11 Murray Street\, Gawler\, SA\, 5118\, Australia
CATEGORIES:Fellowship,Ladies
GEO:-34.6038143;138.7496991
X-APPLE-STRUCTURED-LOCATION;VALUE=URI;X-ADDRESS=Gawler Cinema 11 Murray Street Gawler SA 5118 Australia;X-APPLE-RADIUS=500;X-TITLE=11 Murray Street:geo:138.7496991,-34.6038143
END:VEVENT
BEGIN:VEVENT
DTSTART;TZID=Australia/Adelaide:20220908T093000
DTEND;TZID=Australia/Adelaide:20220908T153000
DTSTAMP:20260426T013051
CREATED:20220804T074107Z
LAST-MODIFIED:20220810T034541Z
UID:12899-1662629400-1662651000@barossanorth-parish.lutheran.org.au
SUMMARY:Ebenezer-Neukirch Women's Fellowship
DESCRIPTION:Gawler Cinema – Falling for Figaro \nMeet at Sue’s to leave at 9:45am sharp \nTotal cost is $20 which includes lunch
URL:https://barossanorth-parish.lutheran.org.au/event/ebenezer-neukirch-womens-fellowship-14/
LOCATION:Gawler Cinema\, 11 Murray Street\, Gawler\, SA\, 5118\, Australia
CATEGORIES:Fellowship,Ladies
GEO:-34.6038143;138.7496991
X-APPLE-STRUCTURED-LOCATION;VALUE=URI;X-ADDRESS=Gawler Cinema 11 Murray Street Gawler SA 5118 Australia;X-APPLE-RADIUS=500;X-TITLE=11 Murray Street:geo:138.7496991,-34.6038143
END:VEVENT
BEGIN:VEVENT
DTSTART;TZID=Australia/Adelaide:20220518T093000
DTEND;TZID=Australia/Adelaide:20220518T133000
DTSTAMP:20260426T013051
CREATED:20220128T002414Z
LAST-MODIFIED:20220128T002414Z
UID:11866-1652866200-1652880600@barossanorth-parish.lutheran.org.au
SUMMARY:Holy Trinity Women's Fellowship
DESCRIPTION:Meeting at 9.30am \nMorning Tea at 10.15am \nMovie Screening at 11.00am
URL:https://barossanorth-parish.lutheran.org.au/event/holy-trinity-womens-fellowship-12/
LOCATION:Gawler Cinema\, 11 Murray Street\, Gawler\, SA\, 5118\, Australia
CATEGORIES:Fellowship,Ladies
GEO:-34.6038143;138.7496991
X-APPLE-STRUCTURED-LOCATION;VALUE=URI;X-ADDRESS=Gawler Cinema 11 Murray Street Gawler SA 5118 Australia;X-APPLE-RADIUS=500;X-TITLE=11 Murray Street:geo:138.7496991,-34.6038143
END:VEVENT
BEGIN:VEVENT
DTSTART;TZID=Australia/Adelaide:20211014T093000
DTEND;TZID=Australia/Adelaide:20211014T143000
DTSTAMP:20260426T013051
CREATED:20210923T054720Z
LAST-MODIFIED:20210923T054720Z
UID:11299-1634203800-1634221800@barossanorth-parish.lutheran.org.au
SUMMARY:Ebenezer-Neukirch's Women's Fellowship
DESCRIPTION:
URL:https://barossanorth-parish.lutheran.org.au/event/ebenezer-neukirchs-womens-fellowship/
LOCATION:Gawler Cinema\, 11 Murray Street\, Gawler\, SA\, 5118\, Australia
CATEGORIES:Fellowship,Ladies
GEO:-34.6038143;138.7496991
X-APPLE-STRUCTURED-LOCATION;VALUE=URI;X-ADDRESS=Gawler Cinema 11 Murray Street Gawler SA 5118 Australia;X-APPLE-RADIUS=500;X-TITLE=11 Murray Street:geo:138.7496991,-34.6038143
END:VEVENT
END:VCALENDAR