BEGIN:VCALENDAR
VERSION:2.0
PRODID:-//Barossa North Parish SA - ECPv6.15.12.2//NONSGML v1.0//EN
CALSCALE:GREGORIAN
METHOD:PUBLISH
X-WR-CALNAME:Barossa North Parish SA
X-ORIGINAL-URL:https://barossanorth-parish.lutheran.org.au
X-WR-CALDESC:Events for Barossa North Parish SA
REFRESH-INTERVAL;VALUE=DURATION:PT1H
X-Robots-Tag:noindex
X-PUBLISHED-TTL:PT1H
BEGIN:VTIMEZONE
TZID:Australia/Adelaide
BEGIN:STANDARD
TZOFFSETFROM:+1030
TZOFFSETTO:+0930
TZNAME:ACST
DTSTART:20250405T163000
END:STANDARD
BEGIN:DAYLIGHT
TZOFFSETFROM:+0930
TZOFFSETTO:+1030
TZNAME:ACDT
DTSTART:20251004T163000
END:DAYLIGHT
BEGIN:STANDARD
TZOFFSETFROM:+1030
TZOFFSETTO:+0930
TZNAME:ACST
DTSTART:20260404T163000
END:STANDARD
BEGIN:DAYLIGHT
TZOFFSETFROM:+0930
TZOFFSETTO:+1030
TZNAME:ACDT
DTSTART:20261003T163000
END:DAYLIGHT
BEGIN:STANDARD
TZOFFSETFROM:+1030
TZOFFSETTO:+0930
TZNAME:ACST
DTSTART:20270403T163000
END:STANDARD
BEGIN:DAYLIGHT
TZOFFSETFROM:+0930
TZOFFSETTO:+1030
TZNAME:ACDT
DTSTART:20271002T163000
END:DAYLIGHT
END:VTIMEZONE
BEGIN:VEVENT
DTSTART;TZID=Australia/Adelaide:20260513T130000
DTEND;TZID=Australia/Adelaide:20260513T160000
DTSTAMP:20260425T073923
CREATED:20260416T043123Z
LAST-MODIFIED:20260416T043123Z
UID:18152-1778677200-1778688000@barossanorth-parish.lutheran.org.au
SUMMARY:Immanuel LP Women's Fellowship
DESCRIPTION:In the Angus Room in the Barossa Council Public Library
URL:https://barossanorth-parish.lutheran.org.au/event/immanuel-lp-womens-fellowship-19/
LOCATION:Barossa Council Public Library\, 43-51 Tanunda Road\, Nuriootpa\, SA\, 5355\, Australia
CATEGORIES:Fellowship,Ladies
GEO:-34.4813525;138.992625
X-APPLE-STRUCTURED-LOCATION;VALUE=URI;X-ADDRESS=Barossa Council Public Library 43-51 Tanunda Road Nuriootpa SA 5355 Australia;X-APPLE-RADIUS=500;X-TITLE=43-51 Tanunda Road:geo:138.992625,-34.4813525
END:VEVENT
END:VCALENDAR