BEGIN:VCALENDAR
VERSION:2.0
PRODID:-//Barossa North Parish SA - ECPv6.15.12.2//NONSGML v1.0//EN
CALSCALE:GREGORIAN
METHOD:PUBLISH
X-WR-CALNAME:Barossa North Parish SA
X-ORIGINAL-URL:https://barossanorth-parish.lutheran.org.au
X-WR-CALDESC:Events for Barossa North Parish SA
REFRESH-INTERVAL;VALUE=DURATION:PT1H
X-Robots-Tag:noindex
X-PUBLISHED-TTL:PT1H
BEGIN:VTIMEZONE
TZID:Australia/Adelaide
BEGIN:STANDARD
TZOFFSETFROM:+1030
TZOFFSETTO:+0930
TZNAME:ACST
DTSTART:20250405T163000
END:STANDARD
BEGIN:DAYLIGHT
TZOFFSETFROM:+0930
TZOFFSETTO:+1030
TZNAME:ACDT
DTSTART:20251004T163000
END:DAYLIGHT
BEGIN:STANDARD
TZOFFSETFROM:+1030
TZOFFSETTO:+0930
TZNAME:ACST
DTSTART:20260404T163000
END:STANDARD
BEGIN:DAYLIGHT
TZOFFSETFROM:+0930
TZOFFSETTO:+1030
TZNAME:ACDT
DTSTART:20261003T163000
END:DAYLIGHT
BEGIN:STANDARD
TZOFFSETFROM:+1030
TZOFFSETTO:+0930
TZNAME:ACST
DTSTART:20270403T163000
END:STANDARD
BEGIN:DAYLIGHT
TZOFFSETFROM:+0930
TZOFFSETTO:+1030
TZNAME:ACDT
DTSTART:20271002T163000
END:DAYLIGHT
END:VTIMEZONE
BEGIN:VEVENT
DTSTART;TZID=Australia/Adelaide:20260503T100000
DTEND;TZID=Australia/Adelaide:20260503T120000
DTSTAMP:20260425T015248
CREATED:20260212T055530Z
LAST-MODIFIED:20260212T055530Z
UID:17881-1777802400-1777809600@barossanorth-parish.lutheran.org.au
SUMMARY:Blessing of Seed\, Soil and Water Parish Service - Pastor Damien
DESCRIPTION:At Baldon Station followed by a pooled lunch and games
URL:https://barossanorth-parish.lutheran.org.au/event/blessing-of-seed-soil-and-water-parish-service-pastor-damien/
LOCATION:Baldon Station\, Baldon Road\, Towitta\, SA\, 5356\, Australia
CATEGORIES:Worship
GEO:-34.4437498;139.2500804
X-APPLE-STRUCTURED-LOCATION;VALUE=URI;X-ADDRESS=Baldon Station Baldon Road Towitta SA 5356 Australia;X-APPLE-RADIUS=500;X-TITLE=Baldon Road:geo:139.2500804,-34.4437498
END:VEVENT
END:VCALENDAR