BEGIN:VCALENDAR
VERSION:2.0
PRODID:-//Barossa North Parish SA - ECPv6.15.12.2//NONSGML v1.0//EN
CALSCALE:GREGORIAN
METHOD:PUBLISH
X-ORIGINAL-URL:https://barossanorth-parish.lutheran.org.au
X-WR-CALDESC:Events for Barossa North Parish SA
REFRESH-INTERVAL;VALUE=DURATION:PT1H
X-Robots-Tag:noindex
X-PUBLISHED-TTL:PT1H
BEGIN:VTIMEZONE
TZID:Australia/Adelaide
BEGIN:STANDARD
TZOFFSETFROM:+1030
TZOFFSETTO:+0930
TZNAME:ACST
DTSTART:20250405T163000
END:STANDARD
BEGIN:DAYLIGHT
TZOFFSETFROM:+0930
TZOFFSETTO:+1030
TZNAME:ACDT
DTSTART:20251004T163000
END:DAYLIGHT
BEGIN:STANDARD
TZOFFSETFROM:+1030
TZOFFSETTO:+0930
TZNAME:ACST
DTSTART:20260404T163000
END:STANDARD
BEGIN:DAYLIGHT
TZOFFSETFROM:+0930
TZOFFSETTO:+1030
TZNAME:ACDT
DTSTART:20261003T163000
END:DAYLIGHT
BEGIN:STANDARD
TZOFFSETFROM:+1030
TZOFFSETTO:+0930
TZNAME:ACST
DTSTART:20270403T163000
END:STANDARD
BEGIN:DAYLIGHT
TZOFFSETFROM:+0930
TZOFFSETTO:+1030
TZNAME:ACDT
DTSTART:20271002T163000
END:DAYLIGHT
END:VTIMEZONE
BEGIN:VEVENT
DTSTART;TZID=Australia/Adelaide:20260607T103000
DTEND;TZID=Australia/Adelaide:20260607T120000
DTSTAMP:20260425T045240
CREATED:20260306T072224Z
LAST-MODIFIED:20260306T072224Z
UID:17967-1780828200-1780833600@barossanorth-parish.lutheran.org.au
SUMMARY:Worship Service - Pastor Damien
DESCRIPTION:At Immanuel LP with HC with Strait Gate visiting
URL:https://barossanorth-parish.lutheran.org.au/event/worship-service-pastor-damien-416/
LOCATION:Immanuel Lutheran Church\, Light Pass\, 19 Immanuel Way\, Light Pass\, SA\, 5355\, Australia
CATEGORIES:Worship
GEO:-34.4712692;139.0260373
X-APPLE-STRUCTURED-LOCATION;VALUE=URI;X-ADDRESS=Immanuel Lutheran Church Light Pass 19 Immanuel Way Light Pass SA 5355 Australia;X-APPLE-RADIUS=500;X-TITLE=19 Immanuel Way:geo:139.0260373,-34.4712692
END:VEVENT
BEGIN:VEVENT
DTSTART;TZID=Australia/Adelaide:20260614T090000
DTEND;TZID=Australia/Adelaide:20260614T103000
DTSTAMP:20260425T045240
CREATED:20260306T072413Z
LAST-MODIFIED:20260306T072413Z
UID:17971-1781427600-1781433000@barossanorth-parish.lutheran.org.au
SUMMARY:Worship Service - Pastor Damien
DESCRIPTION:At Ebenezer with HC with Neukirch visiting
URL:https://barossanorth-parish.lutheran.org.au/event/worship-service-pastor-damien-418/
LOCATION:St John’s Lutheran Church\, Ebenezer\, 186 Ebenezer Road\, Ebenezer\, SA\, 5355\, Australia
CATEGORIES:Worship
GEO:-34.4231405;139.0335055
X-APPLE-STRUCTURED-LOCATION;VALUE=URI;X-ADDRESS=St John’s Lutheran Church Ebenezer 186 Ebenezer Road Ebenezer SA 5355 Australia;X-APPLE-RADIUS=500;X-TITLE=186 Ebenezer Road:geo:139.0335055,-34.4231405
END:VEVENT
BEGIN:VEVENT
DTSTART;TZID=Australia/Adelaide:20260614T103000
DTEND;TZID=Australia/Adelaide:20260614T120000
DTSTAMP:20260425T045240
CREATED:20260306T072323Z
LAST-MODIFIED:20260306T072323Z
UID:17969-1781433000-1781438400@barossanorth-parish.lutheran.org.au
SUMMARY:Worship Service - Pastor Damien
DESCRIPTION:At Holy Trinity with HC with Strait Gate visiting
URL:https://barossanorth-parish.lutheran.org.au/event/worship-service-pastor-damien-417/
LOCATION:Holy Trinity Lutheran Church\, Nuriootpa\, 6 Penrice Road\, Nuriootpa\, SA\, 5355\, Australia
CATEGORIES:Worship
GEO:-34.4719455;139.0096044
X-APPLE-STRUCTURED-LOCATION;VALUE=URI;X-ADDRESS=Holy Trinity Lutheran Church Nuriootpa 6 Penrice Road Nuriootpa SA 5355 Australia;X-APPLE-RADIUS=500;X-TITLE=6 Penrice Road:geo:139.0096044,-34.4719455
END:VEVENT
BEGIN:VEVENT
DTSTART;TZID=Australia/Adelaide:20260621T090000
DTEND;TZID=Australia/Adelaide:20260621T103000
DTSTAMP:20260425T045240
CREATED:20260306T072702Z
LAST-MODIFIED:20260306T072702Z
UID:17977-1782032400-1782037800@barossanorth-parish.lutheran.org.au
SUMMARY:Blessing of the Vines Service - Pastor Damien
DESCRIPTION:At Strait Gate with HC with Truro and Stockwell visiting
URL:https://barossanorth-parish.lutheran.org.au/event/blessing-of-the-vines-service-pastor-damien/
LOCATION:Strait Gate Lutheran Church\, Light Pass\, 412 Light Pass Road\, Light Pass\, SA\, 5355\, Australia
CATEGORIES:Worship
GEO:-34.4673621;139.0250785
X-APPLE-STRUCTURED-LOCATION;VALUE=URI;X-ADDRESS=Strait Gate Lutheran Church Light Pass 412 Light Pass Road Light Pass SA 5355 Australia;X-APPLE-RADIUS=500;X-TITLE=412 Light Pass Road:geo:139.0250785,-34.4673621
END:VEVENT
BEGIN:VEVENT
DTSTART;TZID=Australia/Adelaide:20260621T103000
DTEND;TZID=Australia/Adelaide:20260621T120000
DTSTAMP:20260425T045240
CREATED:20260311T042308Z
LAST-MODIFIED:20260311T042308Z
UID:17981-1782037800-1782043200@barossanorth-parish.lutheran.org.au
SUMMARY:Worship Service - Pastor Damien
DESCRIPTION:At Neukirch with HC with Ebenezer visiting
URL:https://barossanorth-parish.lutheran.org.au/event/worship-service-pastor-damien-419/
LOCATION:Pilgrim Lutheran Church Neukirch\, 655 Belvidere Road\, Ebenezer\, SA\, 5355\, Australia
CATEGORIES:Worship
GEO:-34.4051633;139.0114704
X-APPLE-STRUCTURED-LOCATION;VALUE=URI;X-ADDRESS=Pilgrim Lutheran Church Neukirch 655 Belvidere Road Ebenezer SA 5355 Australia;X-APPLE-RADIUS=500;X-TITLE=655 Belvidere Road:geo:139.0114704,-34.4051633
END:VEVENT
BEGIN:VEVENT
DTSTART;TZID=Australia/Adelaide:20260628T090000
DTEND;TZID=Australia/Adelaide:20260628T103000
DTSTAMP:20260425T045240
CREATED:20260311T042753Z
LAST-MODIFIED:20260311T042753Z
UID:17989-1782637200-1782642600@barossanorth-parish.lutheran.org.au
SUMMARY:Worship Service - Pastor Damien
DESCRIPTION:At Truro with HC
URL:https://barossanorth-parish.lutheran.org.au/event/worship-service-pastor-damien-420/
LOCATION:Immanuel Lutheran Church\, Truro\, 64 Moorundie Street\, Truro\, SA\, 5356\, Australia
CATEGORIES:Worship
GEO:-34.4094949;139.1307718
X-APPLE-STRUCTURED-LOCATION;VALUE=URI;X-ADDRESS=Immanuel Lutheran Church Truro 64 Moorundie Street Truro SA 5356 Australia;X-APPLE-RADIUS=500;X-TITLE=64 Moorundie Street:geo:139.1307718,-34.4094949
END:VEVENT
BEGIN:VEVENT
DTSTART;TZID=Australia/Adelaide:20260628T103000
DTEND;TZID=Australia/Adelaide:20260628T120000
DTSTAMP:20260425T045240
CREATED:20260311T042849Z
LAST-MODIFIED:20260311T042849Z
UID:17991-1782642600-1782648000@barossanorth-parish.lutheran.org.au
SUMMARY:Worship Service - Pastor Damien
DESCRIPTION:At Stockwell with HC with Strait Gate and Holy Trinity visiting
URL:https://barossanorth-parish.lutheran.org.au/event/worship-service-pastor-damien-421/
LOCATION:St Thomas Lutheran Church\, Stockwell\, 1 Stockwell Road\, Stockwell\, SA\, 5355\, Australia
CATEGORIES:Worship
GEO:-34.4338098;139.0524909
X-APPLE-STRUCTURED-LOCATION;VALUE=URI;X-ADDRESS=St Thomas Lutheran Church Stockwell 1 Stockwell Road Stockwell SA 5355 Australia;X-APPLE-RADIUS=500;X-TITLE=1 Stockwell Road:geo:139.0524909,-34.4338098
END:VEVENT
BEGIN:VEVENT
DTSTART;TZID=Australia/Adelaide:20260705T090000
DTEND;TZID=Australia/Adelaide:20260705T103000
DTSTAMP:20260425T045240
CREATED:20260311T043828Z
LAST-MODIFIED:20260312T042726Z
UID:18006-1783242000-1783247400@barossanorth-parish.lutheran.org.au
SUMMARY:Worship Service - Pastor Damien
DESCRIPTION:At Immanuel LP with HC with Strait Gate and Stockwell visiting
URL:https://barossanorth-parish.lutheran.org.au/event/worship-service-pastor-damien-423/
LOCATION:Immanuel Lutheran Church\, Light Pass\, 19 Immanuel Way\, Light Pass\, SA\, 5355\, Australia
CATEGORIES:Worship
GEO:-34.4712692;139.0260373
X-APPLE-STRUCTURED-LOCATION;VALUE=URI;X-ADDRESS=Immanuel Lutheran Church Light Pass 19 Immanuel Way Light Pass SA 5355 Australia;X-APPLE-RADIUS=500;X-TITLE=19 Immanuel Way:geo:139.0260373,-34.4712692
END:VEVENT
BEGIN:VEVENT
DTSTART;TZID=Australia/Adelaide:20260705T103000
DTEND;TZID=Australia/Adelaide:20260705T120000
DTSTAMP:20260425T045240
CREATED:20260311T043728Z
LAST-MODIFIED:20260311T043728Z
UID:18004-1783247400-1783252800@barossanorth-parish.lutheran.org.au
SUMMARY:Worship Service - Pastor Damien
DESCRIPTION:At Dutton with HC
URL:https://barossanorth-parish.lutheran.org.au/event/worship-service-pastor-damien-422/
LOCATION:St John’s Lutheran Church\, Dutton\, 24 Rice Street\, Dutton\, SA\, 5356\, Australia
CATEGORIES:Worship
GEO:-34.3613829;139.1467776
X-APPLE-STRUCTURED-LOCATION;VALUE=URI;X-ADDRESS=St John’s Lutheran Church Dutton 24 Rice Street Dutton SA 5356 Australia;X-APPLE-RADIUS=500;X-TITLE=24 Rice Street:geo:139.1467776,-34.3613829
END:VEVENT
BEGIN:VEVENT
DTSTART;TZID=Australia/Adelaide:20260712T090000
DTEND;TZID=Australia/Adelaide:20260712T103000
DTSTAMP:20260425T045240
CREATED:20260312T043210Z
LAST-MODIFIED:20260312T043210Z
UID:18012-1783846800-1783852200@barossanorth-parish.lutheran.org.au
SUMMARY:Worship Service - Pastor Damien
DESCRIPTION:At Holy Trinity with HC
URL:https://barossanorth-parish.lutheran.org.au/event/worship-service-pastor-damien-424/
LOCATION:Holy Trinity Lutheran Church\, Nuriootpa\, 6 Penrice Road\, Nuriootpa\, SA\, 5355\, Australia
CATEGORIES:Worship
GEO:-34.4719455;139.0096044
X-APPLE-STRUCTURED-LOCATION;VALUE=URI;X-ADDRESS=Holy Trinity Lutheran Church Nuriootpa 6 Penrice Road Nuriootpa SA 5355 Australia;X-APPLE-RADIUS=500;X-TITLE=6 Penrice Road:geo:139.0096044,-34.4719455
END:VEVENT
BEGIN:VEVENT
DTSTART;TZID=Australia/Adelaide:20260712T090000
DTEND;TZID=Australia/Adelaide:20260712T103000
DTSTAMP:20260425T045240
CREATED:20260312T043412Z
LAST-MODIFIED:20260312T043412Z
UID:18016-1783846800-1783852200@barossanorth-parish.lutheran.org.au
SUMMARY:Worship Service - Pastor Mark Kleemann
DESCRIPTION:At Truro with HC
URL:https://barossanorth-parish.lutheran.org.au/event/worship-service-pastor-mark-kleemann-21/
LOCATION:Immanuel Lutheran Church\, Truro\, 64 Moorundie Street\, Truro\, SA\, 5356\, Australia
CATEGORIES:Worship
GEO:-34.4094949;139.1307718
X-APPLE-STRUCTURED-LOCATION;VALUE=URI;X-ADDRESS=Immanuel Lutheran Church Truro 64 Moorundie Street Truro SA 5356 Australia;X-APPLE-RADIUS=500;X-TITLE=64 Moorundie Street:geo:139.1307718,-34.4094949
END:VEVENT
BEGIN:VEVENT
DTSTART;TZID=Australia/Adelaide:20260712T103000
DTEND;TZID=Australia/Adelaide:20260712T120000
DTSTAMP:20260425T045240
CREATED:20260312T043321Z
LAST-MODIFIED:20260312T043321Z
UID:18014-1783852200-1783857600@barossanorth-parish.lutheran.org.au
SUMMARY:Worship Service - Pastor Damien
DESCRIPTION:At Ebenezer with HC with Strait Gate and Neukirch visiting
URL:https://barossanorth-parish.lutheran.org.au/event/worship-service-pastor-damien-425/
LOCATION:St John’s Lutheran Church\, Ebenezer\, 186 Ebenezer Road\, Ebenezer\, SA\, 5355\, Australia
CATEGORIES:Worship
GEO:-34.4231405;139.0335055
X-APPLE-STRUCTURED-LOCATION;VALUE=URI;X-ADDRESS=St John’s Lutheran Church Ebenezer 186 Ebenezer Road Ebenezer SA 5355 Australia;X-APPLE-RADIUS=500;X-TITLE=186 Ebenezer Road:geo:139.0335055,-34.4231405
END:VEVENT
BEGIN:VEVENT
DTSTART;TZID=Australia/Adelaide:20260712T103000
DTEND;TZID=Australia/Adelaide:20260712T120000
DTSTAMP:20260425T045240
CREATED:20260312T043505Z
LAST-MODIFIED:20260312T043505Z
UID:18018-1783852200-1783857600@barossanorth-parish.lutheran.org.au
SUMMARY:Worship Service - Pastor Mark Kleemann
DESCRIPTION:At Stockwell with HC
URL:https://barossanorth-parish.lutheran.org.au/event/worship-service-pastor-mark-kleemann-22/
LOCATION:St Thomas Lutheran Church\, Stockwell\, 1 Stockwell Road\, Stockwell\, SA\, 5355\, Australia
CATEGORIES:Worship
GEO:-34.4338098;139.0524909
X-APPLE-STRUCTURED-LOCATION;VALUE=URI;X-ADDRESS=St Thomas Lutheran Church Stockwell 1 Stockwell Road Stockwell SA 5355 Australia;X-APPLE-RADIUS=500;X-TITLE=1 Stockwell Road:geo:139.0524909,-34.4338098
END:VEVENT
BEGIN:VEVENT
DTSTART;TZID=Australia/Adelaide:20260719T090000
DTEND;TZID=Australia/Adelaide:20260719T103000
DTSTAMP:20260425T045240
CREATED:20260312T044108Z
LAST-MODIFIED:20260312T044108Z
UID:18026-1784451600-1784457000@barossanorth-parish.lutheran.org.au
SUMMARY:Worship Service - Pastor Damien
DESCRIPTION:At Neukirch with HC with Ebenezer visiting
URL:https://barossanorth-parish.lutheran.org.au/event/worship-service-pastor-damien-427/
LOCATION:Pilgrim Lutheran Church Neukirch\, 655 Belvidere Road\, Ebenezer\, SA\, 5355\, Australia
CATEGORIES:Worship
GEO:-34.4051633;139.0114704
X-APPLE-STRUCTURED-LOCATION;VALUE=URI;X-ADDRESS=Pilgrim Lutheran Church Neukirch 655 Belvidere Road Ebenezer SA 5355 Australia;X-APPLE-RADIUS=500;X-TITLE=655 Belvidere Road:geo:139.0114704,-34.4051633
END:VEVENT
BEGIN:VEVENT
DTSTART;TZID=Australia/Adelaide:20260719T103000
DTEND;TZID=Australia/Adelaide:20260719T120000
DTSTAMP:20260425T045240
CREATED:20260312T043728Z
LAST-MODIFIED:20260312T043728Z
UID:18022-1784457000-1784462400@barossanorth-parish.lutheran.org.au
SUMMARY:Worship Service - Pastor Damien
DESCRIPTION:At Strait Gate with HC with Stockwell visiting
URL:https://barossanorth-parish.lutheran.org.au/event/worship-service-pastor-damien-426/
LOCATION:Strait Gate Lutheran Church\, Light Pass\, 412 Light Pass Road\, Light Pass\, SA\, 5355\, Australia
CATEGORIES:Worship
GEO:-34.4673621;139.0250785
X-APPLE-STRUCTURED-LOCATION;VALUE=URI;X-ADDRESS=Strait Gate Lutheran Church Light Pass 412 Light Pass Road Light Pass SA 5355 Australia;X-APPLE-RADIUS=500;X-TITLE=412 Light Pass Road:geo:139.0250785,-34.4673621
END:VEVENT
BEGIN:VEVENT
DTSTART;TZID=Australia/Adelaide:20260726T090000
DTEND;TZID=Australia/Adelaide:20260726T103000
DTSTAMP:20260425T045240
CREATED:20260312T052956Z
LAST-MODIFIED:20260312T052956Z
UID:18041-1785056400-1785061800@barossanorth-parish.lutheran.org.au
SUMMARY:Worship Service - Pastor Damien
DESCRIPTION:At Stockwell with HC with Strait Gate and Holy Trinity visiting
URL:https://barossanorth-parish.lutheran.org.au/event/worship-service-pastor-damien-429/
LOCATION:St Thomas Lutheran Church\, Stockwell\, 1 Stockwell Road\, Stockwell\, SA\, 5355\, Australia
CATEGORIES:Worship
GEO:-34.4338098;139.0524909
X-APPLE-STRUCTURED-LOCATION;VALUE=URI;X-ADDRESS=St Thomas Lutheran Church Stockwell 1 Stockwell Road Stockwell SA 5355 Australia;X-APPLE-RADIUS=500;X-TITLE=1 Stockwell Road:geo:139.0524909,-34.4338098
END:VEVENT
BEGIN:VEVENT
DTSTART;TZID=Australia/Adelaide:20260726T103000
DTEND;TZID=Australia/Adelaide:20260726T120000
DTSTAMP:20260425T045240
CREATED:20260312T052850Z
LAST-MODIFIED:20260312T052850Z
UID:18039-1785061800-1785067200@barossanorth-parish.lutheran.org.au
SUMMARY:Worship Service - Pastor Damien
DESCRIPTION:At Truro with HC
URL:https://barossanorth-parish.lutheran.org.au/event/worship-service-pastor-damien-428/
LOCATION:Immanuel Lutheran Church\, Truro\, 64 Moorundie Street\, Truro\, SA\, 5356\, Australia
CATEGORIES:Worship
GEO:-34.4094949;139.1307718
X-APPLE-STRUCTURED-LOCATION;VALUE=URI;X-ADDRESS=Immanuel Lutheran Church Truro 64 Moorundie Street Truro SA 5356 Australia;X-APPLE-RADIUS=500;X-TITLE=64 Moorundie Street:geo:139.1307718,-34.4094949
END:VEVENT
END:VCALENDAR