BEGIN:VCALENDAR
VERSION:2.0
PRODID:-//Barossa North Parish SA - ECPv6.15.12.2//NONSGML v1.0//EN
CALSCALE:GREGORIAN
METHOD:PUBLISH
X-ORIGINAL-URL:https://barossanorth-parish.lutheran.org.au
X-WR-CALDESC:Events for Barossa North Parish SA
REFRESH-INTERVAL;VALUE=DURATION:PT1H
X-Robots-Tag:noindex
X-PUBLISHED-TTL:PT1H
BEGIN:VTIMEZONE
TZID:Australia/Adelaide
BEGIN:STANDARD
TZOFFSETFROM:+1030
TZOFFSETTO:+0930
TZNAME:ACST
DTSTART:20250405T163000
END:STANDARD
BEGIN:DAYLIGHT
TZOFFSETFROM:+0930
TZOFFSETTO:+1030
TZNAME:ACDT
DTSTART:20251004T163000
END:DAYLIGHT
BEGIN:STANDARD
TZOFFSETFROM:+1030
TZOFFSETTO:+0930
TZNAME:ACST
DTSTART:20260404T163000
END:STANDARD
BEGIN:DAYLIGHT
TZOFFSETFROM:+0930
TZOFFSETTO:+1030
TZNAME:ACDT
DTSTART:20261003T163000
END:DAYLIGHT
BEGIN:STANDARD
TZOFFSETFROM:+1030
TZOFFSETTO:+0930
TZNAME:ACST
DTSTART:20270403T163000
END:STANDARD
BEGIN:DAYLIGHT
TZOFFSETFROM:+0930
TZOFFSETTO:+1030
TZNAME:ACDT
DTSTART:20271002T163000
END:DAYLIGHT
END:VTIMEZONE
BEGIN:VEVENT
DTSTART;TZID=Australia/Adelaide:20260503T090000
DTEND;TZID=Australia/Adelaide:20260503T160000
DTSTAMP:20260425T045143
CREATED:20260416T042147Z
LAST-MODIFIED:20260416T042147Z
UID:18146-1777798800-1777824000@barossanorth-parish.lutheran.org.au
SUMMARY:Conservation of Rechner's Cottage Celebrations
DESCRIPTION:At Strait Gate
URL:https://barossanorth-parish.lutheran.org.au/event/conservation-of-rechners-cottage-celebrations/
LOCATION:Strait Gate Lutheran Church\, Light Pass\, 412 Light Pass Road\, Light Pass\, SA\, 5355\, Australia
CATEGORIES:Community,Family,Fellowship
GEO:-34.4673621;139.0250785
X-APPLE-STRUCTURED-LOCATION;VALUE=URI;X-ADDRESS=Strait Gate Lutheran Church Light Pass 412 Light Pass Road Light Pass SA 5355 Australia;X-APPLE-RADIUS=500;X-TITLE=412 Light Pass Road:geo:139.0250785,-34.4673621
END:VEVENT
END:VCALENDAR