BEGIN:VCALENDAR
VERSION:2.0
PRODID:-//Barossa North Parish SA - ECPv6.15.12.2//NONSGML v1.0//EN
CALSCALE:GREGORIAN
METHOD:PUBLISH
X-WR-CALNAME:Barossa North Parish SA
X-ORIGINAL-URL:https://barossanorth-parish.lutheran.org.au
X-WR-CALDESC:Events for Barossa North Parish SA
REFRESH-INTERVAL;VALUE=DURATION:PT1H
X-Robots-Tag:noindex
X-PUBLISHED-TTL:PT1H
BEGIN:VTIMEZONE
TZID:Australia/Adelaide
BEGIN:STANDARD
TZOFFSETFROM:+1030
TZOFFSETTO:+0930
TZNAME:ACST
DTSTART:20250405T163000
END:STANDARD
BEGIN:DAYLIGHT
TZOFFSETFROM:+0930
TZOFFSETTO:+1030
TZNAME:ACDT
DTSTART:20251004T163000
END:DAYLIGHT
BEGIN:STANDARD
TZOFFSETFROM:+1030
TZOFFSETTO:+0930
TZNAME:ACST
DTSTART:20260404T163000
END:STANDARD
BEGIN:DAYLIGHT
TZOFFSETFROM:+0930
TZOFFSETTO:+1030
TZNAME:ACDT
DTSTART:20261003T163000
END:DAYLIGHT
BEGIN:STANDARD
TZOFFSETFROM:+1030
TZOFFSETTO:+0930
TZNAME:ACST
DTSTART:20270403T163000
END:STANDARD
BEGIN:DAYLIGHT
TZOFFSETFROM:+0930
TZOFFSETTO:+1030
TZNAME:ACDT
DTSTART:20271002T163000
END:DAYLIGHT
END:VTIMEZONE
BEGIN:VEVENT
DTSTART;TZID=Australia/Adelaide:20260418T083000
DTEND;TZID=Australia/Adelaide:20260418T113000
DTSTAMP:20260425T045118
CREATED:20260409T051114Z
LAST-MODIFIED:20260409T051114Z
UID:18101-1776501000-1776511800@barossanorth-parish.lutheran.org.au
SUMMARY:Strait Gate Busy Bee
DESCRIPTION:In the Strait Gate Church Grounds
URL:https://barossanorth-parish.lutheran.org.au/event/strait-gate-busy-bee-3/
LOCATION:Strait Gate Lutheran Church\, Light Pass\, 412 Light Pass Road\, Light Pass\, SA\, 5355\, Australia
CATEGORIES:Community,Family
GEO:-34.4673621;139.0250785
X-APPLE-STRUCTURED-LOCATION;VALUE=URI;X-ADDRESS=Strait Gate Lutheran Church Light Pass 412 Light Pass Road Light Pass SA 5355 Australia;X-APPLE-RADIUS=500;X-TITLE=412 Light Pass Road:geo:139.0250785,-34.4673621
END:VEVENT
BEGIN:VEVENT
DTSTART;TZID=Australia/Adelaide:20260419T100000
DTEND;TZID=Australia/Adelaide:20260419T110000
DTSTAMP:20260425T045118
CREATED:20260219T044420Z
LAST-MODIFIED:20260219T044420Z
UID:17888-1776592800-1776596400@barossanorth-parish.lutheran.org.au
SUMMARY:Worship Service - Layreading
DESCRIPTION:At Holy Trinity
URL:https://barossanorth-parish.lutheran.org.au/event/worship-service-layreading-447/
LOCATION:Holy Trinity Lutheran Church\, Nuriootpa\, 6 Penrice Road\, Nuriootpa\, SA\, 5355\, Australia
CATEGORIES:Community,Family,Fellowship
GEO:-34.4719455;139.0096044
X-APPLE-STRUCTURED-LOCATION;VALUE=URI;X-ADDRESS=Holy Trinity Lutheran Church Nuriootpa 6 Penrice Road Nuriootpa SA 5355 Australia;X-APPLE-RADIUS=500;X-TITLE=6 Penrice Road:geo:139.0096044,-34.4719455
END:VEVENT
BEGIN:VEVENT
DTSTART;TZID=Australia/Adelaide:20260419T103000
DTEND;TZID=Australia/Adelaide:20260419T113000
DTSTAMP:20260425T045118
CREATED:20260219T051746Z
LAST-MODIFIED:20260219T051746Z
UID:17892-1776594600-1776598200@barossanorth-parish.lutheran.org.au
SUMMARY:Worship Service - Layreading
DESCRIPTION:At Dutton
URL:https://barossanorth-parish.lutheran.org.au/event/worship-service-layreading-448/
LOCATION:St John’s Lutheran Church\, Dutton\, 24 Rice Street\, Dutton\, SA\, 5356\, Australia
CATEGORIES:Community,Family,Fellowship
GEO:-34.3613829;139.1467776
X-APPLE-STRUCTURED-LOCATION;VALUE=URI;X-ADDRESS=St John’s Lutheran Church Dutton 24 Rice Street Dutton SA 5356 Australia;X-APPLE-RADIUS=500;X-TITLE=24 Rice Street:geo:139.1467776,-34.3613829
END:VEVENT
END:VCALENDAR