BEGIN:VCALENDAR
VERSION:2.0
PRODID:-//Barossa North Parish SA - ECPv6.15.12.2//NONSGML v1.0//EN
CALSCALE:GREGORIAN
METHOD:PUBLISH
X-WR-CALNAME:Barossa North Parish SA
X-ORIGINAL-URL:https://barossanorth-parish.lutheran.org.au
X-WR-CALDESC:Events for Barossa North Parish SA
REFRESH-INTERVAL;VALUE=DURATION:PT1H
X-Robots-Tag:noindex
X-PUBLISHED-TTL:PT1H
BEGIN:VTIMEZONE
TZID:Australia/Adelaide
BEGIN:STANDARD
TZOFFSETFROM:+1030
TZOFFSETTO:+0930
TZNAME:ACST
DTSTART:20250405T163000
END:STANDARD
BEGIN:DAYLIGHT
TZOFFSETFROM:+0930
TZOFFSETTO:+1030
TZNAME:ACDT
DTSTART:20251004T163000
END:DAYLIGHT
BEGIN:STANDARD
TZOFFSETFROM:+1030
TZOFFSETTO:+0930
TZNAME:ACST
DTSTART:20260404T163000
END:STANDARD
BEGIN:DAYLIGHT
TZOFFSETFROM:+0930
TZOFFSETTO:+1030
TZNAME:ACDT
DTSTART:20261003T163000
END:DAYLIGHT
BEGIN:STANDARD
TZOFFSETFROM:+1030
TZOFFSETTO:+0930
TZNAME:ACST
DTSTART:20270403T163000
END:STANDARD
BEGIN:DAYLIGHT
TZOFFSETFROM:+0930
TZOFFSETTO:+1030
TZNAME:ACDT
DTSTART:20271002T163000
END:DAYLIGHT
END:VTIMEZONE
BEGIN:VEVENT
DTSTART;TZID=Australia/Adelaide:20260510T103000
DTEND;TZID=Australia/Adelaide:20260510T113000
DTSTAMP:20260425T101625
CREATED:20260226T042854Z
LAST-MODIFIED:20260226T042854Z
UID:17917-1778409000-1778412600@barossanorth-parish.lutheran.org.au
SUMMARY:Worship Service - Layreading
DESCRIPTION:At Stockwell
URL:https://barossanorth-parish.lutheran.org.au/event/worship-service-layreading-452/
LOCATION:St Thomas Lutheran Church\, Stockwell\, 1 Stockwell Road\, Stockwell\, SA\, 5355\, Australia
CATEGORIES:Community,Family,Fellowship
GEO:-34.4338098;139.0524909
X-APPLE-STRUCTURED-LOCATION;VALUE=URI;X-ADDRESS=St Thomas Lutheran Church Stockwell 1 Stockwell Road Stockwell SA 5355 Australia;X-APPLE-RADIUS=500;X-TITLE=1 Stockwell Road:geo:139.0524909,-34.4338098
END:VEVENT
BEGIN:VEVENT
DTSTART;TZID=Australia/Adelaide:20260517T090000
DTEND;TZID=Australia/Adelaide:20260517T100000
DTSTAMP:20260425T101625
CREATED:20260226T043306Z
LAST-MODIFIED:20260226T043306Z
UID:17927-1779008400-1779012000@barossanorth-parish.lutheran.org.au
SUMMARY:Worship Service - Layreading
DESCRIPTION:At Dutton
URL:https://barossanorth-parish.lutheran.org.au/event/worship-service-layreading-455/
LOCATION:St John’s Lutheran Church\, Dutton\, 24 Rice Street\, Dutton\, SA\, 5356\, Australia
CATEGORIES:Community,Family,Fellowship
GEO:-34.3613829;139.1467776
X-APPLE-STRUCTURED-LOCATION;VALUE=URI;X-ADDRESS=St John’s Lutheran Church Dutton 24 Rice Street Dutton SA 5356 Australia;X-APPLE-RADIUS=500;X-TITLE=24 Rice Street:geo:139.1467776,-34.3613829
END:VEVENT
BEGIN:VEVENT
DTSTART;TZID=Australia/Adelaide:20260517T100000
DTEND;TZID=Australia/Adelaide:20260517T110000
DTSTAMP:20260425T101625
CREATED:20260226T043125Z
LAST-MODIFIED:20260226T043125Z
UID:17923-1779012000-1779015600@barossanorth-parish.lutheran.org.au
SUMMARY:Worship Service - Layreading
DESCRIPTION:At Holy Trinity
URL:https://barossanorth-parish.lutheran.org.au/event/worship-service-layreading-454/
LOCATION:Holy Trinity Lutheran Church\, Nuriootpa\, 6 Penrice Road\, Nuriootpa\, SA\, 5355\, Australia
CATEGORIES:Community,Family,Fellowship
GEO:-34.4719455;139.0096044
X-APPLE-STRUCTURED-LOCATION;VALUE=URI;X-ADDRESS=Holy Trinity Lutheran Church Nuriootpa 6 Penrice Road Nuriootpa SA 5355 Australia;X-APPLE-RADIUS=500;X-TITLE=6 Penrice Road:geo:139.0096044,-34.4719455
END:VEVENT
BEGIN:VEVENT
DTSTART;TZID=Australia/Adelaide:20260524T090000
DTEND;TZID=Australia/Adelaide:20260524T100000
DTSTAMP:20260425T101625
CREATED:20260226T043651Z
LAST-MODIFIED:20260226T043651Z
UID:17933-1779613200-1779616800@barossanorth-parish.lutheran.org.au
SUMMARY:Worship Service - Layreading
DESCRIPTION:At Immanuel LP
URL:https://barossanorth-parish.lutheran.org.au/event/worship-service-layreading-458/
LOCATION:Immanuel Lutheran Church\, Light Pass\, 19 Immanuel Way\, Light Pass\, SA\, 5355\, Australia
CATEGORIES:Community,Family,Fellowship
GEO:-34.4712692;139.0260373
X-APPLE-STRUCTURED-LOCATION;VALUE=URI;X-ADDRESS=Immanuel Lutheran Church Light Pass 19 Immanuel Way Light Pass SA 5355 Australia;X-APPLE-RADIUS=500;X-TITLE=19 Immanuel Way:geo:139.0260373,-34.4712692
END:VEVENT
BEGIN:VEVENT
DTSTART;TZID=Australia/Adelaide:20260524T090000
DTEND;TZID=Australia/Adelaide:20260524T100000
DTSTAMP:20260425T101625
CREATED:20260416T041921Z
LAST-MODIFIED:20260416T041921Z
UID:18142-1779613200-1779616800@barossanorth-parish.lutheran.org.au
SUMMARY:KLIC - Kid's Living in Christ
DESCRIPTION:Sunday School Program in the Ebenezer Hall
URL:https://barossanorth-parish.lutheran.org.au/event/klic-kids-living-in-christ-55/
LOCATION:St John’s Lutheran Church\, Ebenezer\, 186 Ebenezer Road\, Ebenezer\, SA\, 5355\, Australia
CATEGORIES:Children,Family
GEO:-34.4231405;139.0335055
X-APPLE-STRUCTURED-LOCATION;VALUE=URI;X-ADDRESS=St John’s Lutheran Church Ebenezer 186 Ebenezer Road Ebenezer SA 5355 Australia;X-APPLE-RADIUS=500;X-TITLE=186 Ebenezer Road:geo:139.0335055,-34.4231405
END:VEVENT
BEGIN:VEVENT
DTSTART;TZID=Australia/Adelaide:20260524T100000
DTEND;TZID=Australia/Adelaide:20260524T110000
DTSTAMP:20260425T101625
CREATED:20260226T043523Z
LAST-MODIFIED:20260226T043523Z
UID:17929-1779616800-1779620400@barossanorth-parish.lutheran.org.au
SUMMARY:Worship Service - Layreading
DESCRIPTION:At Neukirch
URL:https://barossanorth-parish.lutheran.org.au/event/worship-service-layreading-456/
LOCATION:Pilgrim Lutheran Church Neukirch\, 655 Belvidere Road\, Ebenezer\, SA\, 5355\, Australia
CATEGORIES:Community,Family,Fellowship
GEO:-34.4051633;139.0114704
X-APPLE-STRUCTURED-LOCATION;VALUE=URI;X-ADDRESS=Pilgrim Lutheran Church Neukirch 655 Belvidere Road Ebenezer SA 5355 Australia;X-APPLE-RADIUS=500;X-TITLE=655 Belvidere Road:geo:139.0114704,-34.4051633
END:VEVENT
BEGIN:VEVENT
DTSTART;TZID=Australia/Adelaide:20260524T100000
DTEND;TZID=Australia/Adelaide:20260524T110000
DTSTAMP:20260425T101625
CREATED:20260226T043607Z
LAST-MODIFIED:20260311T043055Z
UID:17931-1779616800-1779620400@barossanorth-parish.lutheran.org.au
SUMMARY:Family Worship Service - Layreading
DESCRIPTION:At Ebenezer
URL:https://barossanorth-parish.lutheran.org.au/event/worship-service-layreading-457/
LOCATION:St John’s Lutheran Church\, Ebenezer\, 186 Ebenezer Road\, Ebenezer\, SA\, 5355\, Australia
CATEGORIES:Community,Family,Fellowship
GEO:-34.4231405;139.0335055
X-APPLE-STRUCTURED-LOCATION;VALUE=URI;X-ADDRESS=St John’s Lutheran Church Ebenezer 186 Ebenezer Road Ebenezer SA 5355 Australia;X-APPLE-RADIUS=500;X-TITLE=186 Ebenezer Road:geo:139.0335055,-34.4231405
END:VEVENT
BEGIN:VEVENT
DTSTART;TZID=Australia/Adelaide:20260531T090000
DTEND;TZID=Australia/Adelaide:20260531T100000
DTSTAMP:20260425T101625
CREATED:20260226T050856Z
LAST-MODIFIED:20260226T050856Z
UID:17941-1780218000-1780221600@barossanorth-parish.lutheran.org.au
SUMMARY:Worship Service - Layreading
DESCRIPTION:At Ebenezer
URL:https://barossanorth-parish.lutheran.org.au/event/worship-service-layreading-460/
LOCATION:St John’s Lutheran Church\, Ebenezer\, 186 Ebenezer Road\, Ebenezer\, SA\, 5355\, Australia
CATEGORIES:Community,Family,Fellowship
GEO:-34.4231405;139.0335055
X-APPLE-STRUCTURED-LOCATION;VALUE=URI;X-ADDRESS=St John’s Lutheran Church Ebenezer 186 Ebenezer Road Ebenezer SA 5355 Australia;X-APPLE-RADIUS=500;X-TITLE=186 Ebenezer Road:geo:139.0335055,-34.4231405
END:VEVENT
BEGIN:VEVENT
DTSTART;TZID=Australia/Adelaide:20260531T094500
DTEND;TZID=Australia/Adelaide:20260531T103000
DTSTAMP:20260425T101625
CREATED:20260416T042007Z
LAST-MODIFIED:20260416T042007Z
UID:18144-1780220700-1780223400@barossanorth-parish.lutheran.org.au
SUMMARY:God's Kids
DESCRIPTION:At Dutton
URL:https://barossanorth-parish.lutheran.org.au/event/gods-kids-15/
LOCATION:St John’s Lutheran Church\, Dutton\, 24 Rice Street\, Dutton\, SA\, 5356\, Australia
CATEGORIES:Children,Family
GEO:-34.3613829;139.1467776
X-APPLE-STRUCTURED-LOCATION;VALUE=URI;X-ADDRESS=St John’s Lutheran Church Dutton 24 Rice Street Dutton SA 5356 Australia;X-APPLE-RADIUS=500;X-TITLE=24 Rice Street:geo:139.1467776,-34.3613829
END:VEVENT
BEGIN:VEVENT
DTSTART;TZID=Australia/Adelaide:20260531T100000
DTEND;TZID=Australia/Adelaide:20260531T110000
DTSTAMP:20260425T101625
CREATED:20260226T050812Z
LAST-MODIFIED:20260226T050812Z
UID:17939-1780221600-1780225200@barossanorth-parish.lutheran.org.au
SUMMARY:Worship Service - Layreading
DESCRIPTION:At Holy Trinity
URL:https://barossanorth-parish.lutheran.org.au/event/worship-service-layreading-459/
LOCATION:Holy Trinity Lutheran Church\, Nuriootpa\, 6 Penrice Road\, Nuriootpa\, SA\, 5355\, Australia
CATEGORIES:Community,Family,Fellowship
GEO:-34.4719455;139.0096044
X-APPLE-STRUCTURED-LOCATION;VALUE=URI;X-ADDRESS=Holy Trinity Lutheran Church Nuriootpa 6 Penrice Road Nuriootpa SA 5355 Australia;X-APPLE-RADIUS=500;X-TITLE=6 Penrice Road:geo:139.0096044,-34.4719455
END:VEVENT
BEGIN:VEVENT
DTSTART;TZID=Australia/Adelaide:20260607T090000
DTEND;TZID=Australia/Adelaide:20260607T100000
DTSTAMP:20260425T101625
CREATED:20260306T072037Z
LAST-MODIFIED:20260306T072037Z
UID:17963-1780822800-1780826400@barossanorth-parish.lutheran.org.au
SUMMARY:Worship Service - Layreading
DESCRIPTION:At Ebenezer
URL:https://barossanorth-parish.lutheran.org.au/event/worship-service-layreading-463/
LOCATION:St John’s Lutheran Church\, Ebenezer\, 186 Ebenezer Road\, Ebenezer\, SA\, 5355\, Australia
CATEGORIES:Community,Family,Fellowship
GEO:-34.4231405;139.0335055
X-APPLE-STRUCTURED-LOCATION;VALUE=URI;X-ADDRESS=St John’s Lutheran Church Ebenezer 186 Ebenezer Road Ebenezer SA 5355 Australia;X-APPLE-RADIUS=500;X-TITLE=186 Ebenezer Road:geo:139.0335055,-34.4231405
END:VEVENT
BEGIN:VEVENT
DTSTART;TZID=Australia/Adelaide:20260607T100000
DTEND;TZID=Australia/Adelaide:20260607T110000
DTSTAMP:20260425T101625
CREATED:20260306T071903Z
LAST-MODIFIED:20260306T071903Z
UID:17959-1780826400-1780830000@barossanorth-parish.lutheran.org.au
SUMMARY:Worship Service - Layreading
DESCRIPTION:At Holy Trinity
URL:https://barossanorth-parish.lutheran.org.au/event/worship-service-layreading-461/
LOCATION:Holy Trinity Lutheran Church\, Nuriootpa\, 6 Penrice Road\, Nuriootpa\, SA\, 5355\, Australia
CATEGORIES:Community,Family,Fellowship
GEO:-34.4719455;139.0096044
X-APPLE-STRUCTURED-LOCATION;VALUE=URI;X-ADDRESS=Holy Trinity Lutheran Church Nuriootpa 6 Penrice Road Nuriootpa SA 5355 Australia;X-APPLE-RADIUS=500;X-TITLE=6 Penrice Road:geo:139.0096044,-34.4719455
END:VEVENT
BEGIN:VEVENT
DTSTART;TZID=Australia/Adelaide:20260607T100000
DTEND;TZID=Australia/Adelaide:20260607T110000
DTSTAMP:20260425T101625
CREATED:20260306T071944Z
LAST-MODIFIED:20260306T071944Z
UID:17961-1780826400-1780830000@barossanorth-parish.lutheran.org.au
SUMMARY:Worship Service - Layreading
DESCRIPTION:At Neukirch
URL:https://barossanorth-parish.lutheran.org.au/event/worship-service-layreading-462/
LOCATION:Pilgrim Lutheran Church Neukirch\, 655 Belvidere Road\, Ebenezer\, SA\, 5355\, Australia
CATEGORIES:Community,Family,Fellowship
GEO:-34.4051633;139.0114704
X-APPLE-STRUCTURED-LOCATION;VALUE=URI;X-ADDRESS=Pilgrim Lutheran Church Neukirch 655 Belvidere Road Ebenezer SA 5355 Australia;X-APPLE-RADIUS=500;X-TITLE=655 Belvidere Road:geo:139.0114704,-34.4051633
END:VEVENT
BEGIN:VEVENT
DTSTART;TZID=Australia/Adelaide:20260614T090000
DTEND;TZID=Australia/Adelaide:20260614T100000
DTSTAMP:20260425T101625
CREATED:20260306T072457Z
LAST-MODIFIED:20260306T072457Z
UID:17973-1781427600-1781431200@barossanorth-parish.lutheran.org.au
SUMMARY:Worship Service - Layreading
DESCRIPTION:At Stockwell
URL:https://barossanorth-parish.lutheran.org.au/event/worship-service-layreading-464/
LOCATION:St Thomas Lutheran Church\, Stockwell\, 1 Stockwell Road\, Stockwell\, SA\, 5355\, Australia
CATEGORIES:Community,Family,Fellowship
GEO:-34.4338098;139.0524909
X-APPLE-STRUCTURED-LOCATION;VALUE=URI;X-ADDRESS=St Thomas Lutheran Church Stockwell 1 Stockwell Road Stockwell SA 5355 Australia;X-APPLE-RADIUS=500;X-TITLE=1 Stockwell Road:geo:139.0524909,-34.4338098
END:VEVENT
BEGIN:VEVENT
DTSTART;TZID=Australia/Adelaide:20260614T090000
DTEND;TZID=Australia/Adelaide:20260614T100000
DTSTAMP:20260425T101625
CREATED:20260306T072554Z
LAST-MODIFIED:20260306T072554Z
UID:17975-1781427600-1781431200@barossanorth-parish.lutheran.org.au
SUMMARY:Worship Service - Layreading
DESCRIPTION:At Immanuel LP
URL:https://barossanorth-parish.lutheran.org.au/event/worship-service-layreading-465/
LOCATION:Immanuel Lutheran Church\, Light Pass\, 19 Immanuel Way\, Light Pass\, SA\, 5355\, Australia
CATEGORIES:Community,Family,Fellowship
GEO:-34.4712692;139.0260373
X-APPLE-STRUCTURED-LOCATION;VALUE=URI;X-ADDRESS=Immanuel Lutheran Church Light Pass 19 Immanuel Way Light Pass SA 5355 Australia;X-APPLE-RADIUS=500;X-TITLE=19 Immanuel Way:geo:139.0260373,-34.4712692
END:VEVENT
BEGIN:VEVENT
DTSTART;TZID=Australia/Adelaide:20260621T100000
DTEND;TZID=Australia/Adelaide:20260621T110000
DTSTAMP:20260425T101625
CREATED:20260311T042203Z
LAST-MODIFIED:20260311T042203Z
UID:17979-1782036000-1782039600@barossanorth-parish.lutheran.org.au
SUMMARY:Worship Service - Layreading
DESCRIPTION:At Holy Trinity
URL:https://barossanorth-parish.lutheran.org.au/event/worship-service-layreading-466/
LOCATION:Holy Trinity Lutheran Church\, Nuriootpa\, 6 Penrice Road\, Nuriootpa\, SA\, 5355\, Australia
CATEGORIES:Community,Family,Fellowship
GEO:-34.4719455;139.0096044
X-APPLE-STRUCTURED-LOCATION;VALUE=URI;X-ADDRESS=Holy Trinity Lutheran Church Nuriootpa 6 Penrice Road Nuriootpa SA 5355 Australia;X-APPLE-RADIUS=500;X-TITLE=6 Penrice Road:geo:139.0096044,-34.4719455
END:VEVENT
BEGIN:VEVENT
DTSTART;TZID=Australia/Adelaide:20260621T103000
DTEND;TZID=Australia/Adelaide:20260621T113000
DTSTAMP:20260425T101625
CREATED:20260311T042359Z
LAST-MODIFIED:20260311T042359Z
UID:17983-1782037800-1782041400@barossanorth-parish.lutheran.org.au
SUMMARY:Worship Service - Layreading
DESCRIPTION:At Dutton
URL:https://barossanorth-parish.lutheran.org.au/event/worship-service-layreading-467/
LOCATION:St John’s Lutheran Church\, Dutton\, 24 Rice Street\, Dutton\, SA\, 5356\, Australia
CATEGORIES:Community,Family,Fellowship
GEO:-34.3613829;139.1467776
X-APPLE-STRUCTURED-LOCATION;VALUE=URI;X-ADDRESS=St John’s Lutheran Church Dutton 24 Rice Street Dutton SA 5356 Australia;X-APPLE-RADIUS=500;X-TITLE=24 Rice Street:geo:139.1467776,-34.3613829
END:VEVENT
BEGIN:VEVENT
DTSTART;TZID=Australia/Adelaide:20260628T090000
DTEND;TZID=Australia/Adelaide:20260628T100000
DTSTAMP:20260425T101625
CREATED:20260311T042934Z
LAST-MODIFIED:20260311T042934Z
UID:17993-1782637200-1782640800@barossanorth-parish.lutheran.org.au
SUMMARY:Worship Service - Layreading
DESCRIPTION:At Immanuel LP
URL:https://barossanorth-parish.lutheran.org.au/event/worship-service-layreading-468/
LOCATION:Immanuel Lutheran Church\, Light Pass\, 19 Immanuel Way\, Light Pass\, SA\, 5355\, Australia
CATEGORIES:Community,Family,Fellowship
GEO:-34.4712692;139.0260373
X-APPLE-STRUCTURED-LOCATION;VALUE=URI;X-ADDRESS=Immanuel Lutheran Church Light Pass 19 Immanuel Way Light Pass SA 5355 Australia;X-APPLE-RADIUS=500;X-TITLE=19 Immanuel Way:geo:139.0260373,-34.4712692
END:VEVENT
BEGIN:VEVENT
DTSTART;TZID=Australia/Adelaide:20260628T100000
DTEND;TZID=Australia/Adelaide:20260628T110000
DTSTAMP:20260425T101625
CREATED:20260311T042547Z
LAST-MODIFIED:20260311T042547Z
UID:17985-1782640800-1782644400@barossanorth-parish.lutheran.org.au
SUMMARY:Family Worship Service - Layreading
DESCRIPTION:At Ebenezer
URL:https://barossanorth-parish.lutheran.org.au/event/family-worship-service-layreading/
LOCATION:St John’s Lutheran Church\, Ebenezer\, 186 Ebenezer Road\, Ebenezer\, SA\, 5355\, Australia
CATEGORIES:Community,Family,Fellowship
GEO:-34.4231405;139.0335055
X-APPLE-STRUCTURED-LOCATION;VALUE=URI;X-ADDRESS=St John’s Lutheran Church Ebenezer 186 Ebenezer Road Ebenezer SA 5355 Australia;X-APPLE-RADIUS=500;X-TITLE=186 Ebenezer Road:geo:139.0335055,-34.4231405
END:VEVENT
BEGIN:VEVENT
DTSTART;TZID=Australia/Adelaide:20260628T190000
DTEND;TZID=Australia/Adelaide:20260628T200000
DTSTAMP:20260425T101625
CREATED:20260311T042707Z
LAST-MODIFIED:20260311T042707Z
UID:17987-1782673200-1782676800@barossanorth-parish.lutheran.org.au
SUMMARY:NOW Service
DESCRIPTION:At Neukirch
URL:https://barossanorth-parish.lutheran.org.au/event/now-service-14/
LOCATION:Pilgrim Lutheran Church Neukirch\, 655 Belvidere Road\, Ebenezer\, SA\, 5355\, Australia
CATEGORIES:Community,Family,Fellowship
GEO:-34.4051633;139.0114704
X-APPLE-STRUCTURED-LOCATION;VALUE=URI;X-ADDRESS=Pilgrim Lutheran Church Neukirch 655 Belvidere Road Ebenezer SA 5355 Australia;X-APPLE-RADIUS=500;X-TITLE=655 Belvidere Road:geo:139.0114704,-34.4051633
END:VEVENT
BEGIN:VEVENT
DTSTART;TZID=Australia/Adelaide:20260705T090000
DTEND;TZID=Australia/Adelaide:20260705T100000
DTSTAMP:20260425T101625
CREATED:20260311T043638Z
LAST-MODIFIED:20260311T043638Z
UID:18002-1783242000-1783245600@barossanorth-parish.lutheran.org.au
SUMMARY:Worship Service - Layreading
DESCRIPTION:At Ebenezer
URL:https://barossanorth-parish.lutheran.org.au/event/worship-service-layreading-471/
LOCATION:St John’s Lutheran Church\, Ebenezer\, 186 Ebenezer Road\, Ebenezer\, SA\, 5355\, Australia
CATEGORIES:Community,Family,Fellowship
GEO:-34.4231405;139.0335055
X-APPLE-STRUCTURED-LOCATION;VALUE=URI;X-ADDRESS=St John’s Lutheran Church Ebenezer 186 Ebenezer Road Ebenezer SA 5355 Australia;X-APPLE-RADIUS=500;X-TITLE=186 Ebenezer Road:geo:139.0335055,-34.4231405
END:VEVENT
BEGIN:VEVENT
DTSTART;TZID=Australia/Adelaide:20260705T100000
DTEND;TZID=Australia/Adelaide:20260705T110000
DTSTAMP:20260425T101625
CREATED:20260311T043020Z
LAST-MODIFIED:20260311T043020Z
UID:17995-1783245600-1783249200@barossanorth-parish.lutheran.org.au
SUMMARY:Worship Service - Layreading
DESCRIPTION:At Holy Trinity
URL:https://barossanorth-parish.lutheran.org.au/event/worship-service-layreading-469/
LOCATION:Holy Trinity Lutheran Church\, Nuriootpa\, 6 Penrice Road\, Nuriootpa\, SA\, 5355\, Australia
CATEGORIES:Community,Family,Fellowship
GEO:-34.4719455;139.0096044
X-APPLE-STRUCTURED-LOCATION;VALUE=URI;X-ADDRESS=Holy Trinity Lutheran Church Nuriootpa 6 Penrice Road Nuriootpa SA 5355 Australia;X-APPLE-RADIUS=500;X-TITLE=6 Penrice Road:geo:139.0096044,-34.4719455
END:VEVENT
BEGIN:VEVENT
DTSTART;TZID=Australia/Adelaide:20260705T100000
DTEND;TZID=Australia/Adelaide:20260705T110000
DTSTAMP:20260425T101625
CREATED:20260311T043556Z
LAST-MODIFIED:20260311T043556Z
UID:18000-1783245600-1783249200@barossanorth-parish.lutheran.org.au
SUMMARY:Worship Service - Layreading
DESCRIPTION:At Neukirch
URL:https://barossanorth-parish.lutheran.org.au/event/worship-service-layreading-470/
LOCATION:Pilgrim Lutheran Church Neukirch\, 655 Belvidere Road\, Ebenezer\, SA\, 5355\, Australia
CATEGORIES:Community,Family,Fellowship
GEO:-34.4051633;139.0114704
X-APPLE-STRUCTURED-LOCATION;VALUE=URI;X-ADDRESS=Pilgrim Lutheran Church Neukirch 655 Belvidere Road Ebenezer SA 5355 Australia;X-APPLE-RADIUS=500;X-TITLE=655 Belvidere Road:geo:139.0114704,-34.4051633
END:VEVENT
BEGIN:VEVENT
DTSTART;TZID=Australia/Adelaide:20260712T090000
DTEND;TZID=Australia/Adelaide:20260712T100000
DTSTAMP:20260425T101625
CREATED:20260312T043610Z
LAST-MODIFIED:20260312T043610Z
UID:18020-1783846800-1783850400@barossanorth-parish.lutheran.org.au
SUMMARY:Worship Service - Layreading
DESCRIPTION:At Immanuel LP
URL:https://barossanorth-parish.lutheran.org.au/event/worship-service-layreading-472/
LOCATION:Immanuel Lutheran Church\, Light Pass\, 19 Immanuel Way\, Light Pass\, SA\, 5355\, Australia
CATEGORIES:Community,Family,Fellowship
GEO:-34.4712692;139.0260373
X-APPLE-STRUCTURED-LOCATION;VALUE=URI;X-ADDRESS=Immanuel Lutheran Church Light Pass 19 Immanuel Way Light Pass SA 5355 Australia;X-APPLE-RADIUS=500;X-TITLE=19 Immanuel Way:geo:139.0260373,-34.4712692
END:VEVENT
BEGIN:VEVENT
DTSTART;TZID=Australia/Adelaide:20260719T090000
DTEND;TZID=Australia/Adelaide:20260719T100000
DTSTAMP:20260425T101625
CREATED:20260312T044155Z
LAST-MODIFIED:20260312T044155Z
UID:18028-1784451600-1784455200@barossanorth-parish.lutheran.org.au
SUMMARY:Worship Service - Layreading
DESCRIPTION:At Dutton
URL:https://barossanorth-parish.lutheran.org.au/event/worship-service-layreading-474/
LOCATION:St John’s Lutheran Church\, Dutton\, 24 Rice Street\, Dutton\, SA\, 5356\, Australia
CATEGORIES:Community,Family,Fellowship
GEO:-34.3613829;139.1467776
X-APPLE-STRUCTURED-LOCATION;VALUE=URI;X-ADDRESS=St John’s Lutheran Church Dutton 24 Rice Street Dutton SA 5356 Australia;X-APPLE-RADIUS=500;X-TITLE=24 Rice Street:geo:139.1467776,-34.3613829
END:VEVENT
BEGIN:VEVENT
DTSTART;TZID=Australia/Adelaide:20260719T100000
DTEND;TZID=Australia/Adelaide:20260719T110000
DTSTAMP:20260425T101625
CREATED:20260312T043816Z
LAST-MODIFIED:20260312T043816Z
UID:18024-1784455200-1784458800@barossanorth-parish.lutheran.org.au
SUMMARY:Worship Service - Layreading
DESCRIPTION:At Holy Trinity
URL:https://barossanorth-parish.lutheran.org.au/event/worship-service-layreading-473/
LOCATION:Holy Trinity Lutheran Church\, Nuriootpa\, 6 Penrice Road\, Nuriootpa\, SA\, 5355\, Australia
CATEGORIES:Community,Family,Fellowship
GEO:-34.4719455;139.0096044
X-APPLE-STRUCTURED-LOCATION;VALUE=URI;X-ADDRESS=Holy Trinity Lutheran Church Nuriootpa 6 Penrice Road Nuriootpa SA 5355 Australia;X-APPLE-RADIUS=500;X-TITLE=6 Penrice Road:geo:139.0096044,-34.4719455
END:VEVENT
BEGIN:VEVENT
DTSTART;TZID=Australia/Adelaide:20260726T090000
DTEND;TZID=Australia/Adelaide:20260726T100000
DTSTAMP:20260425T101625
CREATED:20260312T053037Z
LAST-MODIFIED:20260312T053037Z
UID:18043-1785056400-1785060000@barossanorth-parish.lutheran.org.au
SUMMARY:Worship Service - Layreading
DESCRIPTION:At Immanuel LP
URL:https://barossanorth-parish.lutheran.org.au/event/worship-service-layreading-476/
LOCATION:Immanuel Lutheran Church\, Light Pass\, 19 Immanuel Way\, Light Pass\, SA\, 5355\, Australia
CATEGORIES:Community,Family,Fellowship
GEO:-34.4712692;139.0260373
X-APPLE-STRUCTURED-LOCATION;VALUE=URI;X-ADDRESS=Immanuel Lutheran Church Light Pass 19 Immanuel Way Light Pass SA 5355 Australia;X-APPLE-RADIUS=500;X-TITLE=19 Immanuel Way:geo:139.0260373,-34.4712692
END:VEVENT
BEGIN:VEVENT
DTSTART;TZID=Australia/Adelaide:20260726T100000
DTEND;TZID=Australia/Adelaide:20260726T110000
DTSTAMP:20260425T101625
CREATED:20260312T052620Z
LAST-MODIFIED:20260312T052620Z
UID:18035-1785060000-1785063600@barossanorth-parish.lutheran.org.au
SUMMARY:Worship Service - Layreading
DESCRIPTION:At Neukirch
URL:https://barossanorth-parish.lutheran.org.au/event/worship-service-layreading-475/
LOCATION:Pilgrim Lutheran Church Neukirch\, 655 Belvidere Road\, Ebenezer\, SA\, 5355\, Australia
CATEGORIES:Community,Family
GEO:-34.4051633;139.0114704
X-APPLE-STRUCTURED-LOCATION;VALUE=URI;X-ADDRESS=Pilgrim Lutheran Church Neukirch 655 Belvidere Road Ebenezer SA 5355 Australia;X-APPLE-RADIUS=500;X-TITLE=655 Belvidere Road:geo:139.0114704,-34.4051633
END:VEVENT
BEGIN:VEVENT
DTSTART;TZID=Australia/Adelaide:20260726T100000
DTEND;TZID=Australia/Adelaide:20260726T110000
DTSTAMP:20260425T101625
CREATED:20260312T052755Z
LAST-MODIFIED:20260312T052755Z
UID:18037-1785060000-1785063600@barossanorth-parish.lutheran.org.au
SUMMARY:Family Worship Service - Layreading
DESCRIPTION:At Ebenezer
URL:https://barossanorth-parish.lutheran.org.au/event/family-worship-service-layreading-2/
LOCATION:St John’s Lutheran Church\, Ebenezer\, 186 Ebenezer Road\, Ebenezer\, SA\, 5355\, Australia
CATEGORIES:Community,Family,Fellowship
GEO:-34.4231405;139.0335055
X-APPLE-STRUCTURED-LOCATION;VALUE=URI;X-ADDRESS=St John’s Lutheran Church Ebenezer 186 Ebenezer Road Ebenezer SA 5355 Australia;X-APPLE-RADIUS=500;X-TITLE=186 Ebenezer Road:geo:139.0335055,-34.4231405
END:VEVENT
END:VCALENDAR