BEGIN:VCALENDAR
VERSION:2.0
PRODID:-//Barossa North Parish SA - ECPv6.15.12.2//NONSGML v1.0//EN
CALSCALE:GREGORIAN
METHOD:PUBLISH
X-ORIGINAL-URL:https://barossanorth-parish.lutheran.org.au
X-WR-CALDESC:Events for Barossa North Parish SA
REFRESH-INTERVAL;VALUE=DURATION:PT1H
X-Robots-Tag:noindex
X-PUBLISHED-TTL:PT1H
BEGIN:VTIMEZONE
TZID:Australia/Adelaide
BEGIN:STANDARD
TZOFFSETFROM:+1030
TZOFFSETTO:+0930
TZNAME:ACST
DTSTART:20250405T163000
END:STANDARD
BEGIN:DAYLIGHT
TZOFFSETFROM:+0930
TZOFFSETTO:+1030
TZNAME:ACDT
DTSTART:20251004T163000
END:DAYLIGHT
BEGIN:STANDARD
TZOFFSETFROM:+1030
TZOFFSETTO:+0930
TZNAME:ACST
DTSTART:20260404T163000
END:STANDARD
BEGIN:DAYLIGHT
TZOFFSETFROM:+0930
TZOFFSETTO:+1030
TZNAME:ACDT
DTSTART:20261003T163000
END:DAYLIGHT
BEGIN:STANDARD
TZOFFSETFROM:+1030
TZOFFSETTO:+0930
TZNAME:ACST
DTSTART:20270403T163000
END:STANDARD
BEGIN:DAYLIGHT
TZOFFSETFROM:+0930
TZOFFSETTO:+1030
TZNAME:ACDT
DTSTART:20271002T163000
END:DAYLIGHT
END:VTIMEZONE
BEGIN:VEVENT
DTSTART;TZID=Australia/Adelaide:20260426T090000
DTEND;TZID=Australia/Adelaide:20260426T100000
DTSTAMP:20260425T014657
CREATED:20260219T051939Z
LAST-MODIFIED:20260416T041324Z
UID:17896-1777194000-1777197600@barossanorth-parish.lutheran.org.au
SUMMARY:Worship Service - Layreading
DESCRIPTION:At Truro
URL:https://barossanorth-parish.lutheran.org.au/event/worship-service-26/
LOCATION:Immanuel Lutheran Church\, Truro\, 64 Moorundie Street\, Truro\, SA\, 5356\, Australia
CATEGORIES:Community,Family,Fellowship
GEO:-34.4094949;139.1307718
X-APPLE-STRUCTURED-LOCATION;VALUE=URI;X-ADDRESS=Immanuel Lutheran Church Truro 64 Moorundie Street Truro SA 5356 Australia;X-APPLE-RADIUS=500;X-TITLE=64 Moorundie Street:geo:139.1307718,-34.4094949
END:VEVENT
BEGIN:VEVENT
DTSTART;TZID=Australia/Adelaide:20260426T090000
DTEND;TZID=Australia/Adelaide:20260426T100000
DTSTAMP:20260425T014657
CREATED:20260219T052128Z
LAST-MODIFIED:20260219T052128Z
UID:17900-1777194000-1777197600@barossanorth-parish.lutheran.org.au
SUMMARY:Worship Service - Layreading
DESCRIPTION:At Immanuel LP
URL:https://barossanorth-parish.lutheran.org.au/event/worship-service-layreading-450/
LOCATION:Immanuel Lutheran Church\, Light Pass\, 19 Immanuel Way\, Light Pass\, SA\, 5355\, Australia
CATEGORIES:Community,Family,Fellowship
GEO:-34.4712692;139.0260373
X-APPLE-STRUCTURED-LOCATION;VALUE=URI;X-ADDRESS=Immanuel Lutheran Church Light Pass 19 Immanuel Way Light Pass SA 5355 Australia;X-APPLE-RADIUS=500;X-TITLE=19 Immanuel Way:geo:139.0260373,-34.4712692
END:VEVENT
BEGIN:VEVENT
DTSTART;TZID=Australia/Adelaide:20260426T090000
DTEND;TZID=Australia/Adelaide:20260426T100000
DTSTAMP:20260425T014657
CREATED:20260409T051231Z
LAST-MODIFIED:20260409T051231Z
UID:18103-1777194000-1777197600@barossanorth-parish.lutheran.org.au
SUMMARY:KLIC - Kid's Living in Christ
DESCRIPTION:Sundy School Program in the Ebenezer Hall
URL:https://barossanorth-parish.lutheran.org.au/event/klic-kids-living-in-christ-53/
LOCATION:St John’s Lutheran Church\, Ebenezer\, 186 Ebenezer Road\, Ebenezer\, SA\, 5355\, Australia
CATEGORIES:Children,Family
GEO:-34.4231405;139.0335055
X-APPLE-STRUCTURED-LOCATION;VALUE=URI;X-ADDRESS=St John’s Lutheran Church Ebenezer 186 Ebenezer Road Ebenezer SA 5355 Australia;X-APPLE-RADIUS=500;X-TITLE=186 Ebenezer Road:geo:139.0335055,-34.4231405
END:VEVENT
BEGIN:VEVENT
DTSTART;TZID=Australia/Adelaide:20260426T100000
DTEND;TZID=Australia/Adelaide:20260426T110000
DTSTAMP:20260425T014657
CREATED:20260219T051844Z
LAST-MODIFIED:20260311T043120Z
UID:17894-1777197600-1777201200@barossanorth-parish.lutheran.org.au
SUMMARY:Family Worship Service - Layreading
DESCRIPTION:At Ebenezer
URL:https://barossanorth-parish.lutheran.org.au/event/worship-service-layreading-449/
LOCATION:St John’s Lutheran Church\, Ebenezer\, 186 Ebenezer Road\, Ebenezer\, SA\, 5355\, Australia
CATEGORIES:Community,Family,Fellowship
GEO:-34.4231405;139.0335055
X-APPLE-STRUCTURED-LOCATION;VALUE=URI;X-ADDRESS=St John’s Lutheran Church Ebenezer 186 Ebenezer Road Ebenezer SA 5355 Australia;X-APPLE-RADIUS=500;X-TITLE=186 Ebenezer Road:geo:139.0335055,-34.4231405
END:VEVENT
BEGIN:VEVENT
DTSTART;TZID=Australia/Adelaide:20260426T103000
DTEND;TZID=Australia/Adelaide:20260426T113000
DTSTAMP:20260425T014657
CREATED:20260219T052041Z
LAST-MODIFIED:20260416T041514Z
UID:17898-1777199400-1777203000@barossanorth-parish.lutheran.org.au
SUMMARY:Worship Service - Layreading
DESCRIPTION:At Stockwell with Strait Gate and Holy Trinity visiting
URL:https://barossanorth-parish.lutheran.org.au/event/worship-service-27/
LOCATION:St Thomas Lutheran Church\, Stockwell\, 1 Stockwell Road\, Stockwell\, SA\, 5355\, Australia
CATEGORIES:Community,Family,Fellowship
GEO:-34.4338098;139.0524909
X-APPLE-STRUCTURED-LOCATION;VALUE=URI;X-ADDRESS=St Thomas Lutheran Church Stockwell 1 Stockwell Road Stockwell SA 5355 Australia;X-APPLE-RADIUS=500;X-TITLE=1 Stockwell Road:geo:139.0524909,-34.4338098
END:VEVENT
BEGIN:VEVENT
DTSTART;TZID=Australia/Adelaide:20260426T190000
DTEND;TZID=Australia/Adelaide:20260426T200000
DTSTAMP:20260425T014657
CREATED:20260219T052531Z
LAST-MODIFIED:20260219T052531Z
UID:17904-1777230000-1777233600@barossanorth-parish.lutheran.org.au
SUMMARY:NOW Service
DESCRIPTION:At Neukirch
URL:https://barossanorth-parish.lutheran.org.au/event/now-service-13/
LOCATION:Pilgrim Lutheran Church Neukirch\, 655 Belvidere Road\, Ebenezer\, SA\, 5355\, Australia
CATEGORIES:Community,Family,Fellowship
GEO:-34.4051633;139.0114704
X-APPLE-STRUCTURED-LOCATION;VALUE=URI;X-ADDRESS=Pilgrim Lutheran Church Neukirch 655 Belvidere Road Ebenezer SA 5355 Australia;X-APPLE-RADIUS=500;X-TITLE=655 Belvidere Road:geo:139.0114704,-34.4051633
END:VEVENT
END:VCALENDAR