BEGIN:VCALENDAR
VERSION:2.0
PRODID:-//Barossa North Parish SA - ECPv6.15.12.2//NONSGML v1.0//EN
CALSCALE:GREGORIAN
METHOD:PUBLISH
X-WR-CALNAME:Barossa North Parish SA
X-ORIGINAL-URL:https://barossanorth-parish.lutheran.org.au
X-WR-CALDESC:Events for Barossa North Parish SA
REFRESH-INTERVAL;VALUE=DURATION:PT1H
X-Robots-Tag:noindex
X-PUBLISHED-TTL:PT1H
BEGIN:VTIMEZONE
TZID:Australia/Adelaide
BEGIN:STANDARD
TZOFFSETFROM:+1030
TZOFFSETTO:+0930
TZNAME:ACST
DTSTART:20250405T163000
END:STANDARD
BEGIN:DAYLIGHT
TZOFFSETFROM:+0930
TZOFFSETTO:+1030
TZNAME:ACDT
DTSTART:20251004T163000
END:DAYLIGHT
BEGIN:STANDARD
TZOFFSETFROM:+1030
TZOFFSETTO:+0930
TZNAME:ACST
DTSTART:20260404T163000
END:STANDARD
BEGIN:DAYLIGHT
TZOFFSETFROM:+0930
TZOFFSETTO:+1030
TZNAME:ACDT
DTSTART:20261003T163000
END:DAYLIGHT
BEGIN:STANDARD
TZOFFSETFROM:+1030
TZOFFSETTO:+0930
TZNAME:ACST
DTSTART:20270403T163000
END:STANDARD
BEGIN:DAYLIGHT
TZOFFSETFROM:+0930
TZOFFSETTO:+1030
TZNAME:ACDT
DTSTART:20271002T163000
END:DAYLIGHT
END:VTIMEZONE
BEGIN:VEVENT
DTSTART;TZID=Australia/Adelaide:20260419T103000
DTEND;TZID=Australia/Adelaide:20260419T113000
DTSTAMP:20260425T045823
CREATED:20260219T051746Z
LAST-MODIFIED:20260219T051746Z
UID:17892-1776594600-1776598200@barossanorth-parish.lutheran.org.au
SUMMARY:Worship Service - Layreading
DESCRIPTION:At Dutton
URL:https://barossanorth-parish.lutheran.org.au/event/worship-service-layreading-448/
LOCATION:St John’s Lutheran Church\, Dutton\, 24 Rice Street\, Dutton\, SA\, 5356\, Australia
CATEGORIES:Community,Family,Fellowship
GEO:-34.3613829;139.1467776
X-APPLE-STRUCTURED-LOCATION;VALUE=URI;X-ADDRESS=St John’s Lutheran Church Dutton 24 Rice Street Dutton SA 5356 Australia;X-APPLE-RADIUS=500;X-TITLE=24 Rice Street:geo:139.1467776,-34.3613829
END:VEVENT
BEGIN:VEVENT
DTSTART;TZID=Australia/Adelaide:20260419T100000
DTEND;TZID=Australia/Adelaide:20260419T110000
DTSTAMP:20260425T045823
CREATED:20260219T044420Z
LAST-MODIFIED:20260219T044420Z
UID:17888-1776592800-1776596400@barossanorth-parish.lutheran.org.au
SUMMARY:Worship Service - Layreading
DESCRIPTION:At Holy Trinity
URL:https://barossanorth-parish.lutheran.org.au/event/worship-service-layreading-447/
LOCATION:Holy Trinity Lutheran Church\, Nuriootpa\, 6 Penrice Road\, Nuriootpa\, SA\, 5355\, Australia
CATEGORIES:Community,Family,Fellowship
GEO:-34.4719455;139.0096044
X-APPLE-STRUCTURED-LOCATION;VALUE=URI;X-ADDRESS=Holy Trinity Lutheran Church Nuriootpa 6 Penrice Road Nuriootpa SA 5355 Australia;X-APPLE-RADIUS=500;X-TITLE=6 Penrice Road:geo:139.0096044,-34.4719455
END:VEVENT
BEGIN:VEVENT
DTSTART;TZID=Australia/Adelaide:20260418T083000
DTEND;TZID=Australia/Adelaide:20260418T113000
DTSTAMP:20260425T045823
CREATED:20260409T051114Z
LAST-MODIFIED:20260409T051114Z
UID:18101-1776501000-1776511800@barossanorth-parish.lutheran.org.au
SUMMARY:Strait Gate Busy Bee
DESCRIPTION:In the Strait Gate Church Grounds
URL:https://barossanorth-parish.lutheran.org.au/event/strait-gate-busy-bee-3/
LOCATION:Strait Gate Lutheran Church\, Light Pass\, 412 Light Pass Road\, Light Pass\, SA\, 5355\, Australia
CATEGORIES:Community,Family
GEO:-34.4673621;139.0250785
X-APPLE-STRUCTURED-LOCATION;VALUE=URI;X-ADDRESS=Strait Gate Lutheran Church Light Pass 412 Light Pass Road Light Pass SA 5355 Australia;X-APPLE-RADIUS=500;X-TITLE=412 Light Pass Road:geo:139.0250785,-34.4673621
END:VEVENT
BEGIN:VEVENT
DTSTART;TZID=Australia/Adelaide:20260412T090000
DTEND;TZID=Australia/Adelaide:20260412T100000
DTSTAMP:20260425T045823
CREATED:20260212T055405Z
LAST-MODIFIED:20260212T055405Z
UID:17879-1775984400-1775988000@barossanorth-parish.lutheran.org.au
SUMMARY:Worship Service - Layreading
DESCRIPTION:At Immanuel LP
URL:https://barossanorth-parish.lutheran.org.au/event/worship-service-layreading-446/
LOCATION:Immanuel Lutheran Church\, Light Pass\, 19 Immanuel Way\, Light Pass\, SA\, 5355\, Australia
CATEGORIES:Community,Family,Fellowship
GEO:-34.4712692;139.0260373
X-APPLE-STRUCTURED-LOCATION;VALUE=URI;X-ADDRESS=Immanuel Lutheran Church Light Pass 19 Immanuel Way Light Pass SA 5355 Australia;X-APPLE-RADIUS=500;X-TITLE=19 Immanuel Way:geo:139.0260373,-34.4712692
END:VEVENT
BEGIN:VEVENT
DTSTART;TZID=Australia/Adelaide:20260412T090000
DTEND;TZID=Australia/Adelaide:20260412T100000
DTSTAMP:20260425T045823
CREATED:20260212T055257Z
LAST-MODIFIED:20260212T055257Z
UID:17877-1775984400-1775988000@barossanorth-parish.lutheran.org.au
SUMMARY:Worship Service - Layreading
DESCRIPTION:At Stockwell
URL:https://barossanorth-parish.lutheran.org.au/event/worship-service-layreading-445/
LOCATION:St Thomas Lutheran Church\, Stockwell\, 1 Stockwell Road\, Stockwell\, SA\, 5355\, Australia
CATEGORIES:Community,Family,Fellowship
GEO:-34.4338098;139.0524909
X-APPLE-STRUCTURED-LOCATION;VALUE=URI;X-ADDRESS=St Thomas Lutheran Church Stockwell 1 Stockwell Road Stockwell SA 5355 Australia;X-APPLE-RADIUS=500;X-TITLE=1 Stockwell Road:geo:139.0524909,-34.4338098
END:VEVENT
BEGIN:VEVENT
DTSTART;TZID=Australia/Adelaide:20260405T100000
DTEND;TZID=Australia/Adelaide:20260405T110000
DTSTAMP:20260425T045823
CREATED:20260212T054156Z
LAST-MODIFIED:20260212T054851Z
UID:17859-1775383200-1775386800@barossanorth-parish.lutheran.org.au
SUMMARY:Easter Sunday Service - Layreading
DESCRIPTION:At Neukirch
URL:https://barossanorth-parish.lutheran.org.au/event/easter-sunday-service-layreading-2/
LOCATION:Pilgrim Lutheran Church Neukirch\, 655 Belvidere Road\, Ebenezer\, SA\, 5355\, Australia
CATEGORIES:Community,Family,Fellowship
GEO:-34.4051633;139.0114704
X-APPLE-STRUCTURED-LOCATION;VALUE=URI;X-ADDRESS=Pilgrim Lutheran Church Neukirch 655 Belvidere Road Ebenezer SA 5355 Australia;X-APPLE-RADIUS=500;X-TITLE=655 Belvidere Road:geo:139.0114704,-34.4051633
END:VEVENT
BEGIN:VEVENT
DTSTART;TZID=Australia/Adelaide:20260322T100000
DTEND;TZID=Australia/Adelaide:20260322T110000
DTSTAMP:20260425T045823
CREATED:20260212T053036Z
LAST-MODIFIED:20260311T043146Z
UID:17841-1774173600-1774177200@barossanorth-parish.lutheran.org.au
SUMMARY:Family Worship Service - Layreading
DESCRIPTION:At Ebenezer
URL:https://barossanorth-parish.lutheran.org.au/event/worship-service-layreading-443/
LOCATION:St John’s Lutheran Church\, Ebenezer\, 186 Ebenezer Road\, Ebenezer\, SA\, 5355\, Australia
CATEGORIES:Community,Family,Fellowship
GEO:-34.4231405;139.0335055
X-APPLE-STRUCTURED-LOCATION;VALUE=URI;X-ADDRESS=St John’s Lutheran Church Ebenezer 186 Ebenezer Road Ebenezer SA 5355 Australia;X-APPLE-RADIUS=500;X-TITLE=186 Ebenezer Road:geo:139.0335055,-34.4231405
END:VEVENT
BEGIN:VEVENT
DTSTART;TZID=Australia/Adelaide:20260322T100000
DTEND;TZID=Australia/Adelaide:20260322T110000
DTSTAMP:20260425T045823
CREATED:20260212T052946Z
LAST-MODIFIED:20260212T052946Z
UID:17839-1774173600-1774177200@barossanorth-parish.lutheran.org.au
SUMMARY:Worship Service - Layreading
DESCRIPTION:At Neukirch
URL:https://barossanorth-parish.lutheran.org.au/event/worship-service-layreading-442/
LOCATION:Pilgrim Lutheran Church Neukirch\, 655 Belvidere Road\, Ebenezer\, SA\, 5355\, Australia
CATEGORIES:Community,Family,Fellowship
GEO:-34.4051633;139.0114704
X-APPLE-STRUCTURED-LOCATION;VALUE=URI;X-ADDRESS=Pilgrim Lutheran Church Neukirch 655 Belvidere Road Ebenezer SA 5355 Australia;X-APPLE-RADIUS=500;X-TITLE=655 Belvidere Road:geo:139.0114704,-34.4051633
END:VEVENT
BEGIN:VEVENT
DTSTART;TZID=Australia/Adelaide:20260322T090000
DTEND;TZID=Australia/Adelaide:20260322T100000
DTSTAMP:20260425T045823
CREATED:20260312T053550Z
LAST-MODIFIED:20260312T053550Z
UID:18051-1774170000-1774173600@barossanorth-parish.lutheran.org.au
SUMMARY:KLIC - Kid's Living in Christ
DESCRIPTION:Sunday School Program in the Ebenezer Hall
URL:https://barossanorth-parish.lutheran.org.au/event/klic-kids-living-in-christ-52/
LOCATION:St John’s Lutheran Church\, Ebenezer\, 186 Ebenezer Road\, Ebenezer\, SA\, 5355\, Australia
CATEGORIES:Children,Family
GEO:-34.4231405;139.0335055
X-APPLE-STRUCTURED-LOCATION;VALUE=URI;X-ADDRESS=St John’s Lutheran Church Ebenezer 186 Ebenezer Road Ebenezer SA 5355 Australia;X-APPLE-RADIUS=500;X-TITLE=186 Ebenezer Road:geo:139.0335055,-34.4231405
END:VEVENT
BEGIN:VEVENT
DTSTART;TZID=Australia/Adelaide:20260322T090000
DTEND;TZID=Australia/Adelaide:20260322T100000
DTSTAMP:20260425T045823
CREATED:20260212T053346Z
LAST-MODIFIED:20260212T053346Z
UID:17847-1774170000-1774173600@barossanorth-parish.lutheran.org.au
SUMMARY:Worship Service - Layreading
DESCRIPTION:At Immanuel LP
URL:https://barossanorth-parish.lutheran.org.au/event/worship-service-layreading-444/
LOCATION:Immanuel Lutheran Church\, Light Pass\, 19 Immanuel Way\, Light Pass\, SA\, 5355\, Australia
CATEGORIES:Community,Family,Fellowship
GEO:-34.4712692;139.0260373
X-APPLE-STRUCTURED-LOCATION;VALUE=URI;X-ADDRESS=Immanuel Lutheran Church Light Pass 19 Immanuel Way Light Pass SA 5355 Australia;X-APPLE-RADIUS=500;X-TITLE=19 Immanuel Way:geo:139.0260373,-34.4712692
END:VEVENT
BEGIN:VEVENT
DTSTART;TZID=Australia/Adelaide:20260315T100000
DTEND;TZID=Australia/Adelaide:20260315T110000
DTSTAMP:20260425T045823
CREATED:20260212T052706Z
LAST-MODIFIED:20260212T052706Z
UID:17833-1773568800-1773572400@barossanorth-parish.lutheran.org.au
SUMMARY:Worship Service - Layreading
DESCRIPTION:At Holy Trinity
URL:https://barossanorth-parish.lutheran.org.au/event/worship-service-layreading-440/
LOCATION:Holy Trinity Lutheran Church\, Nuriootpa\, 6 Penrice Road\, Nuriootpa\, SA\, 5355\, Australia
CATEGORIES:Community,Family,Fellowship
GEO:-34.4719455;139.0096044
X-APPLE-STRUCTURED-LOCATION;VALUE=URI;X-ADDRESS=Holy Trinity Lutheran Church Nuriootpa 6 Penrice Road Nuriootpa SA 5355 Australia;X-APPLE-RADIUS=500;X-TITLE=6 Penrice Road:geo:139.0096044,-34.4719455
END:VEVENT
BEGIN:VEVENT
DTSTART;TZID=Australia/Adelaide:20260315T090000
DTEND;TZID=Australia/Adelaide:20260315T100000
DTSTAMP:20260425T045823
CREATED:20260212T052902Z
LAST-MODIFIED:20260212T052902Z
UID:17837-1773565200-1773568800@barossanorth-parish.lutheran.org.au
SUMMARY:Worship Service - Layreading
DESCRIPTION:At Dutton
URL:https://barossanorth-parish.lutheran.org.au/event/worship-service-layreading-441/
LOCATION:St John’s Lutheran Church\, Dutton\, 24 Rice Street\, Dutton\, SA\, 5356\, Australia
CATEGORIES:Community,Family,Fellowship
GEO:-34.3613829;139.1467776
X-APPLE-STRUCTURED-LOCATION;VALUE=URI;X-ADDRESS=St John’s Lutheran Church Dutton 24 Rice Street Dutton SA 5356 Australia;X-APPLE-RADIUS=500;X-TITLE=24 Rice Street:geo:139.1467776,-34.3613829
END:VEVENT
BEGIN:VEVENT
DTSTART;TZID=Australia/Adelaide:20260308T103000
DTEND;TZID=Australia/Adelaide:20260308T113000
DTSTAMP:20260425T045823
CREATED:20260129T062346Z
LAST-MODIFIED:20260129T062346Z
UID:17807-1772965800-1772969400@barossanorth-parish.lutheran.org.au
SUMMARY:Worship Service - Layreading
DESCRIPTION:At Stockwell
URL:https://barossanorth-parish.lutheran.org.au/event/worship-service-layreading-438/
LOCATION:St Thomas Lutheran Church\, Stockwell\, 1 Stockwell Road\, Stockwell\, SA\, 5355\, Australia
CATEGORIES:Community,Family,Fellowship
GEO:-34.4338098;139.0524909
X-APPLE-STRUCTURED-LOCATION;VALUE=URI;X-ADDRESS=St Thomas Lutheran Church Stockwell 1 Stockwell Road Stockwell SA 5355 Australia;X-APPLE-RADIUS=500;X-TITLE=1 Stockwell Road:geo:139.0524909,-34.4338098
END:VEVENT
BEGIN:VEVENT
DTSTART;TZID=Australia/Adelaide:20260308T090000
DTEND;TZID=Australia/Adelaide:20260308T100000
DTSTAMP:20260425T045823
CREATED:20260129T062435Z
LAST-MODIFIED:20260129T062435Z
UID:17809-1772960400-1772964000@barossanorth-parish.lutheran.org.au
SUMMARY:Worship Service - Layreading
DESCRIPTION:At Immanuel LP
URL:https://barossanorth-parish.lutheran.org.au/event/worship-service-layreading-439/
LOCATION:Immanuel Lutheran Church\, Light Pass\, 19 Immanuel Way\, Light Pass\, SA\, 5355\, Australia
CATEGORIES:Community,Family,Fellowship
GEO:-34.4712692;139.0260373
X-APPLE-STRUCTURED-LOCATION;VALUE=URI;X-ADDRESS=Immanuel Lutheran Church Light Pass 19 Immanuel Way Light Pass SA 5355 Australia;X-APPLE-RADIUS=500;X-TITLE=19 Immanuel Way:geo:139.0260373,-34.4712692
END:VEVENT
BEGIN:VEVENT
DTSTART;TZID=Australia/Adelaide:20260301T100000
DTEND;TZID=Australia/Adelaide:20260301T110000
DTSTAMP:20260425T045823
CREATED:20260129T053718Z
LAST-MODIFIED:20260129T053718Z
UID:17798-1772359200-1772362800@barossanorth-parish.lutheran.org.au
SUMMARY:Worship Service - Layreading
DESCRIPTION:At Neukirch
URL:https://barossanorth-parish.lutheran.org.au/event/worship-service-layreading-436/
LOCATION:Pilgrim Lutheran Church Neukirch\, 655 Belvidere Road\, Ebenezer\, SA\, 5355\, Australia
CATEGORIES:Community,Family,Fellowship
GEO:-34.4051633;139.0114704
X-APPLE-STRUCTURED-LOCATION;VALUE=URI;X-ADDRESS=Pilgrim Lutheran Church Neukirch 655 Belvidere Road Ebenezer SA 5355 Australia;X-APPLE-RADIUS=500;X-TITLE=655 Belvidere Road:geo:139.0114704,-34.4051633
END:VEVENT
BEGIN:VEVENT
DTSTART;TZID=Australia/Adelaide:20260301T100000
DTEND;TZID=Australia/Adelaide:20260301T110000
DTSTAMP:20260425T045823
CREATED:20260129T053601Z
LAST-MODIFIED:20260129T053601Z
UID:17796-1772359200-1772362800@barossanorth-parish.lutheran.org.au
SUMMARY:Worship Service - Layreading
DESCRIPTION:At Holy Trinity
URL:https://barossanorth-parish.lutheran.org.au/event/worship-service-layreading-435/
LOCATION:Holy Trinity Lutheran Church\, Nuriootpa\, 6 Penrice Road\, Nuriootpa\, SA\, 5355\, Australia
CATEGORIES:Community,Family,Fellowship
GEO:-34.4719455;139.0096044
X-APPLE-STRUCTURED-LOCATION;VALUE=URI;X-ADDRESS=Holy Trinity Lutheran Church Nuriootpa 6 Penrice Road Nuriootpa SA 5355 Australia;X-APPLE-RADIUS=500;X-TITLE=6 Penrice Road:geo:139.0096044,-34.4719455
END:VEVENT
BEGIN:VEVENT
DTSTART;TZID=Australia/Adelaide:20260301T090000
DTEND;TZID=Australia/Adelaide:20260301T100000
DTSTAMP:20260425T045823
CREATED:20260129T053810Z
LAST-MODIFIED:20260129T053810Z
UID:17800-1772355600-1772359200@barossanorth-parish.lutheran.org.au
SUMMARY:Worship Service - Layreading
DESCRIPTION:At Ebenezer
URL:https://barossanorth-parish.lutheran.org.au/event/worship-service-layreading-437/
LOCATION:St John’s Lutheran Church\, Ebenezer\, 186 Ebenezer Road\, Ebenezer\, SA\, 5355\, Australia
CATEGORIES:Community,Family,Fellowship
GEO:-34.4231405;139.0335055
X-APPLE-STRUCTURED-LOCATION;VALUE=URI;X-ADDRESS=St John’s Lutheran Church Ebenezer 186 Ebenezer Road Ebenezer SA 5355 Australia;X-APPLE-RADIUS=500;X-TITLE=186 Ebenezer Road:geo:139.0335055,-34.4231405
END:VEVENT
BEGIN:VEVENT
DTSTART;TZID=Australia/Adelaide:20260222T190000
DTEND;TZID=Australia/Adelaide:20260222T200000
DTSTAMP:20260425T045823
CREATED:20251127T070333Z
LAST-MODIFIED:20251127T070333Z
UID:17548-1771786800-1771790400@barossanorth-parish.lutheran.org.au
SUMMARY:NOW Service
DESCRIPTION:At Neukirch
URL:https://barossanorth-parish.lutheran.org.au/event/now-service-12/
LOCATION:Pilgrim Lutheran Church Neukirch\, 655 Belvidere Road\, Ebenezer\, SA\, 5355\, Australia
CATEGORIES:Community,Family,Fellowship
GEO:-34.4051633;139.0114704
X-APPLE-STRUCTURED-LOCATION;VALUE=URI;X-ADDRESS=Pilgrim Lutheran Church Neukirch 655 Belvidere Road Ebenezer SA 5355 Australia;X-APPLE-RADIUS=500;X-TITLE=655 Belvidere Road:geo:139.0114704,-34.4051633
END:VEVENT
BEGIN:VEVENT
DTSTART;TZID=Australia/Adelaide:20260222T100000
DTEND;TZID=Australia/Adelaide:20260222T110000
DTSTAMP:20260425T045823
CREATED:20251127T070529Z
LAST-MODIFIED:20251127T070529Z
UID:17550-1771754400-1771758000@barossanorth-parish.lutheran.org.au
SUMMARY:Worship Service - Layreading
DESCRIPTION:At Ebenezer
URL:https://barossanorth-parish.lutheran.org.au/event/worship-service-layreading-434/
LOCATION:St John’s Lutheran Church\, Ebenezer\, 186 Ebenezer Road\, Ebenezer\, SA\, 5355\, Australia
CATEGORIES:Community,Family,Fellowship
GEO:-34.4231405;139.0335055
X-APPLE-STRUCTURED-LOCATION;VALUE=URI;X-ADDRESS=St John’s Lutheran Church Ebenezer 186 Ebenezer Road Ebenezer SA 5355 Australia;X-APPLE-RADIUS=500;X-TITLE=186 Ebenezer Road:geo:139.0335055,-34.4231405
END:VEVENT
BEGIN:VEVENT
DTSTART;TZID=Australia/Adelaide:20260222T090000
DTEND;TZID=Australia/Adelaide:20260222T100000
DTSTAMP:20260425T045823
CREATED:20260129T050507Z
LAST-MODIFIED:20260129T050507Z
UID:17755-1771750800-1771754400@barossanorth-parish.lutheran.org.au
SUMMARY:KLIC - Kid's Living in Christ
DESCRIPTION:Sunday School Program in the Ebenezer Hall
URL:https://barossanorth-parish.lutheran.org.au/event/klic-kids-living-in-christ-51/
LOCATION:St John’s Lutheran Church\, Ebenezer\, 186 Ebenezer Road\, Ebenezer\, SA\, 5355\, Australia
CATEGORIES:Children,Family,Fellowship
GEO:-34.4231405;139.0335055
X-APPLE-STRUCTURED-LOCATION;VALUE=URI;X-ADDRESS=St John’s Lutheran Church Ebenezer 186 Ebenezer Road Ebenezer SA 5355 Australia;X-APPLE-RADIUS=500;X-TITLE=186 Ebenezer Road:geo:139.0335055,-34.4231405
END:VEVENT
BEGIN:VEVENT
DTSTART;TZID=Australia/Adelaide:20260215T103000
DTEND;TZID=Australia/Adelaide:20260215T113000
DTSTAMP:20260425T045823
CREATED:20251120T064152Z
LAST-MODIFIED:20251120T064152Z
UID:17520-1771151400-1771155000@barossanorth-parish.lutheran.org.au
SUMMARY:Worship Service
DESCRIPTION:At Dutton
URL:https://barossanorth-parish.lutheran.org.au/event/worship-service-25/
LOCATION:St John’s Lutheran Church\, Dutton\, 24 Rice Street\, Dutton\, SA\, 5356\, Australia
CATEGORIES:Community,Family,Fellowship
GEO:-34.3613829;139.1467776
X-APPLE-STRUCTURED-LOCATION;VALUE=URI;X-ADDRESS=St John’s Lutheran Church Dutton 24 Rice Street Dutton SA 5356 Australia;X-APPLE-RADIUS=500;X-TITLE=24 Rice Street:geo:139.1467776,-34.3613829
END:VEVENT
BEGIN:VEVENT
DTSTART;TZID=Australia/Adelaide:20260215T100000
DTEND;TZID=Australia/Adelaide:20260215T110000
DTSTAMP:20260425T045823
CREATED:20251120T063921Z
LAST-MODIFIED:20251120T063921Z
UID:17516-1771149600-1771153200@barossanorth-parish.lutheran.org.au
SUMMARY:Worship Service - Layreading
DESCRIPTION:At Holy Trinity
URL:https://barossanorth-parish.lutheran.org.au/event/worship-service-layreading-433/
LOCATION:Holy Trinity Lutheran Church\, Nuriootpa\, 6 Penrice Road\, Nuriootpa\, SA\, 5355\, Australia
CATEGORIES:Community,Family,Fellowship
GEO:-34.4719455;139.0096044
X-APPLE-STRUCTURED-LOCATION;VALUE=URI;X-ADDRESS=Holy Trinity Lutheran Church Nuriootpa 6 Penrice Road Nuriootpa SA 5355 Australia;X-APPLE-RADIUS=500;X-TITLE=6 Penrice Road:geo:139.0096044,-34.4719455
END:VEVENT
BEGIN:VEVENT
DTSTART;TZID=Australia/Adelaide:20260215T094500
DTEND;TZID=Australia/Adelaide:20260215T103000
DTSTAMP:20260425T045823
CREATED:20260129T050559Z
LAST-MODIFIED:20260129T050559Z
UID:17757-1771148700-1771151400@barossanorth-parish.lutheran.org.au
SUMMARY:God's Kids
DESCRIPTION:Sunday School at Dutton
URL:https://barossanorth-parish.lutheran.org.au/event/gods-kids-14/
LOCATION:St John’s Lutheran Church\, Dutton\, 24 Rice Street\, Dutton\, SA\, 5356\, Australia
CATEGORIES:Children,Family,Fellowship
GEO:-34.3613829;139.1467776
X-APPLE-STRUCTURED-LOCATION;VALUE=URI;X-ADDRESS=St John’s Lutheran Church Dutton 24 Rice Street Dutton SA 5356 Australia;X-APPLE-RADIUS=500;X-TITLE=24 Rice Street:geo:139.1467776,-34.3613829
END:VEVENT
BEGIN:VEVENT
DTSTART;TZID=Australia/Adelaide:20260208T090000
DTEND;TZID=Australia/Adelaide:20260208T100000
DTSTAMP:20260425T045823
CREATED:20260129T050411Z
LAST-MODIFIED:20260129T050411Z
UID:17753-1770541200-1770544800@barossanorth-parish.lutheran.org.au
SUMMARY:KLIC - Kid's Living in Christ
DESCRIPTION:Sunday School Program in the Ebenezer Hall
URL:https://barossanorth-parish.lutheran.org.au/event/klic-kids-living-in-christ-50/
LOCATION:St John’s Lutheran Church\, Ebenezer\, 186 Ebenezer Road\, Ebenezer\, SA\, 5355\, Australia
CATEGORIES:Children,Family,Fellowship
GEO:-34.4231405;139.0335055
X-APPLE-STRUCTURED-LOCATION;VALUE=URI;X-ADDRESS=St John’s Lutheran Church Ebenezer 186 Ebenezer Road Ebenezer SA 5355 Australia;X-APPLE-RADIUS=500;X-TITLE=186 Ebenezer Road:geo:139.0335055,-34.4231405
END:VEVENT
BEGIN:VEVENT
DTSTART;TZID=Australia/Adelaide:20260208T090000
DTEND;TZID=Australia/Adelaide:20260208T100000
DTSTAMP:20260425T045823
CREATED:20251120T063611Z
LAST-MODIFIED:20251120T063611Z
UID:17510-1770541200-1770544800@barossanorth-parish.lutheran.org.au
SUMMARY:Worship Service - Layreading
DESCRIPTION:At Immanuel LP
URL:https://barossanorth-parish.lutheran.org.au/event/worship-service-layreading-432/
LOCATION:Immanuel Lutheran Church\, Light Pass\, 19 Immanuel Way\, Light Pass\, SA\, 5355\, Australia
CATEGORIES:Community,Family,Fellowship
GEO:-34.4712692;139.0260373
X-APPLE-STRUCTURED-LOCATION;VALUE=URI;X-ADDRESS=Immanuel Lutheran Church Light Pass 19 Immanuel Way Light Pass SA 5355 Australia;X-APPLE-RADIUS=500;X-TITLE=19 Immanuel Way:geo:139.0260373,-34.4712692
END:VEVENT
BEGIN:VEVENT
DTSTART;TZID=Australia/Adelaide:20260208T090000
DTEND;TZID=Australia/Adelaide:20260208T100000
DTSTAMP:20260425T045823
CREATED:20251120T063517Z
LAST-MODIFIED:20251120T063517Z
UID:17508-1770541200-1770544800@barossanorth-parish.lutheran.org.au
SUMMARY:Worship Service - Layreading
DESCRIPTION:At Stockwell
URL:https://barossanorth-parish.lutheran.org.au/event/worship-service-layreading-431/
LOCATION:St Thomas Lutheran Church\, Stockwell\, 1 Stockwell Road\, Stockwell\, SA\, 5355\, Australia
CATEGORIES:Community,Family,Fellowship
GEO:-34.4338098;139.0524909
X-APPLE-STRUCTURED-LOCATION;VALUE=URI;X-ADDRESS=St Thomas Lutheran Church Stockwell 1 Stockwell Road Stockwell SA 5355 Australia;X-APPLE-RADIUS=500;X-TITLE=1 Stockwell Road:geo:139.0524909,-34.4338098
END:VEVENT
BEGIN:VEVENT
DTSTART;TZID=Australia/Adelaide:20260201T100000
DTEND;TZID=Australia/Adelaide:20260201T110000
DTSTAMP:20260425T045823
CREATED:20251113T062206Z
LAST-MODIFIED:20251113T062206Z
UID:17487-1769940000-1769943600@barossanorth-parish.lutheran.org.au
SUMMARY:Worship Service - Layreading
DESCRIPTION:At Neukirch
URL:https://barossanorth-parish.lutheran.org.au/event/worship-service-layreading-429/
LOCATION:Pilgrim Lutheran Church Neukirch\, 655 Belvidere Road\, Ebenezer\, SA\, 5355\, Australia
CATEGORIES:Community,Family,Fellowship
GEO:-34.4051633;139.0114704
X-APPLE-STRUCTURED-LOCATION;VALUE=URI;X-ADDRESS=Pilgrim Lutheran Church Neukirch 655 Belvidere Road Ebenezer SA 5355 Australia;X-APPLE-RADIUS=500;X-TITLE=655 Belvidere Road:geo:139.0114704,-34.4051633
END:VEVENT
BEGIN:VEVENT
DTSTART;TZID=Australia/Adelaide:20260201T100000
DTEND;TZID=Australia/Adelaide:20260201T110000
DTSTAMP:20260425T045823
CREATED:20251113T062120Z
LAST-MODIFIED:20251113T062120Z
UID:17485-1769940000-1769943600@barossanorth-parish.lutheran.org.au
SUMMARY:Worship Service - Layreading
DESCRIPTION:At Holy Trinity
URL:https://barossanorth-parish.lutheran.org.au/event/worship-service-layreading-428/
LOCATION:Holy Trinity Lutheran Church\, Nuriootpa\, 6 Penrice Road\, Nuriootpa\, SA\, 5355\, Australia
CATEGORIES:Community,Family,Fellowship
GEO:-34.4719455;139.0096044
X-APPLE-STRUCTURED-LOCATION;VALUE=URI;X-ADDRESS=Holy Trinity Lutheran Church Nuriootpa 6 Penrice Road Nuriootpa SA 5355 Australia;X-APPLE-RADIUS=500;X-TITLE=6 Penrice Road:geo:139.0096044,-34.4719455
END:VEVENT
BEGIN:VEVENT
DTSTART;TZID=Australia/Adelaide:20260201T090000
DTEND;TZID=Australia/Adelaide:20260201T100000
DTSTAMP:20260425T045823
CREATED:20251113T062254Z
LAST-MODIFIED:20251113T062254Z
UID:17489-1769936400-1769940000@barossanorth-parish.lutheran.org.au
SUMMARY:Worship Service - Layreading
DESCRIPTION:At Ebenezer
URL:https://barossanorth-parish.lutheran.org.au/event/worship-service-layreading-430/
LOCATION:St John’s Lutheran Church\, Ebenezer\, 186 Ebenezer Road\, Ebenezer\, SA\, 5355\, Australia
CATEGORIES:Community,Family,Fellowship
GEO:-34.4231405;139.0335055
X-APPLE-STRUCTURED-LOCATION;VALUE=URI;X-ADDRESS=St John’s Lutheran Church Ebenezer 186 Ebenezer Road Ebenezer SA 5355 Australia;X-APPLE-RADIUS=500;X-TITLE=186 Ebenezer Road:geo:139.0335055,-34.4231405
END:VEVENT
BEGIN:VEVENT
DTSTART;TZID=Australia/Adelaide:20260125T100000
DTEND;TZID=Australia/Adelaide:20260125T110000
DTSTAMP:20260425T045823
CREATED:20251113T061744Z
LAST-MODIFIED:20251113T061744Z
UID:17477-1769335200-1769338800@barossanorth-parish.lutheran.org.au
SUMMARY:Worship Service - Layreading
DESCRIPTION:At Ebenezer
URL:https://barossanorth-parish.lutheran.org.au/event/worship-service-layreading-426/
LOCATION:St John’s Lutheran Church\, Ebenezer\, 186 Ebenezer Road\, Ebenezer\, SA\, 5355\, Australia
CATEGORIES:Community,Family,Fellowship
GEO:-34.4231405;139.0335055
X-APPLE-STRUCTURED-LOCATION;VALUE=URI;X-ADDRESS=St John’s Lutheran Church Ebenezer 186 Ebenezer Road Ebenezer SA 5355 Australia;X-APPLE-RADIUS=500;X-TITLE=186 Ebenezer Road:geo:139.0335055,-34.4231405
END:VEVENT
END:VCALENDAR