BEGIN:VCALENDAR
VERSION:2.0
PRODID:-//Barossa North Parish SA - ECPv6.15.12.2//NONSGML v1.0//EN
CALSCALE:GREGORIAN
METHOD:PUBLISH
X-ORIGINAL-URL:https://barossanorth-parish.lutheran.org.au
X-WR-CALDESC:Events for Barossa North Parish SA
REFRESH-INTERVAL;VALUE=DURATION:PT1H
X-Robots-Tag:noindex
X-PUBLISHED-TTL:PT1H
BEGIN:VTIMEZONE
TZID:Australia/Adelaide
BEGIN:STANDARD
TZOFFSETFROM:+1030
TZOFFSETTO:+0930
TZNAME:ACST
DTSTART:20240406T163000
END:STANDARD
BEGIN:DAYLIGHT
TZOFFSETFROM:+0930
TZOFFSETTO:+1030
TZNAME:ACDT
DTSTART:20241005T163000
END:DAYLIGHT
BEGIN:STANDARD
TZOFFSETFROM:+1030
TZOFFSETTO:+0930
TZNAME:ACST
DTSTART:20250405T163000
END:STANDARD
BEGIN:DAYLIGHT
TZOFFSETFROM:+0930
TZOFFSETTO:+1030
TZNAME:ACDT
DTSTART:20251004T163000
END:DAYLIGHT
BEGIN:STANDARD
TZOFFSETFROM:+1030
TZOFFSETTO:+0930
TZNAME:ACST
DTSTART:20260404T163000
END:STANDARD
BEGIN:DAYLIGHT
TZOFFSETFROM:+0930
TZOFFSETTO:+1030
TZNAME:ACDT
DTSTART:20261003T163000
END:DAYLIGHT
END:VTIMEZONE
BEGIN:VEVENT
DTSTART;TZID=Australia/Adelaide:20251205T183000
DTEND;TZID=Australia/Adelaide:20251205T210000
DTSTAMP:20260425T114733
CREATED:20250123T051917Z
LAST-MODIFIED:20250123T051917Z
UID:16439-1764959400-1764968400@barossanorth-parish.lutheran.org.au
SUMMARY:Shed Happens
DESCRIPTION:various locations
URL:https://barossanorth-parish.lutheran.org.au/event/shed-happens-10/2025-12-05/
CATEGORIES:Fellowship,Men
END:VEVENT
BEGIN:VEVENT
DTSTART;TZID=Australia/Adelaide:20251107T183000
DTEND;TZID=Australia/Adelaide:20251107T210000
DTSTAMP:20260425T114733
CREATED:20250123T051917Z
LAST-MODIFIED:20250123T051917Z
UID:16438-1762540200-1762549200@barossanorth-parish.lutheran.org.au
SUMMARY:Shed Happens
DESCRIPTION:various locations
URL:https://barossanorth-parish.lutheran.org.au/event/shed-happens-10/2025-11-07/
CATEGORIES:Fellowship,Men
END:VEVENT
BEGIN:VEVENT
DTSTART;TZID=Australia/Adelaide:20251003T183000
DTEND;TZID=Australia/Adelaide:20251003T210000
DTSTAMP:20260425T114733
CREATED:20250123T051917Z
LAST-MODIFIED:20250123T051917Z
UID:16437-1759516200-1759525200@barossanorth-parish.lutheran.org.au
SUMMARY:Shed Happens
DESCRIPTION:various locations
URL:https://barossanorth-parish.lutheran.org.au/event/shed-happens-10/2025-10-03/
CATEGORIES:Fellowship,Men
END:VEVENT
BEGIN:VEVENT
DTSTART;TZID=Australia/Adelaide:20250905T183000
DTEND;TZID=Australia/Adelaide:20250905T210000
DTSTAMP:20260425T114733
CREATED:20250123T051917Z
LAST-MODIFIED:20250123T051917Z
UID:16436-1757097000-1757106000@barossanorth-parish.lutheran.org.au
SUMMARY:Shed Happens
DESCRIPTION:various locations
URL:https://barossanorth-parish.lutheran.org.au/event/shed-happens-10/2025-09-05/
CATEGORIES:Fellowship,Men
END:VEVENT
BEGIN:VEVENT
DTSTART;TZID=Australia/Adelaide:20250801T183000
DTEND;TZID=Australia/Adelaide:20250801T210000
DTSTAMP:20260425T114733
CREATED:20250123T051917Z
LAST-MODIFIED:20250123T051917Z
UID:16435-1754073000-1754082000@barossanorth-parish.lutheran.org.au
SUMMARY:Shed Happens
DESCRIPTION:various locations
URL:https://barossanorth-parish.lutheran.org.au/event/shed-happens-10/2025-08-01/
CATEGORIES:Fellowship,Men
END:VEVENT
BEGIN:VEVENT
DTSTART;TZID=Australia/Adelaide:20250704T183000
DTEND;TZID=Australia/Adelaide:20250704T210000
DTSTAMP:20260425T114733
CREATED:20250123T051917Z
LAST-MODIFIED:20250123T051917Z
UID:16434-1751653800-1751662800@barossanorth-parish.lutheran.org.au
SUMMARY:Shed Happens
DESCRIPTION:various locations
URL:https://barossanorth-parish.lutheran.org.au/event/shed-happens-10/2025-07-04/
CATEGORIES:Fellowship,Men
END:VEVENT
BEGIN:VEVENT
DTSTART;TZID=Australia/Adelaide:20250606T183000
DTEND;TZID=Australia/Adelaide:20250606T210000
DTSTAMP:20260425T114733
CREATED:20250123T051917Z
LAST-MODIFIED:20250123T051917Z
UID:16433-1749234600-1749243600@barossanorth-parish.lutheran.org.au
SUMMARY:Shed Happens
DESCRIPTION:various locations
URL:https://barossanorth-parish.lutheran.org.au/event/shed-happens-10/2025-06-06/
CATEGORIES:Fellowship,Men
END:VEVENT
BEGIN:VEVENT
DTSTART;TZID=Australia/Adelaide:20250502T183000
DTEND;TZID=Australia/Adelaide:20250502T210000
DTSTAMP:20260425T114733
CREATED:20250123T051917Z
LAST-MODIFIED:20250123T051917Z
UID:16432-1746210600-1746219600@barossanorth-parish.lutheran.org.au
SUMMARY:Shed Happens
DESCRIPTION:various locations
URL:https://barossanorth-parish.lutheran.org.au/event/shed-happens-10/2025-05-02/
CATEGORIES:Fellowship,Men
END:VEVENT
BEGIN:VEVENT
DTSTART;TZID=Australia/Adelaide:20250404T183000
DTEND;TZID=Australia/Adelaide:20250404T210000
DTSTAMP:20260425T114733
CREATED:20250123T051917Z
LAST-MODIFIED:20250123T051917Z
UID:16431-1743791400-1743800400@barossanorth-parish.lutheran.org.au
SUMMARY:Shed Happens
DESCRIPTION:various locations
URL:https://barossanorth-parish.lutheran.org.au/event/shed-happens-10/2025-04-04/
CATEGORIES:Fellowship,Men
END:VEVENT
BEGIN:VEVENT
DTSTART;TZID=Australia/Adelaide:20250307T183000
DTEND;TZID=Australia/Adelaide:20250307T210000
DTSTAMP:20260425T114733
CREATED:20250123T051917Z
LAST-MODIFIED:20250123T051917Z
UID:16430-1741372200-1741381200@barossanorth-parish.lutheran.org.au
SUMMARY:Shed Happens
DESCRIPTION:various locations
URL:https://barossanorth-parish.lutheran.org.au/event/shed-happens-10/2025-03-07/
CATEGORIES:Fellowship,Men
END:VEVENT
BEGIN:VEVENT
DTSTART;TZID=Australia/Adelaide:20250207T183000
DTEND;TZID=Australia/Adelaide:20250207T210000
DTSTAMP:20260425T114733
CREATED:20250123T051917Z
LAST-MODIFIED:20250123T051917Z
UID:16429-1738953000-1738962000@barossanorth-parish.lutheran.org.au
SUMMARY:Shed Happens
DESCRIPTION:various locations
URL:https://barossanorth-parish.lutheran.org.au/event/shed-happens-10/2025-02-07/
CATEGORIES:Fellowship,Men
END:VEVENT
END:VCALENDAR