BEGIN:VCALENDAR
VERSION:2.0
PRODID:-//Barossa North Parish SA - ECPv6.15.12.2//NONSGML v1.0//EN
CALSCALE:GREGORIAN
METHOD:PUBLISH
X-WR-CALNAME:Barossa North Parish SA
X-ORIGINAL-URL:https://barossanorth-parish.lutheran.org.au
X-WR-CALDESC:Events for Barossa North Parish SA
REFRESH-INTERVAL;VALUE=DURATION:PT1H
X-Robots-Tag:noindex
X-PUBLISHED-TTL:PT1H
BEGIN:VTIMEZONE
TZID:Australia/Adelaide
BEGIN:STANDARD
TZOFFSETFROM:+1030
TZOFFSETTO:+0930
TZNAME:ACST
DTSTART:20240406T163000
END:STANDARD
BEGIN:DAYLIGHT
TZOFFSETFROM:+0930
TZOFFSETTO:+1030
TZNAME:ACDT
DTSTART:20241005T163000
END:DAYLIGHT
BEGIN:STANDARD
TZOFFSETFROM:+1030
TZOFFSETTO:+0930
TZNAME:ACST
DTSTART:20250405T163000
END:STANDARD
BEGIN:DAYLIGHT
TZOFFSETFROM:+0930
TZOFFSETTO:+1030
TZNAME:ACDT
DTSTART:20251004T163000
END:DAYLIGHT
BEGIN:STANDARD
TZOFFSETFROM:+1030
TZOFFSETTO:+0930
TZNAME:ACST
DTSTART:20260404T163000
END:STANDARD
BEGIN:DAYLIGHT
TZOFFSETFROM:+0930
TZOFFSETTO:+1030
TZNAME:ACDT
DTSTART:20261003T163000
END:DAYLIGHT
END:VTIMEZONE
BEGIN:VEVENT
DTSTART;TZID=Australia/Adelaide:20251208T193000
DTEND;TZID=Australia/Adelaide:20251208T210000
DTSTAMP:20260425T120832
CREATED:20250123T052747Z
LAST-MODIFIED:20250123T052747Z
UID:16461-1765222200-1765227600@barossanorth-parish.lutheran.org.au
SUMMARY:Immanuel LP Church Council Meeting
DESCRIPTION:In the Meeting Room\, Parish Office\, Immanuel LP
URL:https://barossanorth-parish.lutheran.org.au/event/immanuel-lp-church-council-meeting-25/2025-12-08/
LOCATION:Parish Office\, 15 Immanuel Way\, Light Pass\, SA\, 5355\, Australia
CATEGORIES:Meeting
GEO:-34.4712692;139.0260373
X-APPLE-STRUCTURED-LOCATION;VALUE=URI;X-ADDRESS=Parish Office 15 Immanuel Way Light Pass SA 5355 Australia;X-APPLE-RADIUS=500;X-TITLE=15 Immanuel Way:geo:139.0260373,-34.4712692
END:VEVENT
BEGIN:VEVENT
DTSTART;TZID=Australia/Adelaide:20251110T193000
DTEND;TZID=Australia/Adelaide:20251110T210000
DTSTAMP:20260425T120832
CREATED:20250123T052747Z
LAST-MODIFIED:20250123T052747Z
UID:16460-1762803000-1762808400@barossanorth-parish.lutheran.org.au
SUMMARY:Immanuel LP Church Council Meeting
DESCRIPTION:In the Meeting Room\, Parish Office\, Immanuel LP
URL:https://barossanorth-parish.lutheran.org.au/event/immanuel-lp-church-council-meeting-25/2025-11-10/
LOCATION:Parish Office\, 15 Immanuel Way\, Light Pass\, SA\, 5355\, Australia
CATEGORIES:Meeting
GEO:-34.4712692;139.0260373
X-APPLE-STRUCTURED-LOCATION;VALUE=URI;X-ADDRESS=Parish Office 15 Immanuel Way Light Pass SA 5355 Australia;X-APPLE-RADIUS=500;X-TITLE=15 Immanuel Way:geo:139.0260373,-34.4712692
END:VEVENT
BEGIN:VEVENT
DTSTART;TZID=Australia/Adelaide:20251013T193000
DTEND;TZID=Australia/Adelaide:20251013T210000
DTSTAMP:20260425T120832
CREATED:20250123T052747Z
LAST-MODIFIED:20250123T052747Z
UID:16459-1760383800-1760389200@barossanorth-parish.lutheran.org.au
SUMMARY:Immanuel LP Church Council Meeting
DESCRIPTION:In the Meeting Room\, Parish Office\, Immanuel LP
URL:https://barossanorth-parish.lutheran.org.au/event/immanuel-lp-church-council-meeting-25/2025-10-13/
LOCATION:Parish Office\, 15 Immanuel Way\, Light Pass\, SA\, 5355\, Australia
CATEGORIES:Meeting
GEO:-34.4712692;139.0260373
X-APPLE-STRUCTURED-LOCATION;VALUE=URI;X-ADDRESS=Parish Office 15 Immanuel Way Light Pass SA 5355 Australia;X-APPLE-RADIUS=500;X-TITLE=15 Immanuel Way:geo:139.0260373,-34.4712692
END:VEVENT
BEGIN:VEVENT
DTSTART;TZID=Australia/Adelaide:20250908T193000
DTEND;TZID=Australia/Adelaide:20250908T210000
DTSTAMP:20260425T120832
CREATED:20250123T052747Z
LAST-MODIFIED:20250123T052747Z
UID:16458-1757359800-1757365200@barossanorth-parish.lutheran.org.au
SUMMARY:Immanuel LP Church Council Meeting
DESCRIPTION:In the Meeting Room\, Parish Office\, Immanuel LP
URL:https://barossanorth-parish.lutheran.org.au/event/immanuel-lp-church-council-meeting-25/2025-09-08/
LOCATION:Parish Office\, 15 Immanuel Way\, Light Pass\, SA\, 5355\, Australia
CATEGORIES:Meeting
GEO:-34.4712692;139.0260373
X-APPLE-STRUCTURED-LOCATION;VALUE=URI;X-ADDRESS=Parish Office 15 Immanuel Way Light Pass SA 5355 Australia;X-APPLE-RADIUS=500;X-TITLE=15 Immanuel Way:geo:139.0260373,-34.4712692
END:VEVENT
BEGIN:VEVENT
DTSTART;TZID=Australia/Adelaide:20250811T193000
DTEND;TZID=Australia/Adelaide:20250811T210000
DTSTAMP:20260425T120832
CREATED:20250123T052747Z
LAST-MODIFIED:20250123T052747Z
UID:16457-1754940600-1754946000@barossanorth-parish.lutheran.org.au
SUMMARY:Immanuel LP Church Council Meeting
DESCRIPTION:In the Meeting Room\, Parish Office\, Immanuel LP
URL:https://barossanorth-parish.lutheran.org.au/event/immanuel-lp-church-council-meeting-25/2025-08-11/
LOCATION:Parish Office\, 15 Immanuel Way\, Light Pass\, SA\, 5355\, Australia
CATEGORIES:Meeting
GEO:-34.4712692;139.0260373
X-APPLE-STRUCTURED-LOCATION;VALUE=URI;X-ADDRESS=Parish Office 15 Immanuel Way Light Pass SA 5355 Australia;X-APPLE-RADIUS=500;X-TITLE=15 Immanuel Way:geo:139.0260373,-34.4712692
END:VEVENT
BEGIN:VEVENT
DTSTART;TZID=Australia/Adelaide:20250714T193000
DTEND;TZID=Australia/Adelaide:20250714T210000
DTSTAMP:20260425T120832
CREATED:20250123T052747Z
LAST-MODIFIED:20250123T052747Z
UID:16456-1752521400-1752526800@barossanorth-parish.lutheran.org.au
SUMMARY:Immanuel LP Church Council Meeting
DESCRIPTION:In the Meeting Room\, Parish Office\, Immanuel LP
URL:https://barossanorth-parish.lutheran.org.au/event/immanuel-lp-church-council-meeting-25/2025-07-14/
LOCATION:Parish Office\, 15 Immanuel Way\, Light Pass\, SA\, 5355\, Australia
CATEGORIES:Meeting
GEO:-34.4712692;139.0260373
X-APPLE-STRUCTURED-LOCATION;VALUE=URI;X-ADDRESS=Parish Office 15 Immanuel Way Light Pass SA 5355 Australia;X-APPLE-RADIUS=500;X-TITLE=15 Immanuel Way:geo:139.0260373,-34.4712692
END:VEVENT
BEGIN:VEVENT
DTSTART;TZID=Australia/Adelaide:20250609T193000
DTEND;TZID=Australia/Adelaide:20250609T210000
DTSTAMP:20260425T120832
CREATED:20250123T052747Z
LAST-MODIFIED:20250123T052747Z
UID:16455-1749497400-1749502800@barossanorth-parish.lutheran.org.au
SUMMARY:Immanuel LP Church Council Meeting
DESCRIPTION:In the Meeting Room\, Parish Office\, Immanuel LP
URL:https://barossanorth-parish.lutheran.org.au/event/immanuel-lp-church-council-meeting-25/2025-06-09/
LOCATION:Parish Office\, 15 Immanuel Way\, Light Pass\, SA\, 5355\, Australia
CATEGORIES:Meeting
GEO:-34.4712692;139.0260373
X-APPLE-STRUCTURED-LOCATION;VALUE=URI;X-ADDRESS=Parish Office 15 Immanuel Way Light Pass SA 5355 Australia;X-APPLE-RADIUS=500;X-TITLE=15 Immanuel Way:geo:139.0260373,-34.4712692
END:VEVENT
BEGIN:VEVENT
DTSTART;TZID=Australia/Adelaide:20250512T193000
DTEND;TZID=Australia/Adelaide:20250512T210000
DTSTAMP:20260425T120832
CREATED:20250123T052747Z
LAST-MODIFIED:20250123T052747Z
UID:16454-1747078200-1747083600@barossanorth-parish.lutheran.org.au
SUMMARY:Immanuel LP Church Council Meeting
DESCRIPTION:In the Meeting Room\, Parish Office\, Immanuel LP
URL:https://barossanorth-parish.lutheran.org.au/event/immanuel-lp-church-council-meeting-25/2025-05-12/
LOCATION:Parish Office\, 15 Immanuel Way\, Light Pass\, SA\, 5355\, Australia
CATEGORIES:Meeting
GEO:-34.4712692;139.0260373
X-APPLE-STRUCTURED-LOCATION;VALUE=URI;X-ADDRESS=Parish Office 15 Immanuel Way Light Pass SA 5355 Australia;X-APPLE-RADIUS=500;X-TITLE=15 Immanuel Way:geo:139.0260373,-34.4712692
END:VEVENT
BEGIN:VEVENT
DTSTART;TZID=Australia/Adelaide:20250414T193000
DTEND;TZID=Australia/Adelaide:20250414T210000
DTSTAMP:20260425T120832
CREATED:20250123T052747Z
LAST-MODIFIED:20250123T052747Z
UID:16453-1744659000-1744664400@barossanorth-parish.lutheran.org.au
SUMMARY:Immanuel LP Church Council Meeting
DESCRIPTION:In the Meeting Room\, Parish Office\, Immanuel LP
URL:https://barossanorth-parish.lutheran.org.au/event/immanuel-lp-church-council-meeting-25/2025-04-14/
LOCATION:Parish Office\, 15 Immanuel Way\, Light Pass\, SA\, 5355\, Australia
CATEGORIES:Meeting
GEO:-34.4712692;139.0260373
X-APPLE-STRUCTURED-LOCATION;VALUE=URI;X-ADDRESS=Parish Office 15 Immanuel Way Light Pass SA 5355 Australia;X-APPLE-RADIUS=500;X-TITLE=15 Immanuel Way:geo:139.0260373,-34.4712692
END:VEVENT
BEGIN:VEVENT
DTSTART;TZID=Australia/Adelaide:20250310T193000
DTEND;TZID=Australia/Adelaide:20250310T210000
DTSTAMP:20260425T120832
CREATED:20250123T052747Z
LAST-MODIFIED:20250123T052747Z
UID:16452-1741635000-1741640400@barossanorth-parish.lutheran.org.au
SUMMARY:Immanuel LP Church Council Meeting
DESCRIPTION:In the Meeting Room\, Parish Office\, Immanuel LP
URL:https://barossanorth-parish.lutheran.org.au/event/immanuel-lp-church-council-meeting-25/2025-03-10/
LOCATION:Parish Office\, 15 Immanuel Way\, Light Pass\, SA\, 5355\, Australia
CATEGORIES:Meeting
GEO:-34.4712692;139.0260373
X-APPLE-STRUCTURED-LOCATION;VALUE=URI;X-ADDRESS=Parish Office 15 Immanuel Way Light Pass SA 5355 Australia;X-APPLE-RADIUS=500;X-TITLE=15 Immanuel Way:geo:139.0260373,-34.4712692
END:VEVENT
BEGIN:VEVENT
DTSTART;TZID=Australia/Adelaide:20250210T193000
DTEND;TZID=Australia/Adelaide:20250210T210000
DTSTAMP:20260425T120832
CREATED:20250123T052747Z
LAST-MODIFIED:20250123T052747Z
UID:16451-1739215800-1739221200@barossanorth-parish.lutheran.org.au
SUMMARY:Immanuel LP Church Council Meeting
DESCRIPTION:In the Meeting Room\, Parish Office\, Immanuel LP
URL:https://barossanorth-parish.lutheran.org.au/event/immanuel-lp-church-council-meeting-25/2025-02-10/
LOCATION:Parish Office\, 15 Immanuel Way\, Light Pass\, SA\, 5355\, Australia
CATEGORIES:Meeting
GEO:-34.4712692;139.0260373
X-APPLE-STRUCTURED-LOCATION;VALUE=URI;X-ADDRESS=Parish Office 15 Immanuel Way Light Pass SA 5355 Australia;X-APPLE-RADIUS=500;X-TITLE=15 Immanuel Way:geo:139.0260373,-34.4712692
END:VEVENT
END:VCALENDAR