BEGIN:VCALENDAR
VERSION:2.0
PRODID:-//Barossa North Parish SA - ECPv6.15.12.2//NONSGML v1.0//EN
CALSCALE:GREGORIAN
METHOD:PUBLISH
X-ORIGINAL-URL:https://barossanorth-parish.lutheran.org.au
X-WR-CALDESC:Events for Barossa North Parish SA
REFRESH-INTERVAL;VALUE=DURATION:PT1H
X-Robots-Tag:noindex
X-PUBLISHED-TTL:PT1H
BEGIN:VTIMEZONE
TZID:Australia/Adelaide
BEGIN:STANDARD
TZOFFSETFROM:+1030
TZOFFSETTO:+0930
TZNAME:ACST
DTSTART:20250405T163000
END:STANDARD
BEGIN:DAYLIGHT
TZOFFSETFROM:+0930
TZOFFSETTO:+1030
TZNAME:ACDT
DTSTART:20251004T163000
END:DAYLIGHT
BEGIN:STANDARD
TZOFFSETFROM:+1030
TZOFFSETTO:+0930
TZNAME:ACST
DTSTART:20260404T163000
END:STANDARD
BEGIN:DAYLIGHT
TZOFFSETFROM:+0930
TZOFFSETTO:+1030
TZNAME:ACDT
DTSTART:20261003T163000
END:DAYLIGHT
BEGIN:STANDARD
TZOFFSETFROM:+1030
TZOFFSETTO:+0930
TZNAME:ACST
DTSTART:20270403T163000
END:STANDARD
BEGIN:DAYLIGHT
TZOFFSETFROM:+0930
TZOFFSETTO:+1030
TZNAME:ACDT
DTSTART:20271002T163000
END:DAYLIGHT
END:VTIMEZONE
BEGIN:VEVENT
DTSTART;TZID=Australia/Adelaide:20260428T160000
DTEND;TZID=Australia/Adelaide:20260428T170000
DTSTAMP:20260425T055114
CREATED:20260409T051548Z
LAST-MODIFIED:20260409T051548Z
UID:18116-1777392000-1777395600@barossanorth-parish.lutheran.org.au
SUMMARY:Confirmation Class
DESCRIPTION:In the Holy Trinity Church Hall
URL:https://barossanorth-parish.lutheran.org.au/event/confirmation-class-12/2026-04-28/
LOCATION:Holy Trinity Lutheran Church\, Nuriootpa\, 6 Penrice Road\, Nuriootpa\, SA\, 5355\, Australia
CATEGORIES:Bible study,Youth
GEO:-34.4719455;139.0096044
X-APPLE-STRUCTURED-LOCATION;VALUE=URI;X-ADDRESS=Holy Trinity Lutheran Church Nuriootpa 6 Penrice Road Nuriootpa SA 5355 Australia;X-APPLE-RADIUS=500;X-TITLE=6 Penrice Road:geo:139.0096044,-34.4719455
END:VEVENT
BEGIN:VEVENT
DTSTART;TZID=Australia/Adelaide:20260505T160000
DTEND;TZID=Australia/Adelaide:20260505T170000
DTSTAMP:20260425T055114
CREATED:20260409T051548Z
LAST-MODIFIED:20260409T051548Z
UID:18117-1777996800-1778000400@barossanorth-parish.lutheran.org.au
SUMMARY:Confirmation Class
DESCRIPTION:In the Holy Trinity Church Hall
URL:https://barossanorth-parish.lutheran.org.au/event/confirmation-class-12/2026-05-05/
LOCATION:Holy Trinity Lutheran Church\, Nuriootpa\, 6 Penrice Road\, Nuriootpa\, SA\, 5355\, Australia
CATEGORIES:Bible study,Youth
GEO:-34.4719455;139.0096044
X-APPLE-STRUCTURED-LOCATION;VALUE=URI;X-ADDRESS=Holy Trinity Lutheran Church Nuriootpa 6 Penrice Road Nuriootpa SA 5355 Australia;X-APPLE-RADIUS=500;X-TITLE=6 Penrice Road:geo:139.0096044,-34.4719455
END:VEVENT
BEGIN:VEVENT
DTSTART;TZID=Australia/Adelaide:20260512T160000
DTEND;TZID=Australia/Adelaide:20260512T170000
DTSTAMP:20260425T055114
CREATED:20260409T051548Z
LAST-MODIFIED:20260409T051548Z
UID:18118-1778601600-1778605200@barossanorth-parish.lutheran.org.au
SUMMARY:Confirmation Class
DESCRIPTION:In the Holy Trinity Church Hall
URL:https://barossanorth-parish.lutheran.org.au/event/confirmation-class-12/2026-05-12/
LOCATION:Holy Trinity Lutheran Church\, Nuriootpa\, 6 Penrice Road\, Nuriootpa\, SA\, 5355\, Australia
CATEGORIES:Bible study,Youth
GEO:-34.4719455;139.0096044
X-APPLE-STRUCTURED-LOCATION;VALUE=URI;X-ADDRESS=Holy Trinity Lutheran Church Nuriootpa 6 Penrice Road Nuriootpa SA 5355 Australia;X-APPLE-RADIUS=500;X-TITLE=6 Penrice Road:geo:139.0096044,-34.4719455
END:VEVENT
BEGIN:VEVENT
DTSTART;TZID=Australia/Adelaide:20260519T160000
DTEND;TZID=Australia/Adelaide:20260519T170000
DTSTAMP:20260425T055114
CREATED:20260409T051548Z
LAST-MODIFIED:20260409T051548Z
UID:18119-1779206400-1779210000@barossanorth-parish.lutheran.org.au
SUMMARY:Confirmation Class
DESCRIPTION:In the Holy Trinity Church Hall
URL:https://barossanorth-parish.lutheran.org.au/event/confirmation-class-12/2026-05-19/
LOCATION:Holy Trinity Lutheran Church\, Nuriootpa\, 6 Penrice Road\, Nuriootpa\, SA\, 5355\, Australia
CATEGORIES:Bible study,Youth
GEO:-34.4719455;139.0096044
X-APPLE-STRUCTURED-LOCATION;VALUE=URI;X-ADDRESS=Holy Trinity Lutheran Church Nuriootpa 6 Penrice Road Nuriootpa SA 5355 Australia;X-APPLE-RADIUS=500;X-TITLE=6 Penrice Road:geo:139.0096044,-34.4719455
END:VEVENT
BEGIN:VEVENT
DTSTART;TZID=Australia/Adelaide:20260526T160000
DTEND;TZID=Australia/Adelaide:20260526T170000
DTSTAMP:20260425T055114
CREATED:20260409T051548Z
LAST-MODIFIED:20260409T051548Z
UID:18120-1779811200-1779814800@barossanorth-parish.lutheran.org.au
SUMMARY:Confirmation Class
DESCRIPTION:In the Holy Trinity Church Hall
URL:https://barossanorth-parish.lutheran.org.au/event/confirmation-class-12/2026-05-26/
LOCATION:Holy Trinity Lutheran Church\, Nuriootpa\, 6 Penrice Road\, Nuriootpa\, SA\, 5355\, Australia
CATEGORIES:Bible study,Youth
GEO:-34.4719455;139.0096044
X-APPLE-STRUCTURED-LOCATION;VALUE=URI;X-ADDRESS=Holy Trinity Lutheran Church Nuriootpa 6 Penrice Road Nuriootpa SA 5355 Australia;X-APPLE-RADIUS=500;X-TITLE=6 Penrice Road:geo:139.0096044,-34.4719455
END:VEVENT
BEGIN:VEVENT
DTSTART;TZID=Australia/Adelaide:20260602T160000
DTEND;TZID=Australia/Adelaide:20260602T170000
DTSTAMP:20260425T055114
CREATED:20260409T051548Z
LAST-MODIFIED:20260409T051548Z
UID:18121-1780416000-1780419600@barossanorth-parish.lutheran.org.au
SUMMARY:Confirmation Class
DESCRIPTION:In the Holy Trinity Church Hall
URL:https://barossanorth-parish.lutheran.org.au/event/confirmation-class-12/2026-06-02/
LOCATION:Holy Trinity Lutheran Church\, Nuriootpa\, 6 Penrice Road\, Nuriootpa\, SA\, 5355\, Australia
CATEGORIES:Bible study,Youth
GEO:-34.4719455;139.0096044
X-APPLE-STRUCTURED-LOCATION;VALUE=URI;X-ADDRESS=Holy Trinity Lutheran Church Nuriootpa 6 Penrice Road Nuriootpa SA 5355 Australia;X-APPLE-RADIUS=500;X-TITLE=6 Penrice Road:geo:139.0096044,-34.4719455
END:VEVENT
BEGIN:VEVENT
DTSTART;TZID=Australia/Adelaide:20260609T160000
DTEND;TZID=Australia/Adelaide:20260609T170000
DTSTAMP:20260425T055114
CREATED:20260409T051548Z
LAST-MODIFIED:20260409T051548Z
UID:18122-1781020800-1781024400@barossanorth-parish.lutheran.org.au
SUMMARY:Confirmation Class
DESCRIPTION:In the Holy Trinity Church Hall
URL:https://barossanorth-parish.lutheran.org.au/event/confirmation-class-12/2026-06-09/
LOCATION:Holy Trinity Lutheran Church\, Nuriootpa\, 6 Penrice Road\, Nuriootpa\, SA\, 5355\, Australia
CATEGORIES:Bible study,Youth
GEO:-34.4719455;139.0096044
X-APPLE-STRUCTURED-LOCATION;VALUE=URI;X-ADDRESS=Holy Trinity Lutheran Church Nuriootpa 6 Penrice Road Nuriootpa SA 5355 Australia;X-APPLE-RADIUS=500;X-TITLE=6 Penrice Road:geo:139.0096044,-34.4719455
END:VEVENT
BEGIN:VEVENT
DTSTART;TZID=Australia/Adelaide:20260616T160000
DTEND;TZID=Australia/Adelaide:20260616T170000
DTSTAMP:20260425T055114
CREATED:20260409T051548Z
LAST-MODIFIED:20260409T051548Z
UID:18123-1781625600-1781629200@barossanorth-parish.lutheran.org.au
SUMMARY:Confirmation Class
DESCRIPTION:In the Holy Trinity Church Hall
URL:https://barossanorth-parish.lutheran.org.au/event/confirmation-class-12/2026-06-16/
LOCATION:Holy Trinity Lutheran Church\, Nuriootpa\, 6 Penrice Road\, Nuriootpa\, SA\, 5355\, Australia
CATEGORIES:Bible study,Youth
GEO:-34.4719455;139.0096044
X-APPLE-STRUCTURED-LOCATION;VALUE=URI;X-ADDRESS=Holy Trinity Lutheran Church Nuriootpa 6 Penrice Road Nuriootpa SA 5355 Australia;X-APPLE-RADIUS=500;X-TITLE=6 Penrice Road:geo:139.0096044,-34.4719455
END:VEVENT
BEGIN:VEVENT
DTSTART;TZID=Australia/Adelaide:20260623T160000
DTEND;TZID=Australia/Adelaide:20260623T170000
DTSTAMP:20260425T055114
CREATED:20260409T051548Z
LAST-MODIFIED:20260409T051548Z
UID:18124-1782230400-1782234000@barossanorth-parish.lutheran.org.au
SUMMARY:Confirmation Class
DESCRIPTION:In the Holy Trinity Church Hall
URL:https://barossanorth-parish.lutheran.org.au/event/confirmation-class-12/2026-06-23/
LOCATION:Holy Trinity Lutheran Church\, Nuriootpa\, 6 Penrice Road\, Nuriootpa\, SA\, 5355\, Australia
CATEGORIES:Bible study,Youth
GEO:-34.4719455;139.0096044
X-APPLE-STRUCTURED-LOCATION;VALUE=URI;X-ADDRESS=Holy Trinity Lutheran Church Nuriootpa 6 Penrice Road Nuriootpa SA 5355 Australia;X-APPLE-RADIUS=500;X-TITLE=6 Penrice Road:geo:139.0096044,-34.4719455
END:VEVENT
BEGIN:VEVENT
DTSTART;TZID=Australia/Adelaide:20260630T160000
DTEND;TZID=Australia/Adelaide:20260630T170000
DTSTAMP:20260425T055114
CREATED:20260409T051548Z
LAST-MODIFIED:20260409T051548Z
UID:18125-1782835200-1782838800@barossanorth-parish.lutheran.org.au
SUMMARY:Confirmation Class
DESCRIPTION:In the Holy Trinity Church Hall
URL:https://barossanorth-parish.lutheran.org.au/event/confirmation-class-12/2026-06-30/
LOCATION:Holy Trinity Lutheran Church\, Nuriootpa\, 6 Penrice Road\, Nuriootpa\, SA\, 5355\, Australia
CATEGORIES:Bible study,Youth
GEO:-34.4719455;139.0096044
X-APPLE-STRUCTURED-LOCATION;VALUE=URI;X-ADDRESS=Holy Trinity Lutheran Church Nuriootpa 6 Penrice Road Nuriootpa SA 5355 Australia;X-APPLE-RADIUS=500;X-TITLE=6 Penrice Road:geo:139.0096044,-34.4719455
END:VEVENT
END:VCALENDAR