BEGIN:VCALENDAR
VERSION:2.0
PRODID:-//Barossa North Parish SA - ECPv6.15.12.2//NONSGML v1.0//EN
CALSCALE:GREGORIAN
METHOD:PUBLISH
X-WR-CALNAME:Barossa North Parish SA
X-ORIGINAL-URL:https://barossanorth-parish.lutheran.org.au
X-WR-CALDESC:Events for Barossa North Parish SA
REFRESH-INTERVAL;VALUE=DURATION:PT1H
X-Robots-Tag:noindex
X-PUBLISHED-TTL:PT1H
BEGIN:VTIMEZONE
TZID:Australia/Adelaide
BEGIN:STANDARD
TZOFFSETFROM:+1030
TZOFFSETTO:+0930
TZNAME:ACST
DTSTART:20250405T163000
END:STANDARD
BEGIN:DAYLIGHT
TZOFFSETFROM:+0930
TZOFFSETTO:+1030
TZNAME:ACDT
DTSTART:20251004T163000
END:DAYLIGHT
BEGIN:STANDARD
TZOFFSETFROM:+1030
TZOFFSETTO:+0930
TZNAME:ACST
DTSTART:20260404T163000
END:STANDARD
BEGIN:DAYLIGHT
TZOFFSETFROM:+0930
TZOFFSETTO:+1030
TZNAME:ACDT
DTSTART:20261003T163000
END:DAYLIGHT
BEGIN:STANDARD
TZOFFSETFROM:+1030
TZOFFSETTO:+0930
TZNAME:ACST
DTSTART:20270403T163000
END:STANDARD
BEGIN:DAYLIGHT
TZOFFSETFROM:+0930
TZOFFSETTO:+1030
TZNAME:ACDT
DTSTART:20271002T163000
END:DAYLIGHT
END:VTIMEZONE
BEGIN:VEVENT
DTSTART;TZID=Australia/Adelaide:20260407T160000
DTEND;TZID=Australia/Adelaide:20260407T170000
DTSTAMP:20260425T075747
CREATED:20260129T043337Z
LAST-MODIFIED:20260129T043337Z
UID:17735-1775577600-1775581200@barossanorth-parish.lutheran.org.au
SUMMARY:Confirmation Class
DESCRIPTION:In the Holy Trinity Church Hall
URL:https://barossanorth-parish.lutheran.org.au/event/confirmation-class-11/2026-04-07/
LOCATION:Holy Trinity Lutheran Church\, Nuriootpa\, 6 Penrice Road\, Nuriootpa\, SA\, 5355\, Australia
CATEGORIES:Bible study,Youth
GEO:-34.4719455;139.0096044
X-APPLE-STRUCTURED-LOCATION;VALUE=URI;X-ADDRESS=Holy Trinity Lutheran Church Nuriootpa 6 Penrice Road Nuriootpa SA 5355 Australia;X-APPLE-RADIUS=500;X-TITLE=6 Penrice Road:geo:139.0096044,-34.4719455
END:VEVENT
BEGIN:VEVENT
DTSTART;TZID=Australia/Adelaide:20260331T160000
DTEND;TZID=Australia/Adelaide:20260331T170000
DTSTAMP:20260425T075747
CREATED:20260129T043337Z
LAST-MODIFIED:20260129T043337Z
UID:17734-1774972800-1774976400@barossanorth-parish.lutheran.org.au
SUMMARY:Confirmation Class
DESCRIPTION:In the Holy Trinity Church Hall
URL:https://barossanorth-parish.lutheran.org.au/event/confirmation-class-11/2026-03-31/
LOCATION:Holy Trinity Lutheran Church\, Nuriootpa\, 6 Penrice Road\, Nuriootpa\, SA\, 5355\, Australia
CATEGORIES:Bible study,Youth
GEO:-34.4719455;139.0096044
X-APPLE-STRUCTURED-LOCATION;VALUE=URI;X-ADDRESS=Holy Trinity Lutheran Church Nuriootpa 6 Penrice Road Nuriootpa SA 5355 Australia;X-APPLE-RADIUS=500;X-TITLE=6 Penrice Road:geo:139.0096044,-34.4719455
END:VEVENT
BEGIN:VEVENT
DTSTART;TZID=Australia/Adelaide:20260324T160000
DTEND;TZID=Australia/Adelaide:20260324T170000
DTSTAMP:20260425T075747
CREATED:20260129T043337Z
LAST-MODIFIED:20260129T043337Z
UID:17733-1774368000-1774371600@barossanorth-parish.lutheran.org.au
SUMMARY:Confirmation Class
DESCRIPTION:In the Holy Trinity Church Hall
URL:https://barossanorth-parish.lutheran.org.au/event/confirmation-class-11/2026-03-24/
LOCATION:Holy Trinity Lutheran Church\, Nuriootpa\, 6 Penrice Road\, Nuriootpa\, SA\, 5355\, Australia
CATEGORIES:Bible study,Youth
GEO:-34.4719455;139.0096044
X-APPLE-STRUCTURED-LOCATION;VALUE=URI;X-ADDRESS=Holy Trinity Lutheran Church Nuriootpa 6 Penrice Road Nuriootpa SA 5355 Australia;X-APPLE-RADIUS=500;X-TITLE=6 Penrice Road:geo:139.0096044,-34.4719455
END:VEVENT
BEGIN:VEVENT
DTSTART;TZID=Australia/Adelaide:20260317T160000
DTEND;TZID=Australia/Adelaide:20260317T170000
DTSTAMP:20260425T075747
CREATED:20260129T043337Z
LAST-MODIFIED:20260129T043337Z
UID:17732-1773763200-1773766800@barossanorth-parish.lutheran.org.au
SUMMARY:Confirmation Class
DESCRIPTION:In the Holy Trinity Church Hall
URL:https://barossanorth-parish.lutheran.org.au/event/confirmation-class-11/2026-03-17/
LOCATION:Holy Trinity Lutheran Church\, Nuriootpa\, 6 Penrice Road\, Nuriootpa\, SA\, 5355\, Australia
CATEGORIES:Bible study,Youth
GEO:-34.4719455;139.0096044
X-APPLE-STRUCTURED-LOCATION;VALUE=URI;X-ADDRESS=Holy Trinity Lutheran Church Nuriootpa 6 Penrice Road Nuriootpa SA 5355 Australia;X-APPLE-RADIUS=500;X-TITLE=6 Penrice Road:geo:139.0096044,-34.4719455
END:VEVENT
BEGIN:VEVENT
DTSTART;TZID=Australia/Adelaide:20260310T160000
DTEND;TZID=Australia/Adelaide:20260310T170000
DTSTAMP:20260425T075747
CREATED:20260129T043337Z
LAST-MODIFIED:20260129T043337Z
UID:17731-1773158400-1773162000@barossanorth-parish.lutheran.org.au
SUMMARY:Confirmation Class
DESCRIPTION:In the Holy Trinity Church Hall
URL:https://barossanorth-parish.lutheran.org.au/event/confirmation-class-11/2026-03-10/
LOCATION:Holy Trinity Lutheran Church\, Nuriootpa\, 6 Penrice Road\, Nuriootpa\, SA\, 5355\, Australia
CATEGORIES:Bible study,Youth
GEO:-34.4719455;139.0096044
X-APPLE-STRUCTURED-LOCATION;VALUE=URI;X-ADDRESS=Holy Trinity Lutheran Church Nuriootpa 6 Penrice Road Nuriootpa SA 5355 Australia;X-APPLE-RADIUS=500;X-TITLE=6 Penrice Road:geo:139.0096044,-34.4719455
END:VEVENT
BEGIN:VEVENT
DTSTART;TZID=Australia/Adelaide:20260303T160000
DTEND;TZID=Australia/Adelaide:20260303T170000
DTSTAMP:20260425T075747
CREATED:20260129T043337Z
LAST-MODIFIED:20260129T043337Z
UID:17730-1772553600-1772557200@barossanorth-parish.lutheran.org.au
SUMMARY:Confirmation Class
DESCRIPTION:In the Holy Trinity Church Hall
URL:https://barossanorth-parish.lutheran.org.au/event/confirmation-class-11/2026-03-03/
LOCATION:Holy Trinity Lutheran Church\, Nuriootpa\, 6 Penrice Road\, Nuriootpa\, SA\, 5355\, Australia
CATEGORIES:Bible study,Youth
GEO:-34.4719455;139.0096044
X-APPLE-STRUCTURED-LOCATION;VALUE=URI;X-ADDRESS=Holy Trinity Lutheran Church Nuriootpa 6 Penrice Road Nuriootpa SA 5355 Australia;X-APPLE-RADIUS=500;X-TITLE=6 Penrice Road:geo:139.0096044,-34.4719455
END:VEVENT
BEGIN:VEVENT
DTSTART;TZID=Australia/Adelaide:20260224T160000
DTEND;TZID=Australia/Adelaide:20260224T170000
DTSTAMP:20260425T075747
CREATED:20260129T043337Z
LAST-MODIFIED:20260129T043337Z
UID:17729-1771948800-1771952400@barossanorth-parish.lutheran.org.au
SUMMARY:Confirmation Class
DESCRIPTION:In the Holy Trinity Church Hall
URL:https://barossanorth-parish.lutheran.org.au/event/confirmation-class-11/2026-02-24/
LOCATION:Holy Trinity Lutheran Church\, Nuriootpa\, 6 Penrice Road\, Nuriootpa\, SA\, 5355\, Australia
CATEGORIES:Bible study,Youth
GEO:-34.4719455;139.0096044
X-APPLE-STRUCTURED-LOCATION;VALUE=URI;X-ADDRESS=Holy Trinity Lutheran Church Nuriootpa 6 Penrice Road Nuriootpa SA 5355 Australia;X-APPLE-RADIUS=500;X-TITLE=6 Penrice Road:geo:139.0096044,-34.4719455
END:VEVENT
BEGIN:VEVENT
DTSTART;TZID=Australia/Adelaide:20260217T160000
DTEND;TZID=Australia/Adelaide:20260217T170000
DTSTAMP:20260425T075747
CREATED:20260129T043337Z
LAST-MODIFIED:20260129T043337Z
UID:17728-1771344000-1771347600@barossanorth-parish.lutheran.org.au
SUMMARY:Confirmation Class
DESCRIPTION:In the Holy Trinity Church Hall
URL:https://barossanorth-parish.lutheran.org.au/event/confirmation-class-11/2026-02-17/
LOCATION:Holy Trinity Lutheran Church\, Nuriootpa\, 6 Penrice Road\, Nuriootpa\, SA\, 5355\, Australia
CATEGORIES:Bible study,Youth
GEO:-34.4719455;139.0096044
X-APPLE-STRUCTURED-LOCATION;VALUE=URI;X-ADDRESS=Holy Trinity Lutheran Church Nuriootpa 6 Penrice Road Nuriootpa SA 5355 Australia;X-APPLE-RADIUS=500;X-TITLE=6 Penrice Road:geo:139.0096044,-34.4719455
END:VEVENT
BEGIN:VEVENT
DTSTART;TZID=Australia/Adelaide:20260210T160000
DTEND;TZID=Australia/Adelaide:20260210T170000
DTSTAMP:20260425T075747
CREATED:20260129T043337Z
LAST-MODIFIED:20260129T043337Z
UID:17727-1770739200-1770742800@barossanorth-parish.lutheran.org.au
SUMMARY:Confirmation Class
DESCRIPTION:In the Holy Trinity Church Hall
URL:https://barossanorth-parish.lutheran.org.au/event/confirmation-class-11/2026-02-10/
LOCATION:Holy Trinity Lutheran Church\, Nuriootpa\, 6 Penrice Road\, Nuriootpa\, SA\, 5355\, Australia
CATEGORIES:Bible study,Youth
GEO:-34.4719455;139.0096044
X-APPLE-STRUCTURED-LOCATION;VALUE=URI;X-ADDRESS=Holy Trinity Lutheran Church Nuriootpa 6 Penrice Road Nuriootpa SA 5355 Australia;X-APPLE-RADIUS=500;X-TITLE=6 Penrice Road:geo:139.0096044,-34.4719455
END:VEVENT
BEGIN:VEVENT
DTSTART;TZID=Australia/Adelaide:20260203T160000
DTEND;TZID=Australia/Adelaide:20260203T170000
DTSTAMP:20260425T075747
CREATED:20260129T043337Z
LAST-MODIFIED:20260129T043337Z
UID:17726-1770134400-1770138000@barossanorth-parish.lutheran.org.au
SUMMARY:Confirmation Class
DESCRIPTION:In the Holy Trinity Church Hall
URL:https://barossanorth-parish.lutheran.org.au/event/confirmation-class-11/2026-02-03/
LOCATION:Holy Trinity Lutheran Church\, Nuriootpa\, 6 Penrice Road\, Nuriootpa\, SA\, 5355\, Australia
CATEGORIES:Bible study,Youth
GEO:-34.4719455;139.0096044
X-APPLE-STRUCTURED-LOCATION;VALUE=URI;X-ADDRESS=Holy Trinity Lutheran Church Nuriootpa 6 Penrice Road Nuriootpa SA 5355 Australia;X-APPLE-RADIUS=500;X-TITLE=6 Penrice Road:geo:139.0096044,-34.4719455
END:VEVENT
END:VCALENDAR