BEGIN:VCALENDAR
VERSION:2.0
PRODID:-//Barossa North Parish SA - ECPv6.15.12.2//NONSGML v1.0//EN
CALSCALE:GREGORIAN
METHOD:PUBLISH
X-WR-CALNAME:Barossa North Parish SA
X-ORIGINAL-URL:https://barossanorth-parish.lutheran.org.au
X-WR-CALDESC:Events for Barossa North Parish SA
REFRESH-INTERVAL;VALUE=DURATION:PT1H
X-Robots-Tag:noindex
X-PUBLISHED-TTL:PT1H
BEGIN:VTIMEZONE
TZID:Australia/Adelaide
BEGIN:STANDARD
TZOFFSETFROM:+1030
TZOFFSETTO:+0930
TZNAME:ACST
DTSTART:20220402T163000
END:STANDARD
BEGIN:DAYLIGHT
TZOFFSETFROM:+0930
TZOFFSETTO:+1030
TZNAME:ACDT
DTSTART:20221001T163000
END:DAYLIGHT
BEGIN:STANDARD
TZOFFSETFROM:+1030
TZOFFSETTO:+0930
TZNAME:ACST
DTSTART:20230401T163000
END:STANDARD
BEGIN:DAYLIGHT
TZOFFSETFROM:+0930
TZOFFSETTO:+1030
TZNAME:ACDT
DTSTART:20230930T163000
END:DAYLIGHT
BEGIN:STANDARD
TZOFFSETFROM:+1030
TZOFFSETTO:+0930
TZNAME:ACST
DTSTART:20240406T163000
END:STANDARD
BEGIN:DAYLIGHT
TZOFFSETFROM:+0930
TZOFFSETTO:+1030
TZNAME:ACDT
DTSTART:20241005T163000
END:DAYLIGHT
END:VTIMEZONE
BEGIN:VEVENT
DTSTART;TZID=Australia/Adelaide:20231212T134500
DTEND;TZID=Australia/Adelaide:20231212T144500
DTSTAMP:20260425T204612
CREATED:20231102T054533Z
LAST-MODIFIED:20231102T054533Z
UID:14891-1702388700-1702392300@barossanorth-parish.lutheran.org.au
SUMMARY:Bible Study
DESCRIPTION:In the Meeting Room @ Immanuel LP
URL:https://barossanorth-parish.lutheran.org.au/event/bible-study-5/2023-12-12/
LOCATION:Parish Office\, 15 Immanuel Way\, Light Pass\, SA\, 5355\, Australia
CATEGORIES:Bible study
GEO:-34.4712692;139.0260373
X-APPLE-STRUCTURED-LOCATION;VALUE=URI;X-ADDRESS=Parish Office 15 Immanuel Way Light Pass SA 5355 Australia;X-APPLE-RADIUS=500;X-TITLE=15 Immanuel Way:geo:139.0260373,-34.4712692
END:VEVENT
BEGIN:VEVENT
DTSTART;TZID=Australia/Adelaide:20231205T134500
DTEND;TZID=Australia/Adelaide:20231205T144500
DTSTAMP:20260425T204612
CREATED:20231102T054533Z
LAST-MODIFIED:20231102T054533Z
UID:14890-1701783900-1701787500@barossanorth-parish.lutheran.org.au
SUMMARY:Bible Study
DESCRIPTION:In the Meeting Room @ Immanuel LP
URL:https://barossanorth-parish.lutheran.org.au/event/bible-study-5/2023-12-05/
LOCATION:Parish Office\, 15 Immanuel Way\, Light Pass\, SA\, 5355\, Australia
CATEGORIES:Bible study
GEO:-34.4712692;139.0260373
X-APPLE-STRUCTURED-LOCATION;VALUE=URI;X-ADDRESS=Parish Office 15 Immanuel Way Light Pass SA 5355 Australia;X-APPLE-RADIUS=500;X-TITLE=15 Immanuel Way:geo:139.0260373,-34.4712692
END:VEVENT
BEGIN:VEVENT
DTSTART;TZID=Australia/Adelaide:20231128T134500
DTEND;TZID=Australia/Adelaide:20231128T144500
DTSTAMP:20260425T204612
CREATED:20231102T054533Z
LAST-MODIFIED:20231102T054533Z
UID:14889-1701179100-1701182700@barossanorth-parish.lutheran.org.au
SUMMARY:Bible Study
DESCRIPTION:In the Meeting Room @ Immanuel LP
URL:https://barossanorth-parish.lutheran.org.au/event/bible-study-5/2023-11-28/
LOCATION:Parish Office\, 15 Immanuel Way\, Light Pass\, SA\, 5355\, Australia
CATEGORIES:Bible study
GEO:-34.4712692;139.0260373
X-APPLE-STRUCTURED-LOCATION;VALUE=URI;X-ADDRESS=Parish Office 15 Immanuel Way Light Pass SA 5355 Australia;X-APPLE-RADIUS=500;X-TITLE=15 Immanuel Way:geo:139.0260373,-34.4712692
END:VEVENT
BEGIN:VEVENT
DTSTART;TZID=Australia/Adelaide:20231121T134500
DTEND;TZID=Australia/Adelaide:20231121T144500
DTSTAMP:20260425T204612
CREATED:20231102T054533Z
LAST-MODIFIED:20231102T054533Z
UID:14888-1700574300-1700577900@barossanorth-parish.lutheran.org.au
SUMMARY:Bible Study
DESCRIPTION:In the Meeting Room @ Immanuel LP
URL:https://barossanorth-parish.lutheran.org.au/event/bible-study-5/2023-11-21/
LOCATION:Parish Office\, 15 Immanuel Way\, Light Pass\, SA\, 5355\, Australia
CATEGORIES:Bible study
GEO:-34.4712692;139.0260373
X-APPLE-STRUCTURED-LOCATION;VALUE=URI;X-ADDRESS=Parish Office 15 Immanuel Way Light Pass SA 5355 Australia;X-APPLE-RADIUS=500;X-TITLE=15 Immanuel Way:geo:139.0260373,-34.4712692
END:VEVENT
BEGIN:VEVENT
DTSTART;TZID=Australia/Adelaide:20231114T134500
DTEND;TZID=Australia/Adelaide:20231114T144500
DTSTAMP:20260425T204612
CREATED:20231102T054533Z
LAST-MODIFIED:20231102T054533Z
UID:14887-1699969500-1699973100@barossanorth-parish.lutheran.org.au
SUMMARY:Bible Study
DESCRIPTION:In the Meeting Room @ Immanuel LP
URL:https://barossanorth-parish.lutheran.org.au/event/bible-study-5/2023-11-14/
LOCATION:Parish Office\, 15 Immanuel Way\, Light Pass\, SA\, 5355\, Australia
CATEGORIES:Bible study
GEO:-34.4712692;139.0260373
X-APPLE-STRUCTURED-LOCATION;VALUE=URI;X-ADDRESS=Parish Office 15 Immanuel Way Light Pass SA 5355 Australia;X-APPLE-RADIUS=500;X-TITLE=15 Immanuel Way:geo:139.0260373,-34.4712692
END:VEVENT
BEGIN:VEVENT
DTSTART;TZID=Australia/Adelaide:20231107T134500
DTEND;TZID=Australia/Adelaide:20231107T144500
DTSTAMP:20260425T204612
CREATED:20231102T054533Z
LAST-MODIFIED:20231102T054533Z
UID:14885-1699364700-1699368300@barossanorth-parish.lutheran.org.au
SUMMARY:Bible Study
DESCRIPTION:In the Meeting Room @ Immanuel LP
URL:https://barossanorth-parish.lutheran.org.au/event/bible-study-5/2023-11-07/
LOCATION:Parish Office\, 15 Immanuel Way\, Light Pass\, SA\, 5355\, Australia
CATEGORIES:Bible study
GEO:-34.4712692;139.0260373
X-APPLE-STRUCTURED-LOCATION;VALUE=URI;X-ADDRESS=Parish Office 15 Immanuel Way Light Pass SA 5355 Australia;X-APPLE-RADIUS=500;X-TITLE=15 Immanuel Way:geo:139.0260373,-34.4712692
END:VEVENT
END:VCALENDAR