BEGIN:VCALENDAR
VERSION:2.0
PRODID:-//Barossa North Parish SA - ECPv6.15.12.2//NONSGML v1.0//EN
CALSCALE:GREGORIAN
METHOD:PUBLISH
X-WR-CALNAME:Barossa North Parish SA
X-ORIGINAL-URL:https://barossanorth-parish.lutheran.org.au
X-WR-CALDESC:Events for Barossa North Parish SA
REFRESH-INTERVAL;VALUE=DURATION:PT1H
X-Robots-Tag:noindex
X-PUBLISHED-TTL:PT1H
BEGIN:VTIMEZONE
TZID:Australia/Adelaide
BEGIN:STANDARD
TZOFFSETFROM:+1030
TZOFFSETTO:+0930
TZNAME:ACST
DTSTART:20240406T163000
END:STANDARD
BEGIN:DAYLIGHT
TZOFFSETFROM:+0930
TZOFFSETTO:+1030
TZNAME:ACDT
DTSTART:20241005T163000
END:DAYLIGHT
BEGIN:STANDARD
TZOFFSETFROM:+1030
TZOFFSETTO:+0930
TZNAME:ACST
DTSTART:20250405T163000
END:STANDARD
BEGIN:DAYLIGHT
TZOFFSETFROM:+0930
TZOFFSETTO:+1030
TZNAME:ACDT
DTSTART:20251004T163000
END:DAYLIGHT
BEGIN:STANDARD
TZOFFSETFROM:+1030
TZOFFSETTO:+0930
TZNAME:ACST
DTSTART:20260404T163000
END:STANDARD
BEGIN:DAYLIGHT
TZOFFSETFROM:+0930
TZOFFSETTO:+1030
TZNAME:ACDT
DTSTART:20261003T163000
END:DAYLIGHT
END:VTIMEZONE
BEGIN:VEVENT
DTSTART;TZID=Australia/Adelaide:20250916T134500
DTEND;TZID=Australia/Adelaide:20250916T144500
DTSTAMP:20260425T114235
CREATED:20250703T055949Z
LAST-MODIFIED:20250703T055949Z
UID:17000-1758030300-1758033900@barossanorth-parish.lutheran.org.au
SUMMARY:Bible Study
DESCRIPTION:In the Meeting Room\, Immanuel LP
URL:https://barossanorth-parish.lutheran.org.au/event/bible-study-12/2025-09-16/
LOCATION:Parish Office\, 15 Immanuel Way\, Light Pass\, SA\, 5355\, Australia
CATEGORIES:Bible study
GEO:-34.4712692;139.0260373
X-APPLE-STRUCTURED-LOCATION;VALUE=URI;X-ADDRESS=Parish Office 15 Immanuel Way Light Pass SA 5355 Australia;X-APPLE-RADIUS=500;X-TITLE=15 Immanuel Way:geo:139.0260373,-34.4712692
END:VEVENT
BEGIN:VEVENT
DTSTART;TZID=Australia/Adelaide:20250909T134500
DTEND;TZID=Australia/Adelaide:20250909T144500
DTSTAMP:20260425T114235
CREATED:20250703T055949Z
LAST-MODIFIED:20250703T055949Z
UID:16999-1757425500-1757429100@barossanorth-parish.lutheran.org.au
SUMMARY:Bible Study
DESCRIPTION:In the Meeting Room\, Immanuel LP
URL:https://barossanorth-parish.lutheran.org.au/event/bible-study-12/2025-09-09/
LOCATION:Parish Office\, 15 Immanuel Way\, Light Pass\, SA\, 5355\, Australia
CATEGORIES:Bible study
GEO:-34.4712692;139.0260373
X-APPLE-STRUCTURED-LOCATION;VALUE=URI;X-ADDRESS=Parish Office 15 Immanuel Way Light Pass SA 5355 Australia;X-APPLE-RADIUS=500;X-TITLE=15 Immanuel Way:geo:139.0260373,-34.4712692
END:VEVENT
BEGIN:VEVENT
DTSTART;TZID=Australia/Adelaide:20250902T134500
DTEND;TZID=Australia/Adelaide:20250902T144500
DTSTAMP:20260425T114235
CREATED:20250703T055949Z
LAST-MODIFIED:20250703T055949Z
UID:16998-1756820700-1756824300@barossanorth-parish.lutheran.org.au
SUMMARY:Bible Study
DESCRIPTION:In the Meeting Room\, Immanuel LP
URL:https://barossanorth-parish.lutheran.org.au/event/bible-study-12/2025-09-02/
LOCATION:Parish Office\, 15 Immanuel Way\, Light Pass\, SA\, 5355\, Australia
CATEGORIES:Bible study
GEO:-34.4712692;139.0260373
X-APPLE-STRUCTURED-LOCATION;VALUE=URI;X-ADDRESS=Parish Office 15 Immanuel Way Light Pass SA 5355 Australia;X-APPLE-RADIUS=500;X-TITLE=15 Immanuel Way:geo:139.0260373,-34.4712692
END:VEVENT
BEGIN:VEVENT
DTSTART;TZID=Australia/Adelaide:20250826T134500
DTEND;TZID=Australia/Adelaide:20250826T144500
DTSTAMP:20260425T114235
CREATED:20250703T055949Z
LAST-MODIFIED:20250703T055949Z
UID:16997-1756215900-1756219500@barossanorth-parish.lutheran.org.au
SUMMARY:Bible Study
DESCRIPTION:In the Meeting Room\, Immanuel LP
URL:https://barossanorth-parish.lutheran.org.au/event/bible-study-12/2025-08-26/
LOCATION:Parish Office\, 15 Immanuel Way\, Light Pass\, SA\, 5355\, Australia
CATEGORIES:Bible study
GEO:-34.4712692;139.0260373
X-APPLE-STRUCTURED-LOCATION;VALUE=URI;X-ADDRESS=Parish Office 15 Immanuel Way Light Pass SA 5355 Australia;X-APPLE-RADIUS=500;X-TITLE=15 Immanuel Way:geo:139.0260373,-34.4712692
END:VEVENT
BEGIN:VEVENT
DTSTART;TZID=Australia/Adelaide:20250819T134500
DTEND;TZID=Australia/Adelaide:20250819T144500
DTSTAMP:20260425T114235
CREATED:20250703T055949Z
LAST-MODIFIED:20250703T055949Z
UID:16996-1755611100-1755614700@barossanorth-parish.lutheran.org.au
SUMMARY:Bible Study
DESCRIPTION:In the Meeting Room\, Immanuel LP
URL:https://barossanorth-parish.lutheran.org.au/event/bible-study-12/2025-08-19/
LOCATION:Parish Office\, 15 Immanuel Way\, Light Pass\, SA\, 5355\, Australia
CATEGORIES:Bible study
GEO:-34.4712692;139.0260373
X-APPLE-STRUCTURED-LOCATION;VALUE=URI;X-ADDRESS=Parish Office 15 Immanuel Way Light Pass SA 5355 Australia;X-APPLE-RADIUS=500;X-TITLE=15 Immanuel Way:geo:139.0260373,-34.4712692
END:VEVENT
BEGIN:VEVENT
DTSTART;TZID=Australia/Adelaide:20250812T134500
DTEND;TZID=Australia/Adelaide:20250812T144500
DTSTAMP:20260425T114235
CREATED:20250703T055949Z
LAST-MODIFIED:20250703T055949Z
UID:16995-1755006300-1755009900@barossanorth-parish.lutheran.org.au
SUMMARY:Bible Study
DESCRIPTION:In the Meeting Room\, Immanuel LP
URL:https://barossanorth-parish.lutheran.org.au/event/bible-study-12/2025-08-12/
LOCATION:Parish Office\, 15 Immanuel Way\, Light Pass\, SA\, 5355\, Australia
CATEGORIES:Bible study
GEO:-34.4712692;139.0260373
X-APPLE-STRUCTURED-LOCATION;VALUE=URI;X-ADDRESS=Parish Office 15 Immanuel Way Light Pass SA 5355 Australia;X-APPLE-RADIUS=500;X-TITLE=15 Immanuel Way:geo:139.0260373,-34.4712692
END:VEVENT
BEGIN:VEVENT
DTSTART;TZID=Australia/Adelaide:20250805T134500
DTEND;TZID=Australia/Adelaide:20250805T144500
DTSTAMP:20260425T114235
CREATED:20250703T055949Z
LAST-MODIFIED:20250703T055949Z
UID:16994-1754401500-1754405100@barossanorth-parish.lutheran.org.au
SUMMARY:Bible Study
DESCRIPTION:In the Meeting Room\, Immanuel LP
URL:https://barossanorth-parish.lutheran.org.au/event/bible-study-12/2025-08-05/
LOCATION:Parish Office\, 15 Immanuel Way\, Light Pass\, SA\, 5355\, Australia
CATEGORIES:Bible study
GEO:-34.4712692;139.0260373
X-APPLE-STRUCTURED-LOCATION;VALUE=URI;X-ADDRESS=Parish Office 15 Immanuel Way Light Pass SA 5355 Australia;X-APPLE-RADIUS=500;X-TITLE=15 Immanuel Way:geo:139.0260373,-34.4712692
END:VEVENT
BEGIN:VEVENT
DTSTART;TZID=Australia/Adelaide:20250729T134500
DTEND;TZID=Australia/Adelaide:20250729T144500
DTSTAMP:20260425T114235
CREATED:20250703T055949Z
LAST-MODIFIED:20250703T055949Z
UID:16993-1753796700-1753800300@barossanorth-parish.lutheran.org.au
SUMMARY:Bible Study
DESCRIPTION:In the Meeting Room\, Immanuel LP
URL:https://barossanorth-parish.lutheran.org.au/event/bible-study-12/2025-07-29/
LOCATION:Parish Office\, 15 Immanuel Way\, Light Pass\, SA\, 5355\, Australia
CATEGORIES:Bible study
GEO:-34.4712692;139.0260373
X-APPLE-STRUCTURED-LOCATION;VALUE=URI;X-ADDRESS=Parish Office 15 Immanuel Way Light Pass SA 5355 Australia;X-APPLE-RADIUS=500;X-TITLE=15 Immanuel Way:geo:139.0260373,-34.4712692
END:VEVENT
BEGIN:VEVENT
DTSTART;TZID=Australia/Adelaide:20250722T134500
DTEND;TZID=Australia/Adelaide:20250722T144500
DTSTAMP:20260425T114235
CREATED:20250703T055949Z
LAST-MODIFIED:20250703T055949Z
UID:16992-1753191900-1753195500@barossanorth-parish.lutheran.org.au
SUMMARY:Bible Study
DESCRIPTION:In the Meeting Room\, Immanuel LP
URL:https://barossanorth-parish.lutheran.org.au/event/bible-study-12/2025-07-22/
LOCATION:Parish Office\, 15 Immanuel Way\, Light Pass\, SA\, 5355\, Australia
CATEGORIES:Bible study
GEO:-34.4712692;139.0260373
X-APPLE-STRUCTURED-LOCATION;VALUE=URI;X-ADDRESS=Parish Office 15 Immanuel Way Light Pass SA 5355 Australia;X-APPLE-RADIUS=500;X-TITLE=15 Immanuel Way:geo:139.0260373,-34.4712692
END:VEVENT
BEGIN:VEVENT
DTSTART;TZID=Australia/Adelaide:20250715T134500
DTEND;TZID=Australia/Adelaide:20250715T144500
DTSTAMP:20260425T114235
CREATED:20250703T055949Z
LAST-MODIFIED:20250703T055949Z
UID:16991-1752587100-1752590700@barossanorth-parish.lutheran.org.au
SUMMARY:Bible Study
DESCRIPTION:In the Meeting Room\, Immanuel LP
URL:https://barossanorth-parish.lutheran.org.au/event/bible-study-12/2025-07-15/
LOCATION:Parish Office\, 15 Immanuel Way\, Light Pass\, SA\, 5355\, Australia
CATEGORIES:Bible study
GEO:-34.4712692;139.0260373
X-APPLE-STRUCTURED-LOCATION;VALUE=URI;X-ADDRESS=Parish Office 15 Immanuel Way Light Pass SA 5355 Australia;X-APPLE-RADIUS=500;X-TITLE=15 Immanuel Way:geo:139.0260373,-34.4712692
END:VEVENT
END:VCALENDAR