BEGIN:VCALENDAR
VERSION:2.0
PRODID:-//Barossa North Parish SA - ECPv6.15.12.2//NONSGML v1.0//EN
CALSCALE:GREGORIAN
METHOD:PUBLISH
X-WR-CALNAME:Barossa North Parish SA
X-ORIGINAL-URL:https://barossanorth-parish.lutheran.org.au
X-WR-CALDESC:Events for Barossa North Parish SA
REFRESH-INTERVAL;VALUE=DURATION:PT1H
X-Robots-Tag:noindex
X-PUBLISHED-TTL:PT1H
BEGIN:VTIMEZONE
TZID:Australia/Adelaide
BEGIN:STANDARD
TZOFFSETFROM:+1030
TZOFFSETTO:+0930
TZNAME:ACST
DTSTART:20240406T163000
END:STANDARD
BEGIN:DAYLIGHT
TZOFFSETFROM:+0930
TZOFFSETTO:+1030
TZNAME:ACDT
DTSTART:20241005T163000
END:DAYLIGHT
BEGIN:STANDARD
TZOFFSETFROM:+1030
TZOFFSETTO:+0930
TZNAME:ACST
DTSTART:20250405T163000
END:STANDARD
BEGIN:DAYLIGHT
TZOFFSETFROM:+0930
TZOFFSETTO:+1030
TZNAME:ACDT
DTSTART:20251004T163000
END:DAYLIGHT
BEGIN:STANDARD
TZOFFSETFROM:+1030
TZOFFSETTO:+0930
TZNAME:ACST
DTSTART:20260404T163000
END:STANDARD
BEGIN:DAYLIGHT
TZOFFSETFROM:+0930
TZOFFSETTO:+1030
TZNAME:ACDT
DTSTART:20261003T163000
END:DAYLIGHT
END:VTIMEZONE
BEGIN:VEVENT
DTSTART;TZID=Australia/Adelaide:20250701T134500
DTEND;TZID=Australia/Adelaide:20250701T144500
DTSTAMP:20260425T132337
CREATED:20250424T052951Z
LAST-MODIFIED:20250529T053612Z
UID:16790-1751377500-1751381100@barossanorth-parish.lutheran.org.au
SUMMARY:Bible Study
DESCRIPTION:In the Meeting Room at Immanuel LP
URL:https://barossanorth-parish.lutheran.org.au/event/bible-study-11/2025-07-01/
LOCATION:Parish Office\, 15 Immanuel Way\, Light Pass\, SA\, 5355\, Australia
CATEGORIES:Bible study
GEO:-34.4712692;139.0260373
X-APPLE-STRUCTURED-LOCATION;VALUE=URI;X-ADDRESS=Parish Office 15 Immanuel Way Light Pass SA 5355 Australia;X-APPLE-RADIUS=500;X-TITLE=15 Immanuel Way:geo:139.0260373,-34.4712692
END:VEVENT
BEGIN:VEVENT
DTSTART;TZID=Australia/Adelaide:20250610T134500
DTEND;TZID=Australia/Adelaide:20250610T144500
DTSTAMP:20260425T132337
CREATED:20250424T052951Z
LAST-MODIFIED:20250529T053611Z
UID:16787-1749563100-1749566700@barossanorth-parish.lutheran.org.au
SUMMARY:Bible Study
DESCRIPTION:In the Meeting Room at Immanuel LP
URL:https://barossanorth-parish.lutheran.org.au/event/bible-study-11/2025-06-10/
LOCATION:Parish Office\, 15 Immanuel Way\, Light Pass\, SA\, 5355\, Australia
CATEGORIES:Bible study
GEO:-34.4712692;139.0260373
X-APPLE-STRUCTURED-LOCATION;VALUE=URI;X-ADDRESS=Parish Office 15 Immanuel Way Light Pass SA 5355 Australia;X-APPLE-RADIUS=500;X-TITLE=15 Immanuel Way:geo:139.0260373,-34.4712692
END:VEVENT
BEGIN:VEVENT
DTSTART;TZID=Australia/Adelaide:20250603T134500
DTEND;TZID=Australia/Adelaide:20250603T144500
DTSTAMP:20260425T132337
CREATED:20250424T052951Z
LAST-MODIFIED:20250529T053611Z
UID:16786-1748958300-1748961900@barossanorth-parish.lutheran.org.au
SUMMARY:Bible Study
DESCRIPTION:In the Meeting Room at Immanuel LP
URL:https://barossanorth-parish.lutheran.org.au/event/bible-study-11/2025-06-03/
LOCATION:Parish Office\, 15 Immanuel Way\, Light Pass\, SA\, 5355\, Australia
CATEGORIES:Bible study
GEO:-34.4712692;139.0260373
X-APPLE-STRUCTURED-LOCATION;VALUE=URI;X-ADDRESS=Parish Office 15 Immanuel Way Light Pass SA 5355 Australia;X-APPLE-RADIUS=500;X-TITLE=15 Immanuel Way:geo:139.0260373,-34.4712692
END:VEVENT
BEGIN:VEVENT
DTSTART;TZID=Australia/Adelaide:20250527T134500
DTEND;TZID=Australia/Adelaide:20250527T144500
DTSTAMP:20260425T132337
CREATED:20250424T052951Z
LAST-MODIFIED:20250529T053611Z
UID:16785-1748353500-1748357100@barossanorth-parish.lutheran.org.au
SUMMARY:Bible Study
DESCRIPTION:In the Meeting Room at Immanuel LP
URL:https://barossanorth-parish.lutheran.org.au/event/bible-study-11/2025-05-27/
LOCATION:Parish Office\, 15 Immanuel Way\, Light Pass\, SA\, 5355\, Australia
CATEGORIES:Bible study
GEO:-34.4712692;139.0260373
X-APPLE-STRUCTURED-LOCATION;VALUE=URI;X-ADDRESS=Parish Office 15 Immanuel Way Light Pass SA 5355 Australia;X-APPLE-RADIUS=500;X-TITLE=15 Immanuel Way:geo:139.0260373,-34.4712692
END:VEVENT
BEGIN:VEVENT
DTSTART;TZID=Australia/Adelaide:20250520T134500
DTEND;TZID=Australia/Adelaide:20250520T144500
DTSTAMP:20260425T132337
CREATED:20250424T052951Z
LAST-MODIFIED:20250529T053611Z
UID:16784-1747748700-1747752300@barossanorth-parish.lutheran.org.au
SUMMARY:Bible Study
DESCRIPTION:In the Meeting Room at Immanuel LP
URL:https://barossanorth-parish.lutheran.org.au/event/bible-study-11/2025-05-20/
LOCATION:Parish Office\, 15 Immanuel Way\, Light Pass\, SA\, 5355\, Australia
CATEGORIES:Bible study
GEO:-34.4712692;139.0260373
X-APPLE-STRUCTURED-LOCATION;VALUE=URI;X-ADDRESS=Parish Office 15 Immanuel Way Light Pass SA 5355 Australia;X-APPLE-RADIUS=500;X-TITLE=15 Immanuel Way:geo:139.0260373,-34.4712692
END:VEVENT
BEGIN:VEVENT
DTSTART;TZID=Australia/Adelaide:20250513T134500
DTEND;TZID=Australia/Adelaide:20250513T144500
DTSTAMP:20260425T132337
CREATED:20250424T052951Z
LAST-MODIFIED:20250529T053611Z
UID:16783-1747143900-1747147500@barossanorth-parish.lutheran.org.au
SUMMARY:Bible Study
DESCRIPTION:In the Meeting Room at Immanuel LP
URL:https://barossanorth-parish.lutheran.org.au/event/bible-study-11/2025-05-13/
LOCATION:Parish Office\, 15 Immanuel Way\, Light Pass\, SA\, 5355\, Australia
CATEGORIES:Bible study
GEO:-34.4712692;139.0260373
X-APPLE-STRUCTURED-LOCATION;VALUE=URI;X-ADDRESS=Parish Office 15 Immanuel Way Light Pass SA 5355 Australia;X-APPLE-RADIUS=500;X-TITLE=15 Immanuel Way:geo:139.0260373,-34.4712692
END:VEVENT
BEGIN:VEVENT
DTSTART;TZID=Australia/Adelaide:20250506T134500
DTEND;TZID=Australia/Adelaide:20250506T144500
DTSTAMP:20260425T132337
CREATED:20250424T052951Z
LAST-MODIFIED:20250529T053611Z
UID:16782-1746539100-1746542700@barossanorth-parish.lutheran.org.au
SUMMARY:Bible Study
DESCRIPTION:In the Meeting Room at Immanuel LP
URL:https://barossanorth-parish.lutheran.org.au/event/bible-study-11/2025-05-06/
LOCATION:Parish Office\, 15 Immanuel Way\, Light Pass\, SA\, 5355\, Australia
CATEGORIES:Bible study
GEO:-34.4712692;139.0260373
X-APPLE-STRUCTURED-LOCATION;VALUE=URI;X-ADDRESS=Parish Office 15 Immanuel Way Light Pass SA 5355 Australia;X-APPLE-RADIUS=500;X-TITLE=15 Immanuel Way:geo:139.0260373,-34.4712692
END:VEVENT
BEGIN:VEVENT
DTSTART;TZID=Australia/Adelaide:20250429T134500
DTEND;TZID=Australia/Adelaide:20250429T144500
DTSTAMP:20260425T132337
CREATED:20250424T052951Z
LAST-MODIFIED:20250529T053611Z
UID:16781-1745934300-1745937900@barossanorth-parish.lutheran.org.au
SUMMARY:Bible Study
DESCRIPTION:In the Meeting Room at Immanuel LP
URL:https://barossanorth-parish.lutheran.org.au/event/bible-study-11/2025-04-29/
LOCATION:Parish Office\, 15 Immanuel Way\, Light Pass\, SA\, 5355\, Australia
CATEGORIES:Bible study
GEO:-34.4712692;139.0260373
X-APPLE-STRUCTURED-LOCATION;VALUE=URI;X-ADDRESS=Parish Office 15 Immanuel Way Light Pass SA 5355 Australia;X-APPLE-RADIUS=500;X-TITLE=15 Immanuel Way:geo:139.0260373,-34.4712692
END:VEVENT
END:VCALENDAR